BEGIN:VCALENDAR
VERSION:2.0
PRODID:-//wp-events-plugin.com//7.2.3.1//EN
TZID:Europe/London
X-WR-TIMEZONE:Europe/London
BEGIN:VEVENT
UID:3182@larevistadelapalma.com
DTSTART:20240815T110500Z
DTEND:20240815T224500Z
DTSTAMP:20240812T224859Z
URL:https://www.larevistadelapalma.com/events/fiesta-de-la-morena-tazacort
 e/
SUMMARY:Fiesta de La Morena\, Tazacorte
DESCRIPTION:Una año más vuelve esta celebración junto al mar\, donde las
  orquestas\, la música en vivo y los DJ animan la jornada sin parar. La p
 rotagonista de la fiesta\, la Morena\, que baila al son de la música ent
 re todos los asistentes. Es una fiesta del agua\, y los asistentes se moja
 n sin cesar con chorros y mangueras.\n\nNació como una pequeña fiesta pl
 ayera para homenajear a a las barqueras del municipio y con los años ha i
 do incrementando el número de asistentes.\n\nAmenizarán el día:\n\n 	Lu
 crecia\n 	Grupo Libertad\n 	Silvia Reyes\n 	Grupo Arena\n 	Grupo Leyenda J
 oven\n 	Kubacanashé\n\nEsta prohibido el acceso a la playa con vasos\, bo
 tellas\, o envases de cristal. Tampoco se puede acceder con mochilas o obj
 etos que\, en el suelo\, puedan propiciar caídas.
ATTACH;FMTTYPE=image/jpeg:https://www.larevistadelapalma.com/wp-content/up
 loads/2024/08/Fiesta-de-la-Morena-24.jpg
CATEGORIES:Fiestas populares,Otras propuestas
LOCATION:Paseo del Puerto de Tazacorte\, playa tazacorte\, Tazacorte\, 3877
 0\, España
GEO:28.650997;-17.946173
X-APPLE-STRUCTURED-LOCATION;VALUE=URI;X-ADDRESS=playa tazacorte\, Tazacorte
 \, 38770\, España;X-APPLE-RADIUS=100;X-TITLE=Paseo del Puerto de Tazacort
 e:geo:28.650997,-17.946173
END:VEVENT
END:VCALENDARBEGIN:VCALENDAR
VERSION:2.0
PRODID:-//wp-events-plugin.com//7.2.3.1//EN
TZID:Europe/London
X-WR-TIMEZONE:Europe/London
BEGIN:VEVENT
UID:3182@larevistadelapalma.com
DTSTART:20240815T110500Z
DTEND:20240815T224500Z
DTSTAMP:20240812T224859Z
URL:https://www.larevistadelapalma.com/events/fiesta-de-la-morena-tazacort
 e/
SUMMARY:Fiesta de La Morena\, Tazacorte
DESCRIPTION:Una año más vuelve esta celebración junto al mar\, donde las
  orquestas\, la música en vivo y los DJ animan la jornada sin parar. La p
 rotagonista de la fiesta\, la Morena\, que baila al son de la música ent
 re todos los asistentes. Es una fiesta del agua\, y los asistentes se moja
 n sin cesar con chorros y mangueras.\n\nNació como una pequeña fiesta pl
 ayera para homenajear a a las barqueras del municipio y con los años ha i
 do incrementando el número de asistentes.\n\nAmenizarán el día:\n\n 	Lu
 crecia\n 	Grupo Libertad\n 	Silvia Reyes\n 	Grupo Arena\n 	Grupo Leyenda J
 oven\n 	Kubacanashé\n\nEsta prohibido el acceso a la playa con vasos\, bo
 tellas\, o envases de cristal. Tampoco se puede acceder con mochilas o obj
 etos que\, en el suelo\, puedan propiciar caídas.
ATTACH;FMTTYPE=image/jpeg:https://www.larevistadelapalma.com/wp-content/up
 loads/2024/08/Fiesta-de-la-Morena-24.jpg
CATEGORIES:Fiestas populares,Otras propuestas
LOCATION:Paseo del Puerto de Tazacorte\, playa tazacorte\, Tazacorte\, 3877
 0\, España
GEO:28.650997;-17.946173
X-APPLE-STRUCTURED-LOCATION;VALUE=URI;X-ADDRESS=playa tazacorte\, Tazacorte
 \, 38770\, España;X-APPLE-RADIUS=100;X-TITLE=Paseo del Puerto de Tazacort
 e:geo:28.650997,-17.946173
END:VEVENT
END:VCALENDAR