BEGIN:VCALENDAR
VERSION:2.0
PRODID:-//wp-events-plugin.com//7.2.3.1//EN
TZID:Europe/London
X-WR-TIMEZONE:Europe/London
BEGIN:VEVENT
UID:3619@larevistadelapalma.com
DTSTART:20250302T110000Z
DTEND:20250302T220000Z
DTSTAMP:20250225T233531Z
URL:https://www.larevistadelapalma.com/events/fiesta-de-la-pamela-2025-los
 -cancajos/
SUMMARY:Fiesta de la Pamela 2025\, Los Cancajos
DESCRIPTION:Como cada año el municipio de Breña Baja se prepara para su y
 a tradicional Fiesta de la Pamela\, que se celebrará el próximo 2 de mar
 zo\, con premios y música en vivo.\n\nActuaciones:\n- La Parranda Sol y S
 ombra (12:30 horas)\n- Dj Tenax (13:30\, 16:30 y 19 hs)\n- Son de Ley (14.
 30 hs)\n- Grupo Aseres 17:30 hs.\n- Escuela de Calor (20 hs).\n\nEn todo e
 l horario de tarde\, el entorno contará con hinchables y talleres infanti
 les (de 14:00 a 19:00 horas)\n\nConcurso a la Mejor Pamela en las tres cat
 egorías en liza\, individual\, pareja y grupo. Para ello simplemente debe
 rán pasar por el Photocall habilitado junto a la Oficina de Turismo entre
  las 12:00 y las 18:00 horas y tomarse una foto para la organización. Los
  premios son:\n\n 	*Premio a la categoría individual:* Viaje desde La Pal
 ma a Tenerife o Gran Canaria (o desde Tenerife o Gran Canaria a La Palma e
 n caso de que el ganador sea de otra isla)  y 1 Vale de 100\,00€ para c
 onsumir en establecimientos socios de la Asociación de empresarios de Bre
 ña Baja. Además de un vale de 50 € por parte del CIT Tedote.\n 	*Premi
 o a la categoría parejas:* Estancia para 2 personas en el hotel H10 Tabur
 iente playa 2 noches en régimen de todo incluido (sujeto a disponibilidad
 ). Además de un vale de 100 € por parte del CIT Tedote.\n 	*Premio a la
  categoría Grupo:* Comida en el restaurante Todoque (máximo 10 personas)
  y 1 Vale de 150\,00€ para consumir en establecimientos socios de la Aso
 ciación de empresarios de Breña Baja. Además de un vale de 150 € por 
 parte del CIT Tedote.\n\nOrganiza Ayuntamiento de Breña Baja y con la col
 aboración del CIT Tedote\, Asociación de Empresarios “Breña Baja Empr
 ende”\, H10 Taburiente Playa\, Viajes Oasis\, Restaurante Todoque y Soca
 n Events.\n
ATTACH;FMTTYPE=image/jpeg:https://www.larevistadelapalma.com/wp-content/up
 loads/2025/02/Fiesta-de-la-pamela-B-Baja.jpg
CATEGORIES:Fiestas populares,Otras propuestas
LOCATION:Barrio- Los Cancajos\, Los Cancajos\, Breña Baja\, España
GEO:28.646962;-17.759167
X-APPLE-STRUCTURED-LOCATION;VALUE=URI;X-ADDRESS=Los Cancajos\, Breña Baja\
 , España;X-APPLE-RADIUS=100;X-TITLE=Barrio- Los Cancajos:geo:28.646962,-1
 7.759167
END:VEVENT
END:VCALENDARBEGIN:VCALENDAR
VERSION:2.0
PRODID:-//wp-events-plugin.com//7.2.3.1//EN
TZID:Europe/London
X-WR-TIMEZONE:Europe/London
BEGIN:VEVENT
UID:3619@larevistadelapalma.com
DTSTART:20250302T110000Z
DTEND:20250302T220000Z
DTSTAMP:20250225T233531Z
URL:https://www.larevistadelapalma.com/events/fiesta-de-la-pamela-2025-los
 -cancajos/
SUMMARY:Fiesta de la Pamela 2025\, Los Cancajos
DESCRIPTION:Como cada año el municipio de Breña Baja se prepara para su y
 a tradicional Fiesta de la Pamela\, que se celebrará el próximo 2 de mar
 zo\, con premios y música en vivo.\n\nActuaciones:\n- La Parranda Sol y S
 ombra (12:30 horas)\n- Dj Tenax (13:30\, 16:30 y 19 hs)\n- Son de Ley (14.
 30 hs)\n- Grupo Aseres 17:30 hs.\n- Escuela de Calor (20 hs).\n\nEn todo e
 l horario de tarde\, el entorno contará con hinchables y talleres infanti
 les (de 14:00 a 19:00 horas)\n\nConcurso a la Mejor Pamela en las tres cat
 egorías en liza\, individual\, pareja y grupo. Para ello simplemente debe
 rán pasar por el Photocall habilitado junto a la Oficina de Turismo entre
  las 12:00 y las 18:00 horas y tomarse una foto para la organización. Los
  premios son:\n\n 	*Premio a la categoría individual:* Viaje desde La Pal
 ma a Tenerife o Gran Canaria (o desde Tenerife o Gran Canaria a La Palma e
 n caso de que el ganador sea de otra isla)  y 1 Vale de 100\,00€ para c
 onsumir en establecimientos socios de la Asociación de empresarios de Bre
 ña Baja. Además de un vale de 50 € por parte del CIT Tedote.\n 	*Premi
 o a la categoría parejas:* Estancia para 2 personas en el hotel H10 Tabur
 iente playa 2 noches en régimen de todo incluido (sujeto a disponibilidad
 ). Además de un vale de 100 € por parte del CIT Tedote.\n 	*Premio a la
  categoría Grupo:* Comida en el restaurante Todoque (máximo 10 personas)
  y 1 Vale de 150\,00€ para consumir en establecimientos socios de la Aso
 ciación de empresarios de Breña Baja. Además de un vale de 150 € por 
 parte del CIT Tedote.\n\nOrganiza Ayuntamiento de Breña Baja y con la col
 aboración del CIT Tedote\, Asociación de Empresarios “Breña Baja Empr
 ende”\, H10 Taburiente Playa\, Viajes Oasis\, Restaurante Todoque y Soca
 n Events.\n
ATTACH;FMTTYPE=image/jpeg:https://www.larevistadelapalma.com/wp-content/up
 loads/2025/02/Fiesta-de-la-pamela-B-Baja.jpg
CATEGORIES:Fiestas populares,Otras propuestas
LOCATION:Barrio- Los Cancajos\, Los Cancajos\, Breña Baja\, España
GEO:28.646962;-17.759167
X-APPLE-STRUCTURED-LOCATION;VALUE=URI;X-ADDRESS=Los Cancajos\, Breña Baja\
 , España;X-APPLE-RADIUS=100;X-TITLE=Barrio- Los Cancajos:geo:28.646962,-1
 7.759167
END:VEVENT
END:VCALENDAR