BEGIN:VCALENDAR
VERSION:2.0
PRODID:-//wp-events-plugin.com//7.2.3.1//EN
TZID:Europe/London
X-WR-TIMEZONE:Europe/London
BEGIN:VEVENT
UID:3601@larevistadelapalma.com
DTSTART:20250222T180000Z
DTEND:20250222T225900Z
DTSTAMP:20250213T231157Z
URL:https://www.larevistadelapalma.com/events/fiesta-de-la-peluca-2025-en-
 el-paso/
SUMMARY:Fiesta de la Peluca 2025 en El Paso
DESCRIPTION:Con las actuaciones de Escuela de calor\, Maquinaria Band\, Tro
 picana's y los DJ Visac\, Indi y Renzzo El Selector.
ATTACH;FMTTYPE=image/jpeg:https://www.larevistadelapalma.com/wp-content/up
 loads/2025/02/Fiesta-la-peluca-el-paso.jpg
CATEGORIES:Fiestas populares,Otras propuestas
LOCATION:Municipio de El Paso\, El Paso\, La Palma \, El Paso\, 38750\, Esp
 aña
GEO:28.652378;-17.880396
X-APPLE-STRUCTURED-LOCATION;VALUE=URI;X-ADDRESS=El Paso\, La Palma \, El Pa
 so\, 38750\, España;X-APPLE-RADIUS=100;X-TITLE=Municipio de El Paso:geo:2
 8.652378,-17.880396
END:VEVENT
END:VCALENDARBEGIN:VCALENDAR
VERSION:2.0
PRODID:-//wp-events-plugin.com//7.2.3.1//EN
TZID:Europe/London
X-WR-TIMEZONE:Europe/London
BEGIN:VEVENT
UID:3601@larevistadelapalma.com
DTSTART:20250222T180000Z
DTEND:20250222T225900Z
DTSTAMP:20250213T231157Z
URL:https://www.larevistadelapalma.com/events/fiesta-de-la-peluca-2025-en-
 el-paso/
SUMMARY:Fiesta de la Peluca 2025 en El Paso
DESCRIPTION:Con las actuaciones de Escuela de calor\, Maquinaria Band\, Tro
 picana's y los DJ Visac\, Indi y Renzzo El Selector.
ATTACH;FMTTYPE=image/jpeg:https://www.larevistadelapalma.com/wp-content/up
 loads/2025/02/Fiesta-la-peluca-el-paso.jpg
CATEGORIES:Fiestas populares,Otras propuestas
LOCATION:Municipio de El Paso\, El Paso\, La Palma \, El Paso\, 38750\, Esp
 aña
GEO:28.652378;-17.880396
X-APPLE-STRUCTURED-LOCATION;VALUE=URI;X-ADDRESS=El Paso\, La Palma \, El Pa
 so\, 38750\, España;X-APPLE-RADIUS=100;X-TITLE=Municipio de El Paso:geo:2
 8.652378,-17.880396
END:VEVENT
END:VCALENDAR