BEGIN:VCALENDAR
VERSION:2.0
PRODID:-//wp-events-plugin.com//7.2.3.1//EN
TZID:Europe/London
X-WR-TIMEZONE:Europe/London
BEGIN:VEVENT
UID:3613@larevistadelapalma.com
DTSTART:20250228T130000Z
DTEND:20250228T224500Z
DTSTAMP:20250221T004237Z
URL:https://www.larevistadelapalma.com/events/fiesta-de-la-peluca-2025-san
 ta-cruz-de-la-palma/
SUMMARY:Fiesta de la Peluca 2025\, Santa Cruz de La Palma
DESCRIPTION:
ATTACH;FMTTYPE=image/jpeg:https://www.larevistadelapalma.com/wp-content/up
 loads/2025/02/Fiesta-Peluca-25-Santa-Cruz.jpg
CATEGORIES:Fiestas populares,Otras propuestas
LOCATION:Municipio de Santa Cruz de La Palma\, Santa Cruz de La Palma \, Sa
 nta Cruz de La Palma \, 38700\, España
GEO:28.688757;-17.765102
X-APPLE-STRUCTURED-LOCATION;VALUE=URI;X-ADDRESS=Santa Cruz de La Palma \, S
 anta Cruz de La Palma \, 38700\, España;X-APPLE-RADIUS=100;X-TITLE=Munici
 pio de Santa Cruz de La Palma:geo:28.688757,-17.765102
END:VEVENT
END:VCALENDARBEGIN:VCALENDAR
VERSION:2.0
PRODID:-//wp-events-plugin.com//7.2.3.1//EN
TZID:Europe/London
X-WR-TIMEZONE:Europe/London
BEGIN:VEVENT
UID:3613@larevistadelapalma.com
DTSTART:20250228T130000Z
DTEND:20250228T224500Z
DTSTAMP:20250221T004237Z
URL:https://www.larevistadelapalma.com/events/fiesta-de-la-peluca-2025-san
 ta-cruz-de-la-palma/
SUMMARY:Fiesta de la Peluca 2025\, Santa Cruz de La Palma
DESCRIPTION:
ATTACH;FMTTYPE=image/jpeg:https://www.larevistadelapalma.com/wp-content/up
 loads/2025/02/Fiesta-Peluca-25-Santa-Cruz.jpg
CATEGORIES:Fiestas populares,Otras propuestas
LOCATION:Municipio de Santa Cruz de La Palma\, Santa Cruz de La Palma \, Sa
 nta Cruz de La Palma \, 38700\, España
GEO:28.688757;-17.765102
X-APPLE-STRUCTURED-LOCATION;VALUE=URI;X-ADDRESS=Santa Cruz de La Palma \, S
 anta Cruz de La Palma \, 38700\, España;X-APPLE-RADIUS=100;X-TITLE=Munici
 pio de Santa Cruz de La Palma:geo:28.688757,-17.765102
END:VEVENT
END:VCALENDAR