BEGIN:VCALENDAR
VERSION:2.0
PRODID:-//wp-events-plugin.com//7.2.3.1//EN
TZID:Europe/London
X-WR-TIMEZONE:Europe/London
BEGIN:VEVENT
UID:2767@larevistadelapalma.com
DTSTART:20240209T130000Z
DTEND:20240209T225900Z
DTSTAMP:20240208T231910Z
URL:https://www.larevistadelapalma.com/events/fiesta-de-la-peluca-santa-cr
 uz-de-la-palma/
SUMMARY:Fiesta de la Peluca en Santa Cruz de La Palma
DESCRIPTION:Una de las citas imprescindibles del Carnaval de Santa Cruz de 
 La Palma\, que este año contará\, desde las 14:00 horas\, con la música
  de Fran Ramos\, Renzzo ‘El Selector’\, Kilian Viera\, Atlantis Band\,
  Orquesta Tropicana’s\, Orquesta ACuatro\, Grupo Libertad\, Dj Equis y D
 j Juana La Cubana.\nPROGRAMA DE CARNAVAL SANTA CRUZ DE LA PALMA 2024\n\n\n
 \nJUEVES 8 FEBRERO:\n17:30 h. Gran Coso del Carnaval Escolar. Desde la Pl
 aza de la Alameda\, seguirá por Anselmo Pérez de Brito\, Avenida El Puen
 te y Avenida Marítima. Terminarán con una Fiesta Infantil en el Recinto 
 Central del Carnaval con actuación de la Compañía KantyKomba.\nVIERNES 
 9 FEBRERO:\n10:00 h. Loca Carrera Solidaria\, en la Plaza de La Alameda\,
  en favor de la asociación KALEN (Asociación palmera por el trastorno de
 l espectro autista)\n11:00 h. Festival de Murgas del Colegio Santo Doming
 o de Guzmán en la Plaza de España.\n14:00 h. Fiesta de la Peluca en el 
 Recinto Central.\n15:00 h. Concurso de Coctelería en la Plaza dele Kiosc
 o Eliseo (Avenida El Puente) organizado por la Asociación de empresarios 
 Casco Histórico.\nSÁBADO 10 FEBRERO:\n11:30 h. Actividades infantiles en
  el Recinto del Carnaval.\n18:00 h. Fiesta del Carnaval. Recinto del Car
 naval.\n\n\n 	\n\n 	\n\n 	Festival DJ "La Palma Blue Experience": La Diabl
 a\, La Pantera\, J. Beren y Dj Conjurer. (Un evento perteneciente al Festi
 val La Palma Blue Experience que fue suspendido en diciembre)\n 	"Los 40 P
 OP"- Ver más &gt\;\n 	Orquesta Maquinaria Band\, Dj. X.\n\n\n\n\n\n18:30 
 h. Desfile de Embajadores partiendo desde la calle O'Daly hacia la Plaza d
 e La Alameda.\nDOMINGO 11 FEBRERO:\n11:00 h. Los Indianitos para introduci
 r a los más pequeños en la tradición de la fiesta palmera. En el Recint
 o Central.\n19:00 h. El Festival "Orillas del Son" celebra la música trad
 icional cubana con invitados especiales.\nLUNES 12 FEBRERO:\nA partir de l
 as 10:00h. Los Indianos&gt\;&gt\;\nMIÉRCOLES 13 FEBRERO:\n17:00 h. Hincha
 bles y talleres infantiles en el Recinto Central\n19:00 h. Pasacalles del 
 grupo Dixeland\n19:00 h. Show de payasos en el Recinto Central.\nJUEVES 15
  FEBRERO:\n17:00 h. Actividades con hinchables y talleres en el Recinto Ce
 ntral.\n19:00 h. La magia del Carnaval\, con la actuación de los magos El
  Creador de Sueños y Malcom\, en el Recinto Central.\nVIERNES 16 FEBRERO:
 \n17:00 h. Fiesta del antifaz en el Centro de Día (con la Orquesta Ritmo)
 \n19:00 h. Funeral de Doña Sardina desde la Plaza de la Alameda\, concluy
 endo en el Recinto Central del Carnaval. Con las actuaciones del Grupo Ase
 re\, Los Lolas\, Orquesta Tropicana y Dj’s\nSÁBADO 17 DE FEBRERO:\n12:0
 0h. Carnaval infantil\, con hinchables\, talleres y música. Recinto Centr
 al del Carnaval.\n18:00 h. Carnaval de Piñata\, con las actuaciones de Ni
  un pelo de tonto\, Parranda La Palma\, Orquesta Libertad\, Orquesta ACuat
 ro y Dj’s.\n18:00 h. Concurso de Disfraces “Binter”. Hasta las 20:00
  horas\, los participantes tendrán que pasar por el photocall instalado j
 unto al Recinto Central para hacerse una foto que les permitirá llevarse 
 los premios establecidos en las bases. Categorías: Individual\, parejas y
  grupo (hasta 6 miembros)\nDOMINGO 18 DE FEBRERO:\n16:00 h. Piñata Infant
 il. Recinto Central del Carnaval. Con concurso de disfraces (inscripciones
  una hora antes) y animación.\n18:30 h. Carnaval del Mayor con la actuaci
 ón de Arturo Castillo\, Manolo “El Charro” y Dúo Libertad. Recinto C
 entral del Carnaval.\n&nbsp\;\n\n\n\n&nbsp\;\n\n&nbsp\;
ATTACH;FMTTYPE=image/jpeg:https://www.larevistadelapalma.com/wp-content/up
 loads/2024/02/Fiesta-de-la-peluca-Santa-Cruz.jpg
CATEGORIES:Conciertos,Fiestas populares,Otras propuestas
LOCATION:Municipio de Santa Cruz de La Palma\, Santa Cruz de La Palma \, Sa
 nta Cruz de La Palma \, 38700\, España
GEO:28.688757;-17.765102
X-APPLE-STRUCTURED-LOCATION;VALUE=URI;X-ADDRESS=Santa Cruz de La Palma \, S
 anta Cruz de La Palma \, 38700\, España;X-APPLE-RADIUS=100;X-TITLE=Munici
 pio de Santa Cruz de La Palma:geo:28.688757,-17.765102
END:VEVENT
END:VCALENDARBEGIN:VCALENDAR
VERSION:2.0
PRODID:-//wp-events-plugin.com//7.2.3.1//EN
TZID:Europe/London
X-WR-TIMEZONE:Europe/London
BEGIN:VEVENT
UID:2767@larevistadelapalma.com
DTSTART:20240209T130000Z
DTEND:20240209T225900Z
DTSTAMP:20240208T231910Z
URL:https://www.larevistadelapalma.com/events/fiesta-de-la-peluca-santa-cr
 uz-de-la-palma/
SUMMARY:Fiesta de la Peluca en Santa Cruz de La Palma
DESCRIPTION:Una de las citas imprescindibles del Carnaval de Santa Cruz de 
 La Palma\, que este año contará\, desde las 14:00 horas\, con la música
  de Fran Ramos\, Renzzo ‘El Selector’\, Kilian Viera\, Atlantis Band\,
  Orquesta Tropicana’s\, Orquesta ACuatro\, Grupo Libertad\, Dj Equis y D
 j Juana La Cubana.\nPROGRAMA DE CARNAVAL SANTA CRUZ DE LA PALMA 2024\n\n\n
 \nJUEVES 8 FEBRERO:\n17:30 h. Gran Coso del Carnaval Escolar. Desde la Pl
 aza de la Alameda\, seguirá por Anselmo Pérez de Brito\, Avenida El Puen
 te y Avenida Marítima. Terminarán con una Fiesta Infantil en el Recinto 
 Central del Carnaval con actuación de la Compañía KantyKomba.\nVIERNES 
 9 FEBRERO:\n10:00 h. Loca Carrera Solidaria\, en la Plaza de La Alameda\,
  en favor de la asociación KALEN (Asociación palmera por el trastorno de
 l espectro autista)\n11:00 h. Festival de Murgas del Colegio Santo Doming
 o de Guzmán en la Plaza de España.\n14:00 h. Fiesta de la Peluca en el 
 Recinto Central.\n15:00 h. Concurso de Coctelería en la Plaza dele Kiosc
 o Eliseo (Avenida El Puente) organizado por la Asociación de empresarios 
 Casco Histórico.\nSÁBADO 10 FEBRERO:\n11:30 h. Actividades infantiles en
  el Recinto del Carnaval.\n18:00 h. Fiesta del Carnaval. Recinto del Car
 naval.\n\n\n 	\n\n 	\n\n 	Festival DJ "La Palma Blue Experience": La Diabl
 a\, La Pantera\, J. Beren y Dj Conjurer. (Un evento perteneciente al Festi
 val La Palma Blue Experience que fue suspendido en diciembre)\n 	"Los 40 P
 OP"- Ver más &gt\;\n 	Orquesta Maquinaria Band\, Dj. X.\n\n\n\n\n\n18:30 
 h. Desfile de Embajadores partiendo desde la calle O'Daly hacia la Plaza d
 e La Alameda.\nDOMINGO 11 FEBRERO:\n11:00 h. Los Indianitos para introduci
 r a los más pequeños en la tradición de la fiesta palmera. En el Recint
 o Central.\n19:00 h. El Festival "Orillas del Son" celebra la música trad
 icional cubana con invitados especiales.\nLUNES 12 FEBRERO:\nA partir de l
 as 10:00h. Los Indianos&gt\;&gt\;\nMIÉRCOLES 13 FEBRERO:\n17:00 h. Hincha
 bles y talleres infantiles en el Recinto Central\n19:00 h. Pasacalles del 
 grupo Dixeland\n19:00 h. Show de payasos en el Recinto Central.\nJUEVES 15
  FEBRERO:\n17:00 h. Actividades con hinchables y talleres en el Recinto Ce
 ntral.\n19:00 h. La magia del Carnaval\, con la actuación de los magos El
  Creador de Sueños y Malcom\, en el Recinto Central.\nVIERNES 16 FEBRERO:
 \n17:00 h. Fiesta del antifaz en el Centro de Día (con la Orquesta Ritmo)
 \n19:00 h. Funeral de Doña Sardina desde la Plaza de la Alameda\, concluy
 endo en el Recinto Central del Carnaval. Con las actuaciones del Grupo Ase
 re\, Los Lolas\, Orquesta Tropicana y Dj’s\nSÁBADO 17 DE FEBRERO:\n12:0
 0h. Carnaval infantil\, con hinchables\, talleres y música. Recinto Centr
 al del Carnaval.\n18:00 h. Carnaval de Piñata\, con las actuaciones de Ni
  un pelo de tonto\, Parranda La Palma\, Orquesta Libertad\, Orquesta ACuat
 ro y Dj’s.\n18:00 h. Concurso de Disfraces “Binter”. Hasta las 20:00
  horas\, los participantes tendrán que pasar por el photocall instalado j
 unto al Recinto Central para hacerse una foto que les permitirá llevarse 
 los premios establecidos en las bases. Categorías: Individual\, parejas y
  grupo (hasta 6 miembros)\nDOMINGO 18 DE FEBRERO:\n16:00 h. Piñata Infant
 il. Recinto Central del Carnaval. Con concurso de disfraces (inscripciones
  una hora antes) y animación.\n18:30 h. Carnaval del Mayor con la actuaci
 ón de Arturo Castillo\, Manolo “El Charro” y Dúo Libertad. Recinto C
 entral del Carnaval.\n&nbsp\;\n\n\n\n&nbsp\;\n\n&nbsp\;
ATTACH;FMTTYPE=image/jpeg:https://www.larevistadelapalma.com/wp-content/up
 loads/2024/02/Fiesta-de-la-peluca-Santa-Cruz.jpg
CATEGORIES:Conciertos,Fiestas populares,Otras propuestas
LOCATION:Municipio de Santa Cruz de La Palma\, Santa Cruz de La Palma \, Sa
 nta Cruz de La Palma \, 38700\, España
GEO:28.688757;-17.765102
X-APPLE-STRUCTURED-LOCATION;VALUE=URI;X-ADDRESS=Santa Cruz de La Palma \, S
 anta Cruz de La Palma \, 38700\, España;X-APPLE-RADIUS=100;X-TITLE=Munici
 pio de Santa Cruz de La Palma:geo:28.688757,-17.765102
END:VEVENT
END:VCALENDAR