BEGIN:VCALENDAR
VERSION:2.0
PRODID:-//wp-events-plugin.com//7.2.3.1//EN
TZID:Europe/London
X-WR-TIMEZONE:Europe/London
BEGIN:VEVENT
UID:3875@larevistadelapalma.com
DTSTART:20250714T213000Z
DTEND:20250714T225900Z
DTSTAMP:20250713T184832Z
URL:https://www.larevistadelapalma.com/events/fiesta-del-arte-luis-cobiell
 a/
SUMMARY:La Bajada dedica su Fiesta del Arte a Luis Cobiella
DESCRIPTION: ‘Érase un hombre\, érase una isla: homenaje a Luis Cobiell
 a’.\nUna gala dirigida por Luis Ortega y Jorge Lozano\, que contará con
  una quincena de artistas\, músicos y bailarines darán vida a una selecc
 ión antológica de su obra: Danzas del Minué inéditas\; Nanas compues
 tas a lo largo de su vida\; El concertante final del carro alegórico Mar
 ía en las Orillas (50º aniversario)\; Villancicos y temas del folclore p
 almero y americano\; Poemas y textos autobiográficos...\n\nLuis Cobiella 
 Cuevas (Santa Cruz de La Palma\, 1925-2013)\, el creador con más amplia y
  exitosa dedicación a las singulares Fiestas Lustrales de la isla de La P
 alma. Compatibilizó sus ocupaciones técnicas y docentes con una torrenci
 al creatividad que\, en los ámbitos literario y musical\, le convirtieron
  en una figura clave de la cultura contemporánea de Canarias. Licenciado 
 en Ciencias Químicas y docente de reconocidas virtudes\, fue director té
 cnico de la empresa que suministró la luz eléctrica a la isla y autor de
  los planes insulares científico\, intelectual\, escritor y compositor de
  referencia y lujo en las singulares celebraciones de La Palma.\n\nCobiell
 a Cuevas ha sido\, el más prolífico de los músicos y literatos que ha t
 rabajado para las bajadas lustrales\, que\, desde su fundación\, sólo de
 jaron de celebrarse en 2020 a causa de la pandemia del Covid 19.\n\nFue el
  creador en 1945 del primer Minué\, una lujosa danza neoclásica y regist
 ró cuatro piezas emblemáticas\, entre ellas el Minué de Santo Domingo y
  el Minué de los Aires en Re\, con notables ambiciones sinfónicas y cora
 les y complicidad creativa con nuestro folclore. Asimismo\, fue el autor d
 e la parte litúrgica de la Misa Pontifical de llegada escrita para gran o
 rquesta y coro mixto y\, con el poeta Luis Ortega\, el coautor de dos Danz
 as de Enanos: El Mester de Juglaría y Jurria de Pobres\, las últimas rep
 resentadas.\n\n&nbsp\;\nComprar entradas &gt\;&gt\;
ATTACH;FMTTYPE=image/jpeg:https://www.larevistadelapalma.com/wp-content/up
 loads/2025/07/Fiesta-del-arte-bajada25.jpg
CATEGORIES:Espectáculos
LOCATION:Teatro Circo de Marte\, Calle Virgen de La Luz\, 5\, Santa Cruz de
  La Palma\, 38700\, España
GEO:28.682989;-17.765755
X-APPLE-STRUCTURED-LOCATION;VALUE=URI;X-ADDRESS=Calle Virgen de La Luz\, 5\
 , Santa Cruz de La Palma\, 38700\, España;X-APPLE-RADIUS=100;X-TITLE=Teat
 ro Circo de Marte:geo:28.682989,-17.765755
END:VEVENT
END:VCALENDARBEGIN:VCALENDAR
VERSION:2.0
PRODID:-//wp-events-plugin.com//7.2.3.1//EN
TZID:Europe/London
X-WR-TIMEZONE:Europe/London
BEGIN:VEVENT
UID:3875@larevistadelapalma.com
DTSTART:20250714T213000Z
DTEND:20250714T225900Z
DTSTAMP:20250713T184832Z
URL:https://www.larevistadelapalma.com/events/fiesta-del-arte-luis-cobiell
 a/
SUMMARY:La Bajada dedica su Fiesta del Arte a Luis Cobiella
DESCRIPTION: ‘Érase un hombre\, érase una isla: homenaje a Luis Cobiell
 a’.\nUna gala dirigida por Luis Ortega y Jorge Lozano\, que contará con
  una quincena de artistas\, músicos y bailarines darán vida a una selecc
 ión antológica de su obra: Danzas del Minué inéditas\; Nanas compues
 tas a lo largo de su vida\; El concertante final del carro alegórico Mar
 ía en las Orillas (50º aniversario)\; Villancicos y temas del folclore p
 almero y americano\; Poemas y textos autobiográficos...\n\nLuis Cobiella 
 Cuevas (Santa Cruz de La Palma\, 1925-2013)\, el creador con más amplia y
  exitosa dedicación a las singulares Fiestas Lustrales de la isla de La P
 alma. Compatibilizó sus ocupaciones técnicas y docentes con una torrenci
 al creatividad que\, en los ámbitos literario y musical\, le convirtieron
  en una figura clave de la cultura contemporánea de Canarias. Licenciado 
 en Ciencias Químicas y docente de reconocidas virtudes\, fue director té
 cnico de la empresa que suministró la luz eléctrica a la isla y autor de
  los planes insulares científico\, intelectual\, escritor y compositor de
  referencia y lujo en las singulares celebraciones de La Palma.\n\nCobiell
 a Cuevas ha sido\, el más prolífico de los músicos y literatos que ha t
 rabajado para las bajadas lustrales\, que\, desde su fundación\, sólo de
 jaron de celebrarse en 2020 a causa de la pandemia del Covid 19.\n\nFue el
  creador en 1945 del primer Minué\, una lujosa danza neoclásica y regist
 ró cuatro piezas emblemáticas\, entre ellas el Minué de Santo Domingo y
  el Minué de los Aires en Re\, con notables ambiciones sinfónicas y cora
 les y complicidad creativa con nuestro folclore. Asimismo\, fue el autor d
 e la parte litúrgica de la Misa Pontifical de llegada escrita para gran o
 rquesta y coro mixto y\, con el poeta Luis Ortega\, el coautor de dos Danz
 as de Enanos: El Mester de Juglaría y Jurria de Pobres\, las últimas rep
 resentadas.\n\n&nbsp\;\nComprar entradas &gt\;&gt\;
ATTACH;FMTTYPE=image/jpeg:https://www.larevistadelapalma.com/wp-content/up
 loads/2025/07/Fiesta-del-arte-bajada25.jpg
CATEGORIES:Espectáculos
LOCATION:Teatro Circo de Marte\, Calle Virgen de La Luz\, 5\, Santa Cruz de
  La Palma\, 38700\, España
GEO:28.682989;-17.765755
X-APPLE-STRUCTURED-LOCATION;VALUE=URI;X-ADDRESS=Calle Virgen de La Luz\, 5\
 , Santa Cruz de La Palma\, 38700\, España;X-APPLE-RADIUS=100;X-TITLE=Teat
 ro Circo de Marte:geo:28.682989,-17.765755
END:VEVENT
END:VCALENDAR