BEGIN:VCALENDAR
VERSION:2.0
PRODID:-//wp-events-plugin.com//7.2.3.1//EN
TZID:Europe/London
X-WR-TIMEZONE:Europe/London
BEGIN:VEVENT
UID:4434@larevistadelapalma.com
DTSTART:20251224T130000Z
DTEND:20251224T200000Z
DTSTAMP:20251222T164151Z
URL:https://www.larevistadelapalma.com/events/fiesta-del-dia-bueno/
SUMMARY:Fiesta del Día Bueno
DESCRIPTION:\nFiesta pre nochebuena  en Santa Cruz de La Palma.\n Desde l
 as 14:00 h\, en la trasera del Cabildo · S/C de La Palma.\n\n\n 	 Siempr
 e Ellas\n 	 Dúo Hermanos\n 	 Grupo Libertad\n 	 DJ Equis\n\n
ATTACH;FMTTYPE=image/jpeg:https://www.larevistadelapalma.com/wp-content/up
 loads/2025/12/PRE-NOCHE-BUENA-SANTA-CRUZ.jpg
CATEGORIES:Festivales/Fiestas,Música
LOCATION:Municipio de Santa Cruz de La Palma\, Santa Cruz de La Palma \, Sa
 nta Cruz de La Palma \, 38700\, España
GEO:28.688757;-17.765102
X-APPLE-STRUCTURED-LOCATION;VALUE=URI;X-ADDRESS=Santa Cruz de La Palma \, S
 anta Cruz de La Palma \, 38700\, España;X-APPLE-RADIUS=100;X-TITLE=Munici
 pio de Santa Cruz de La Palma:geo:28.688757,-17.765102
END:VEVENT
END:VCALENDARBEGIN:VCALENDAR
VERSION:2.0
PRODID:-//wp-events-plugin.com//7.2.3.1//EN
TZID:Europe/London
X-WR-TIMEZONE:Europe/London
BEGIN:VEVENT
UID:4434@larevistadelapalma.com
DTSTART:20251224T130000Z
DTEND:20251224T200000Z
DTSTAMP:20251222T164151Z
URL:https://www.larevistadelapalma.com/events/fiesta-del-dia-bueno/
SUMMARY:Fiesta del Día Bueno
DESCRIPTION:\nFiesta pre nochebuena  en Santa Cruz de La Palma.\n Desde l
 as 14:00 h\, en la trasera del Cabildo · S/C de La Palma.\n\n\n 	 Siempr
 e Ellas\n 	 Dúo Hermanos\n 	 Grupo Libertad\n 	 DJ Equis\n\n
ATTACH;FMTTYPE=image/jpeg:https://www.larevistadelapalma.com/wp-content/up
 loads/2025/12/PRE-NOCHE-BUENA-SANTA-CRUZ.jpg
CATEGORIES:Festivales/Fiestas,Música
LOCATION:Municipio de Santa Cruz de La Palma\, Santa Cruz de La Palma \, Sa
 nta Cruz de La Palma \, 38700\, España
GEO:28.688757;-17.765102
X-APPLE-STRUCTURED-LOCATION;VALUE=URI;X-ADDRESS=Santa Cruz de La Palma \, S
 anta Cruz de La Palma \, 38700\, España;X-APPLE-RADIUS=100;X-TITLE=Munici
 pio de Santa Cruz de La Palma:geo:28.688757,-17.765102
END:VEVENT
END:VCALENDAR