BEGIN:VCALENDAR
VERSION:2.0
PRODID:-//wp-events-plugin.com//7.2.3.1//EN
TZID:Europe/London
X-WR-TIMEZONE:Europe/London
BEGIN:VEVENT
UID:3398@larevistadelapalma.com
DTSTART:20241115T200000Z
DTEND:20241115T220000Z
DTSTAMP:20241113T182954Z
URL:https://www.larevistadelapalma.com/events/fiesta-del-mariachi-en-la-ca
 sa-massieu-de-tazacorte/
SUMMARY:Fiesta del Mariachi en la Casa Massieu de Tazacorte
DESCRIPTION:Una fiesta de entrada libre\, con la música tradicional mexica
 na interpretada por Parranda La Palma\, y con Nati Caru como invitada espe
 cial.
ATTACH;FMTTYPE=image/jpeg:https://www.larevistadelapalma.com/wp-content/up
 loads/2024/11/La-Fiesta-del-Mariachi-Tazacorte.jpg
CATEGORIES:Conciertos,Música
LOCATION:Casa Masieu\, Tazacorte\, s/n\, C. Miguel de Unamuno\, Tazacorte\,
  38770\, España
GEO:28.641866;-17.936446
X-APPLE-STRUCTURED-LOCATION;VALUE=URI;X-ADDRESS=s/n\, C. Miguel de Unamuno\
 , Tazacorte\, 38770\, España;X-APPLE-RADIUS=100;X-TITLE=Casa Masieu\, Taz
 acorte:geo:28.641866,-17.936446
END:VEVENT
END:VCALENDARBEGIN:VCALENDAR
VERSION:2.0
PRODID:-//wp-events-plugin.com//7.2.3.1//EN
TZID:Europe/London
X-WR-TIMEZONE:Europe/London
BEGIN:VEVENT
UID:3398@larevistadelapalma.com
DTSTART:20241115T200000Z
DTEND:20241115T220000Z
DTSTAMP:20241113T182954Z
URL:https://www.larevistadelapalma.com/events/fiesta-del-mariachi-en-la-ca
 sa-massieu-de-tazacorte/
SUMMARY:Fiesta del Mariachi en la Casa Massieu de Tazacorte
DESCRIPTION:Una fiesta de entrada libre\, con la música tradicional mexica
 na interpretada por Parranda La Palma\, y con Nati Caru como invitada espe
 cial.
ATTACH;FMTTYPE=image/jpeg:https://www.larevistadelapalma.com/wp-content/up
 loads/2024/11/La-Fiesta-del-Mariachi-Tazacorte.jpg
CATEGORIES:Conciertos,Música
LOCATION:Casa Masieu\, Tazacorte\, s/n\, C. Miguel de Unamuno\, Tazacorte\,
  38770\, España
GEO:28.641866;-17.936446
X-APPLE-STRUCTURED-LOCATION;VALUE=URI;X-ADDRESS=s/n\, C. Miguel de Unamuno\
 , Tazacorte\, 38770\, España;X-APPLE-RADIUS=100;X-TITLE=Casa Masieu\, Taz
 acorte:geo:28.641866,-17.936446
END:VEVENT
END:VCALENDAR