BEGIN:VCALENDAR
VERSION:2.0
PRODID:-//wp-events-plugin.com//7.2.3.1//EN
TZID:Europe/London
X-WR-TIMEZONE:Europe/London
BEGIN:VEVENT
UID:3371@larevistadelapalma.com
DTSTART:20241116T200000Z
DTEND:20241116T215900Z
DTSTAMP:20241111T125624Z
URL:https://www.larevistadelapalma.com/events/fiesta-en-la-plaza-de-santo-
 domingo/
SUMMARY:Fiesta en la plaza de Santo Domingo
DESCRIPTION:\n* En señal de luto por las víctimas de la DANA la fiesta de
  Halloween no se realizó el 31 de octubre.\nEstaban  prevista las actuac
 iones musicales de los grupos Leyenda Joven y Nueva Línea\, en la nueva p
 rogramación actuarán Ledes Díaz\, Leyenda Joven y Siempre Ellas.\n\n\n\
 nEl evento está organizado por la Asociación Vecinal Luz Naciente de San
  Telmo en colaboración de la concejalía de Fiestas del ayuntamiento de S
 anta Cruz de La Palma.\n\n
ATTACH;FMTTYPE=image/jpeg:https://www.larevistadelapalma.com/wp-content/up
 loads/2024/10/HALOWEEN.jpg
CATEGORIES:Conciertos,Música
LOCATION:Plaza de Santo Domingo en Santa Cruz de La Palma\, Plaza Santo Dom
 ingo\, Santa Cruz de La Palma\, 38700\, España
GEO:28.682691;-17.766334
X-APPLE-STRUCTURED-LOCATION;VALUE=URI;X-ADDRESS=Plaza Santo Domingo\, Santa
  Cruz de La Palma\, 38700\, España;X-APPLE-RADIUS=100;X-TITLE=Plaza de Sa
 nto Domingo en Santa Cruz de La Palma:geo:28.682691,-17.766334
END:VEVENT
END:VCALENDARBEGIN:VCALENDAR
VERSION:2.0
PRODID:-//wp-events-plugin.com//7.2.3.1//EN
TZID:Europe/London
X-WR-TIMEZONE:Europe/London
BEGIN:VEVENT
UID:3371@larevistadelapalma.com
DTSTART:20241116T200000Z
DTEND:20241116T215900Z
DTSTAMP:20241111T125624Z
URL:https://www.larevistadelapalma.com/events/fiesta-en-la-plaza-de-santo-
 domingo/
SUMMARY:Fiesta en la plaza de Santo Domingo
DESCRIPTION:\n* En señal de luto por las víctimas de la DANA la fiesta de
  Halloween no se realizó el 31 de octubre.\nEstaban  prevista las actuac
 iones musicales de los grupos Leyenda Joven y Nueva Línea\, en la nueva p
 rogramación actuarán Ledes Díaz\, Leyenda Joven y Siempre Ellas.\n\n\n\
 nEl evento está organizado por la Asociación Vecinal Luz Naciente de San
  Telmo en colaboración de la concejalía de Fiestas del ayuntamiento de S
 anta Cruz de La Palma.\n\n
ATTACH;FMTTYPE=image/jpeg:https://www.larevistadelapalma.com/wp-content/up
 loads/2024/10/HALOWEEN.jpg
CATEGORIES:Conciertos,Música
LOCATION:Plaza de Santo Domingo en Santa Cruz de La Palma\, Plaza Santo Dom
 ingo\, Santa Cruz de La Palma\, 38700\, España
GEO:28.682691;-17.766334
X-APPLE-STRUCTURED-LOCATION;VALUE=URI;X-ADDRESS=Plaza Santo Domingo\, Santa
  Cruz de La Palma\, 38700\, España;X-APPLE-RADIUS=100;X-TITLE=Plaza de Sa
 nto Domingo en Santa Cruz de La Palma:geo:28.682691,-17.766334
END:VEVENT
END:VCALENDAR