BEGIN:VCALENDAR
VERSION:2.0
PRODID:-//wp-events-plugin.com//7.2.3.1//EN
TZID:Europe/London
X-WR-TIMEZONE:Europe/London
BEGIN:VEVENT
UID:627@larevistadelapalma.com
DTSTART:20230831T190000Z
DTEND:20230831T225900Z
DTSTAMP:20230826T200203Z
URL:https://www.larevistadelapalma.com/events/fiesta-joven-en-san-andres-y
 -sauces/
SUMMARY:Fiesta joven en San Andrés y Sauces
DESCRIPTION:Temazos bailables con XaviDj  y Glitter gratuito con Glitter Y
 ara\, gozando\, bailando y brillando a partes iguales.
ATTACH;FMTTYPE=image/jpeg:https://www.larevistadelapalma.com/wp-content/up
 loads/2023/08/Noche-Joven-San-ANdres-y-Sauces.jpg
CATEGORIES:Conciertos,Música
LOCATION:Plaza de Montserrat en San Andrés y Sauces\, Calle Montserrat\, S
 an Andrés y Sauces\, 38729\, España
GEO:28.784222;-17.799155
X-APPLE-STRUCTURED-LOCATION;VALUE=URI;X-ADDRESS=Calle Montserrat\, San Andr
 és y Sauces\, 38729\, España;X-APPLE-RADIUS=100;X-TITLE=Plaza de Montser
 rat en San Andrés y Sauces:geo:28.784222,-17.799155
END:VEVENT
END:VCALENDARBEGIN:VCALENDAR
VERSION:2.0
PRODID:-//wp-events-plugin.com//7.2.3.1//EN
TZID:Europe/London
X-WR-TIMEZONE:Europe/London
BEGIN:VEVENT
UID:627@larevistadelapalma.com
DTSTART:20230831T190000Z
DTEND:20230831T225900Z
DTSTAMP:20230826T200203Z
URL:https://www.larevistadelapalma.com/events/fiesta-joven-en-san-andres-y
 -sauces/
SUMMARY:Fiesta joven en San Andrés y Sauces
DESCRIPTION:Temazos bailables con XaviDj  y Glitter gratuito con Glitter Y
 ara\, gozando\, bailando y brillando a partes iguales.
ATTACH;FMTTYPE=image/jpeg:https://www.larevistadelapalma.com/wp-content/up
 loads/2023/08/Noche-Joven-San-ANdres-y-Sauces.jpg
CATEGORIES:Conciertos,Música
LOCATION:Plaza de Montserrat en San Andrés y Sauces\, Calle Montserrat\, S
 an Andrés y Sauces\, 38729\, España
GEO:28.784222;-17.799155
X-APPLE-STRUCTURED-LOCATION;VALUE=URI;X-ADDRESS=Calle Montserrat\, San Andr
 és y Sauces\, 38729\, España;X-APPLE-RADIUS=100;X-TITLE=Plaza de Montser
 rat en San Andrés y Sauces:geo:28.784222,-17.799155
END:VEVENT
END:VCALENDAR