BEGIN:VCALENDAR
VERSION:2.0
PRODID:-//wp-events-plugin.com//7.2.3.1//EN
TZID:Europe/London
X-WR-TIMEZONE:Europe/London
BEGIN:VEVENT
UID:3483@larevistadelapalma.com
DTSTART:20241228T160000Z
DTEND:20241228T225900Z
DTSTAMP:20241223T171105Z
URL:https://www.larevistadelapalma.com/events/fiesta-juvenil-en-tazacorte/
SUMMARY:Fiesta juvenil en Tazacorte
DESCRIPTION:La navidad es época de celebrar y festejar\, y eso precisament
 e es lo que harán en Tazacorte el próximo 28 de diciembre\, con esta fie
 sta que contará con la música de Gero Gómez\, Xavi Dj\, Jarez DJ\, DJ E
 quis\, DJ Yara y las actuaciones de Andrea Corsaro y Grupo_Acuatro.\n\nAd
 emás de actividades de animación\, como el Stand Neón y Stand Glitter Y
 ara\, vídeo 360⁰...\n\nY para que no decaigan las fuerzas en ningún mo
 mento\, paella gratuita y una zona con los mejores cócteles de Ron Aldea 
 de la mano del barman Emilio Rodríguez.
ATTACH;FMTTYPE=image/jpeg:https://www.larevistadelapalma.com/wp-content/up
 loads/2024/12/Fiesta-juvenil-tazacorte.jpg
CATEGORIES:Festivales/Fiestas,Música
LOCATION:Municipio de Tazacorte\, Villa y Puerto de Tazacorte\, Tazacorte\,
  38770\, España
GEO:28.642917;-17.936888
X-APPLE-STRUCTURED-LOCATION;VALUE=URI;X-ADDRESS=Villa y Puerto de Tazacorte
 \, Tazacorte\, 38770\, España;X-APPLE-RADIUS=100;X-TITLE=Municipio de Taz
 acorte:geo:28.642917,-17.936888
END:VEVENT
END:VCALENDARBEGIN:VCALENDAR
VERSION:2.0
PRODID:-//wp-events-plugin.com//7.2.3.1//EN
TZID:Europe/London
X-WR-TIMEZONE:Europe/London
BEGIN:VEVENT
UID:3483@larevistadelapalma.com
DTSTART:20241228T160000Z
DTEND:20241228T225900Z
DTSTAMP:20241223T171105Z
URL:https://www.larevistadelapalma.com/events/fiesta-juvenil-en-tazacorte/
SUMMARY:Fiesta juvenil en Tazacorte
DESCRIPTION:La navidad es época de celebrar y festejar\, y eso precisament
 e es lo que harán en Tazacorte el próximo 28 de diciembre\, con esta fie
 sta que contará con la música de Gero Gómez\, Xavi Dj\, Jarez DJ\, DJ E
 quis\, DJ Yara y las actuaciones de Andrea Corsaro y Grupo_Acuatro.\n\nAd
 emás de actividades de animación\, como el Stand Neón y Stand Glitter Y
 ara\, vídeo 360⁰...\n\nY para que no decaigan las fuerzas en ningún mo
 mento\, paella gratuita y una zona con los mejores cócteles de Ron Aldea 
 de la mano del barman Emilio Rodríguez.
ATTACH;FMTTYPE=image/jpeg:https://www.larevistadelapalma.com/wp-content/up
 loads/2024/12/Fiesta-juvenil-tazacorte.jpg
CATEGORIES:Festivales/Fiestas,Música
LOCATION:Municipio de Tazacorte\, Villa y Puerto de Tazacorte\, Tazacorte\,
  38770\, España
GEO:28.642917;-17.936888
X-APPLE-STRUCTURED-LOCATION;VALUE=URI;X-ADDRESS=Villa y Puerto de Tazacorte
 \, Tazacorte\, 38770\, España;X-APPLE-RADIUS=100;X-TITLE=Municipio de Taz
 acorte:geo:28.642917,-17.936888
END:VEVENT
END:VCALENDAR