BEGIN:VCALENDAR
VERSION:2.0
PRODID:-//wp-events-plugin.com//7.2.3.1//EN
TZID:Europe/London
X-WR-TIMEZONE:Europe/London
BEGIN:VEVENT
UID:3651@larevistadelapalma.com
DTSTART:20250322T150000Z
DTEND:20250322T210000Z
DTSTAMP:20250318T142711Z
URL:https://www.larevistadelapalma.com/events/fiesta-por-el-primer-anivers
 ario-de-la-cafeteria-eden/
SUMMARY:Fiesta por el primer aniversario de la Cafetería Edén
DESCRIPTION:El Edén cumple su primer aniversario y para celebrarlo han pre
 parado una fiestón para este sábado 22 desde las 16:00h hasta las 22:00h
 \, allí estarán Grajasound\, Elvira y Dj Zapi.
ATTACH;FMTTYPE=image/jpeg:https://www.larevistadelapalma.com/wp-content/up
 loads/2025/03/Eden-Aniversario.jpg
CATEGORIES:Festivales/Fiestas,Música
LOCATION:Plaza de España en Los Llanos de Aridane\, Plaza de España\, Los
  Llanos de Aridane\, 38760\, España
GEO:28.658934;-17.913174
X-APPLE-STRUCTURED-LOCATION;VALUE=URI;X-ADDRESS=Plaza de España\, Los Llan
 os de Aridane\, 38760\, España;X-APPLE-RADIUS=100;X-TITLE=Plaza de Españ
 a en Los Llanos de Aridane:geo:28.658934,-17.913174
END:VEVENT
END:VCALENDARBEGIN:VCALENDAR
VERSION:2.0
PRODID:-//wp-events-plugin.com//7.2.3.1//EN
TZID:Europe/London
X-WR-TIMEZONE:Europe/London
BEGIN:VEVENT
UID:3651@larevistadelapalma.com
DTSTART:20250322T150000Z
DTEND:20250322T210000Z
DTSTAMP:20250318T142711Z
URL:https://www.larevistadelapalma.com/events/fiesta-por-el-primer-anivers
 ario-de-la-cafeteria-eden/
SUMMARY:Fiesta por el primer aniversario de la Cafetería Edén
DESCRIPTION:El Edén cumple su primer aniversario y para celebrarlo han pre
 parado una fiestón para este sábado 22 desde las 16:00h hasta las 22:00h
 \, allí estarán Grajasound\, Elvira y Dj Zapi.
ATTACH;FMTTYPE=image/jpeg:https://www.larevistadelapalma.com/wp-content/up
 loads/2025/03/Eden-Aniversario.jpg
CATEGORIES:Festivales/Fiestas,Música
LOCATION:Plaza de España en Los Llanos de Aridane\, Plaza de España\, Los
  Llanos de Aridane\, 38760\, España
GEO:28.658934;-17.913174
X-APPLE-STRUCTURED-LOCATION;VALUE=URI;X-ADDRESS=Plaza de España\, Los Llan
 os de Aridane\, 38760\, España;X-APPLE-RADIUS=100;X-TITLE=Plaza de Españ
 a en Los Llanos de Aridane:geo:28.658934,-17.913174
END:VEVENT
END:VCALENDAR