BEGIN:VCALENDAR
VERSION:2.0
PRODID:-//wp-events-plugin.com//7.2.3.1//EN
TZID:Europe/London
X-WR-TIMEZONE:Europe/London
BEGIN:VEVENT
UID:128@larevistadelapalma.com
DTSTART;VALUE=DATE:20230707
DTEND;VALUE=DATE:20230727
DTSTAMP:20230715T111516Z
URL:https://www.larevistadelapalma.com/events/fiestas-de-santiago-apostol-
 y-santa-ana-en-brena-baja-2023/
SUMMARY:Fiestas de Santiago Apostol y Santa Ana en Breña Baja 2023
DESCRIPTION:* CAMBIOS EN EL PROGRAMA: Debido al incendio declarado en el Mu
 nicipio de Puntagorda los actos previstos para el sábado 15 de julio qued
 an aplazados.
ATTACH;FMTTYPE=image/jpeg:https://www.larevistadelapalma.com/wp-content/up
 loads/2023/07/Fiestas-Santiago-Apostol-Santa-Ana-Brena-Baja.jpg
CATEGORIES:Fiestas populares,Otras propuestas
LOCATION:Municipio de Breña Baja\, Breña Baja\, Breña Baja\, 38712\, Esp
 aña
GEO:28.641297;-17.772467
X-APPLE-STRUCTURED-LOCATION;VALUE=URI;X-ADDRESS=Breña Baja\, Breña Baja\,
  38712\, España;X-APPLE-RADIUS=100;X-TITLE=Municipio de Breña Baja:geo:2
 8.641297,-17.772467
END:VEVENT
END:VCALENDARBEGIN:VCALENDAR
VERSION:2.0
PRODID:-//wp-events-plugin.com//7.2.3.1//EN
TZID:Europe/London
X-WR-TIMEZONE:Europe/London
BEGIN:VEVENT
UID:128@larevistadelapalma.com
DTSTART;VALUE=DATE:20230707
DTEND;VALUE=DATE:20230727
DTSTAMP:20230715T111516Z
URL:https://www.larevistadelapalma.com/events/fiestas-de-santiago-apostol-
 y-santa-ana-en-brena-baja-2023/
SUMMARY:Fiestas de Santiago Apostol y Santa Ana en Breña Baja 2023
DESCRIPTION:* CAMBIOS EN EL PROGRAMA: Debido al incendio declarado en el Mu
 nicipio de Puntagorda los actos previstos para el sábado 15 de julio qued
 an aplazados.
ATTACH;FMTTYPE=image/jpeg:https://www.larevistadelapalma.com/wp-content/up
 loads/2023/07/Fiestas-Santiago-Apostol-Santa-Ana-Brena-Baja.jpg
CATEGORIES:Fiestas populares,Otras propuestas
LOCATION:Municipio de Breña Baja\, Breña Baja\, Breña Baja\, 38712\, Esp
 aña
GEO:28.641297;-17.772467
X-APPLE-STRUCTURED-LOCATION;VALUE=URI;X-ADDRESS=Breña Baja\, Breña Baja\,
  38712\, España;X-APPLE-RADIUS=100;X-TITLE=Municipio de Breña Baja:geo:2
 8.641297,-17.772467
END:VEVENT
END:VCALENDAR