BEGIN:VCALENDAR
VERSION:2.0
PRODID:-//wp-events-plugin.com//7.2.3.1//EN
TZID:Europe/London
X-WR-TIMEZONE:Europe/London
BEGIN:VEVENT
UID:157@larevistadelapalma.com
DTSTART;VALUE=DATE:20230714
DTEND;VALUE=DATE:20230717
DTSTAMP:20230715T111410Z
URL:https://www.larevistadelapalma.com/events/fiestas-del-carmen-el-faro-y
 -puntalarga/
SUMMARY:Fiestas del Carmen en Fuencaliente
DESCRIPTION:* CAMBIOS EN EL PROGRAMA: Debido al incendio declarado en el Mu
 nicipio de Puntagorda los actos previstos para el sábado 15 de julio qued
 an aplazados.
ATTACH;FMTTYPE=image/jpeg:https://www.larevistadelapalma.com/wp-content/up
 loads/2023/07/Fiestas-carmen-fuencaliente.jpg
CATEGORIES:Fiestas populares,Otras propuestas
LOCATION:Municipio de Fuencaliente\, Fuencaliente\, Fuencaliente\, 38740\, 
 España
GEO:28.479676;-17.840616
X-APPLE-STRUCTURED-LOCATION;VALUE=URI;X-ADDRESS=Fuencaliente\, Fuencaliente
 \, 38740\, España;X-APPLE-RADIUS=100;X-TITLE=Municipio de Fuencaliente:ge
 o:28.479676,-17.840616
END:VEVENT
END:VCALENDARBEGIN:VCALENDAR
VERSION:2.0
PRODID:-//wp-events-plugin.com//7.2.3.1//EN
TZID:Europe/London
X-WR-TIMEZONE:Europe/London
BEGIN:VEVENT
UID:157@larevistadelapalma.com
DTSTART;VALUE=DATE:20230714
DTEND;VALUE=DATE:20230717
DTSTAMP:20230715T111410Z
URL:https://www.larevistadelapalma.com/events/fiestas-del-carmen-el-faro-y
 -puntalarga/
SUMMARY:Fiestas del Carmen en Fuencaliente
DESCRIPTION:* CAMBIOS EN EL PROGRAMA: Debido al incendio declarado en el Mu
 nicipio de Puntagorda los actos previstos para el sábado 15 de julio qued
 an aplazados.
ATTACH;FMTTYPE=image/jpeg:https://www.larevistadelapalma.com/wp-content/up
 loads/2023/07/Fiestas-carmen-fuencaliente.jpg
CATEGORIES:Fiestas populares,Otras propuestas
LOCATION:Municipio de Fuencaliente\, Fuencaliente\, Fuencaliente\, 38740\, 
 España
GEO:28.479676;-17.840616
X-APPLE-STRUCTURED-LOCATION;VALUE=URI;X-ADDRESS=Fuencaliente\, Fuencaliente
 \, 38740\, España;X-APPLE-RADIUS=100;X-TITLE=Municipio de Fuencaliente:ge
 o:28.479676,-17.840616
END:VEVENT
END:VCALENDAR