BEGIN:VCALENDAR
VERSION:2.0
PRODID:-//wp-events-plugin.com//7.2.3.1//EN
TZID:Europe/London
X-WR-TIMEZONE:Europe/London
BEGIN:VEVENT
UID:155@larevistadelapalma.com
DTSTART;VALUE=DATE:20230714
DTEND;VALUE=DATE:20230717
DTSTAMP:20230715T121049Z
URL:https://www.larevistadelapalma.com/events/fiestas-del-carmen-en-santa-
 cruz-de-la-palma/
SUMMARY:Fiestas del Carmen en Santa Cruz de La Palma
DESCRIPTION:* CAMBIOS EN EL PROGRAMA: Debido al incendio declarado en el Mu
 nicipio de Puntagorda los actos previstos para el sábado 15 de julio qued
 an aplazados.
ATTACH;FMTTYPE=image/jpeg:https://www.larevistadelapalma.com/wp-content/up
 loads/2023/07/Fiestas-del-Carmen-Santa-Cruz-de-La-Palma.jpg
CATEGORIES:Fiestas populares,Otras propuestas
LOCATION:Municipio de Santa Cruz de La Palma\, Santa Cruz de La Palma \, Sa
 nta Cruz de La Palma \, 38700\, España
GEO:28.688757;-17.765102
X-APPLE-STRUCTURED-LOCATION;VALUE=URI;X-ADDRESS=Santa Cruz de La Palma \, S
 anta Cruz de La Palma \, 38700\, España;X-APPLE-RADIUS=100;X-TITLE=Munici
 pio de Santa Cruz de La Palma:geo:28.688757,-17.765102
END:VEVENT
END:VCALENDARBEGIN:VCALENDAR
VERSION:2.0
PRODID:-//wp-events-plugin.com//7.2.3.1//EN
TZID:Europe/London
X-WR-TIMEZONE:Europe/London
BEGIN:VEVENT
UID:155@larevistadelapalma.com
DTSTART;VALUE=DATE:20230714
DTEND;VALUE=DATE:20230717
DTSTAMP:20230715T121049Z
URL:https://www.larevistadelapalma.com/events/fiestas-del-carmen-en-santa-
 cruz-de-la-palma/
SUMMARY:Fiestas del Carmen en Santa Cruz de La Palma
DESCRIPTION:* CAMBIOS EN EL PROGRAMA: Debido al incendio declarado en el Mu
 nicipio de Puntagorda los actos previstos para el sábado 15 de julio qued
 an aplazados.
ATTACH;FMTTYPE=image/jpeg:https://www.larevistadelapalma.com/wp-content/up
 loads/2023/07/Fiestas-del-Carmen-Santa-Cruz-de-La-Palma.jpg
CATEGORIES:Fiestas populares,Otras propuestas
LOCATION:Municipio de Santa Cruz de La Palma\, Santa Cruz de La Palma \, Sa
 nta Cruz de La Palma \, 38700\, España
GEO:28.688757;-17.765102
X-APPLE-STRUCTURED-LOCATION;VALUE=URI;X-ADDRESS=Santa Cruz de La Palma \, S
 anta Cruz de La Palma \, 38700\, España;X-APPLE-RADIUS=100;X-TITLE=Munici
 pio de Santa Cruz de La Palma:geo:28.688757,-17.765102
END:VEVENT
END:VCALENDAR