BEGIN:VCALENDAR
VERSION:2.0
PRODID:-//wp-events-plugin.com//7.2.3.1//EN
TZID:Europe/London
X-WR-TIMEZONE:Europe/London
BEGIN:VEVENT
UID:123@larevistadelapalma.com
DTSTART;VALUE=DATE:20230623
DTEND;VALUE=DATE:20230717
DTSTAMP:20230715T111800Z
URL:https://www.larevistadelapalma.com/events/fiestas-del-carmen-en-tazaco
 rte-2023/
SUMMARY:Fiestas del Carmen en Tazacorte 2023
DESCRIPTION:* CAMBIOS EN EL PROGRAMA: Debido al incendio declarado en el Mu
 nicipio de Puntagorda los actos previstos para el sábado 15 de julio qued
 an aplazados.
ATTACH;FMTTYPE=image/jpeg:https://www.larevistadelapalma.com/wp-content/up
 loads/2023/07/Fiestas-del-Carmen-Tazacorte.jpg
CATEGORIES:Fiestas populares,Otras propuestas
LOCATION:Municipio de Tazacorte\, Villa y Puerto de Tazacorte\, Tazacorte\,
  38770\, España
GEO:28.642917;-17.936888
X-APPLE-STRUCTURED-LOCATION;VALUE=URI;X-ADDRESS=Villa y Puerto de Tazacorte
 \, Tazacorte\, 38770\, España;X-APPLE-RADIUS=100;X-TITLE=Municipio de Taz
 acorte:geo:28.642917,-17.936888
END:VEVENT
END:VCALENDARBEGIN:VCALENDAR
VERSION:2.0
PRODID:-//wp-events-plugin.com//7.2.3.1//EN
TZID:Europe/London
X-WR-TIMEZONE:Europe/London
BEGIN:VEVENT
UID:123@larevistadelapalma.com
DTSTART;VALUE=DATE:20230623
DTEND;VALUE=DATE:20230717
DTSTAMP:20230715T111800Z
URL:https://www.larevistadelapalma.com/events/fiestas-del-carmen-en-tazaco
 rte-2023/
SUMMARY:Fiestas del Carmen en Tazacorte 2023
DESCRIPTION:* CAMBIOS EN EL PROGRAMA: Debido al incendio declarado en el Mu
 nicipio de Puntagorda los actos previstos para el sábado 15 de julio qued
 an aplazados.
ATTACH;FMTTYPE=image/jpeg:https://www.larevistadelapalma.com/wp-content/up
 loads/2023/07/Fiestas-del-Carmen-Tazacorte.jpg
CATEGORIES:Fiestas populares,Otras propuestas
LOCATION:Municipio de Tazacorte\, Villa y Puerto de Tazacorte\, Tazacorte\,
  38770\, España
GEO:28.642917;-17.936888
X-APPLE-STRUCTURED-LOCATION;VALUE=URI;X-ADDRESS=Villa y Puerto de Tazacorte
 \, Tazacorte\, 38770\, España;X-APPLE-RADIUS=100;X-TITLE=Municipio de Taz
 acorte:geo:28.642917,-17.936888
END:VEVENT
END:VCALENDAR