BEGIN:VCALENDAR
VERSION:2.0
PRODID:-//wp-events-plugin.com//7.2.3.1//EN
TZID:Europe/London
X-WR-TIMEZONE:Europe/London
BEGIN:VEVENT
UID:3052@larevistadelapalma.com
DTSTART:20240612T180000Z
DTEND:20240612T193000Z
DTSTAMP:20240611T202344Z
URL:https://www.larevistadelapalma.com/events/filmoteca-cajacanarias-ciclo
 -mujeres-realizadoras-en-mexico/
SUMMARY:Filmoteca CajaCanarias presenta el ciclo de cine Mujeres realizador
 as en México 
DESCRIPTION:El ciclo comienza el miércoles\, 12 de junio con el documental
  Muxes: auténticas\, intrépidas y buscadoras de peligro (2005)\, de la r
 ealizadora Alejandra Islas.
ATTACH;FMTTYPE=image/jpeg:https://www.larevistadelapalma.com/wp-content/up
 loads/2024/06/cajacanarias_MUXES-filmoteca-mexico-2024_1.jpg
CATEGORIES:Cine,Cine y Literatura
LOCATION:Espacio Cultural CajaCanarias La Palma\, Plaza de España\, 3\, Sa
 nta Cruz De La Palma\, Santa Cruz de Tenerife\, 38700\, España
GEO:28.683481;-17.764831
X-APPLE-STRUCTURED-LOCATION;VALUE=URI;X-ADDRESS=Plaza de España\, 3\, Sant
 a Cruz De La Palma\, Santa Cruz de Tenerife\, 38700\, España;X-APPLE-RADI
 US=100;X-TITLE=Espacio Cultural CajaCanarias La Palma:geo:28.683481,-17.76
 4831
END:VEVENT
END:VCALENDARBEGIN:VCALENDAR
VERSION:2.0
PRODID:-//wp-events-plugin.com//7.2.3.1//EN
TZID:Europe/London
X-WR-TIMEZONE:Europe/London
BEGIN:VEVENT
UID:3052@larevistadelapalma.com
DTSTART:20240612T180000Z
DTEND:20240612T193000Z
DTSTAMP:20240611T202344Z
URL:https://www.larevistadelapalma.com/events/filmoteca-cajacanarias-ciclo
 -mujeres-realizadoras-en-mexico/
SUMMARY:Filmoteca CajaCanarias presenta el ciclo de cine Mujeres realizador
 as en México 
DESCRIPTION:El ciclo comienza el miércoles\, 12 de junio con el documental
  Muxes: auténticas\, intrépidas y buscadoras de peligro (2005)\, de la r
 ealizadora Alejandra Islas.
ATTACH;FMTTYPE=image/jpeg:https://www.larevistadelapalma.com/wp-content/up
 loads/2024/06/cajacanarias_MUXES-filmoteca-mexico-2024_1.jpg
CATEGORIES:Cine,Cine y Literatura
LOCATION:Espacio Cultural CajaCanarias La Palma\, Plaza de España\, 3\, Sa
 nta Cruz De La Palma\, Santa Cruz de Tenerife\, 38700\, España
GEO:28.683481;-17.764831
X-APPLE-STRUCTURED-LOCATION;VALUE=URI;X-ADDRESS=Plaza de España\, 3\, Sant
 a Cruz De La Palma\, Santa Cruz de Tenerife\, 38700\, España;X-APPLE-RADI
 US=100;X-TITLE=Espacio Cultural CajaCanarias La Palma:geo:28.683481,-17.76
 4831
END:VEVENT
END:VCALENDAR