BEGIN:VCALENDAR
VERSION:2.0
PRODID:-//wp-events-plugin.com//7.2.3.1//EN
TZID:Europe/London
X-WR-TIMEZONE:Europe/London
BEGIN:VEVENT
UID:964@larevistadelapalma.com
DTSTART:20231231T140000Z
DTEND:20231231T220000Z
DTSTAMP:20231227T215615Z
URL:https://www.larevistadelapalma.com/events/fin-ano-brena-alta/
SUMMARY:Fin de año en Breña Alta
DESCRIPTION:\nEn Breña Alta empezarán a recibir al 2024 en el Parque Los 
 Álamos\, desde las 15 horas\, con música en directo con Cabritofrito\, l
 a selección de vinilos de Grajasound y Dj Rudy Ruymán\n\n\nY para los pe
 ques\, hinchables desde las 16h con  Tabayzu.\n
ATTACH;FMTTYPE=image/jpeg:https://www.larevistadelapalma.com/wp-content/up
 loads/2023/12/Fin-de-ano-en-Brena-Alta.jpg
CATEGORIES:Fiestas populares,Otras propuestas
LOCATION:Parque de Los Álamos\, Bodegón Los Alamos\, Breña Alta\, 38710\
 , España
GEO:28.667222;-17.787778
X-APPLE-STRUCTURED-LOCATION;VALUE=URI;X-ADDRESS=Bodegón Los Alamos\, Breñ
 a Alta\, 38710\, España;X-APPLE-RADIUS=100;X-TITLE=Parque de Los Álamos:
 geo:28.667222,-17.787778
END:VEVENT
END:VCALENDARBEGIN:VCALENDAR
VERSION:2.0
PRODID:-//wp-events-plugin.com//7.2.3.1//EN
TZID:Europe/London
X-WR-TIMEZONE:Europe/London
BEGIN:VEVENT
UID:964@larevistadelapalma.com
DTSTART:20231231T140000Z
DTEND:20231231T220000Z
DTSTAMP:20231227T215615Z
URL:https://www.larevistadelapalma.com/events/fin-ano-brena-alta/
SUMMARY:Fin de año en Breña Alta
DESCRIPTION:\nEn Breña Alta empezarán a recibir al 2024 en el Parque Los 
 Álamos\, desde las 15 horas\, con música en directo con Cabritofrito\, l
 a selección de vinilos de Grajasound y Dj Rudy Ruymán\n\n\nY para los pe
 ques\, hinchables desde las 16h con  Tabayzu.\n
ATTACH;FMTTYPE=image/jpeg:https://www.larevistadelapalma.com/wp-content/up
 loads/2023/12/Fin-de-ano-en-Brena-Alta.jpg
CATEGORIES:Fiestas populares,Otras propuestas
LOCATION:Parque de Los Álamos\, Bodegón Los Alamos\, Breña Alta\, 38710\
 , España
GEO:28.667222;-17.787778
X-APPLE-STRUCTURED-LOCATION;VALUE=URI;X-ADDRESS=Bodegón Los Alamos\, Breñ
 a Alta\, 38710\, España;X-APPLE-RADIUS=100;X-TITLE=Parque de Los Álamos:
 geo:28.667222,-17.787778
END:VEVENT
END:VCALENDAR