BEGIN:VCALENDAR
VERSION:2.0
PRODID:-//wp-events-plugin.com//7.2.3.1//EN
TZID:Europe/London
X-WR-TIMEZONE:Europe/London
BEGIN:VEVENT
UID:967@larevistadelapalma.com
DTSTART:20231231T223000Z
DTEND:20231231T225900Z
DTSTAMP:20231228T010430Z
URL:https://www.larevistadelapalma.com/events/fin-ano-en-barlovento/
SUMMARY:Fin Año en Barlovento
DESCRIPTION:A partir de las 23:30 horas.\n\n&nbsp\;
ATTACH;FMTTYPE=image/jpeg:https://www.larevistadelapalma.com/wp-content/up
 loads/2023/12/Fin-de-ano-en-Barlovento.jpg
CATEGORIES:Fiestas populares,Otras propuestas
LOCATION:Municipio de Barlovento\, Barlovento\, Barlovento\, 38726\, Españ
 a
GEO:28.834132;-17.805077
X-APPLE-STRUCTURED-LOCATION;VALUE=URI;X-ADDRESS=Barlovento\, Barlovento\, 3
 8726\, España;X-APPLE-RADIUS=100;X-TITLE=Municipio de Barlovento:geo:28.8
 34132,-17.805077
END:VEVENT
END:VCALENDARBEGIN:VCALENDAR
VERSION:2.0
PRODID:-//wp-events-plugin.com//7.2.3.1//EN
TZID:Europe/London
X-WR-TIMEZONE:Europe/London
BEGIN:VEVENT
UID:967@larevistadelapalma.com
DTSTART:20231231T223000Z
DTEND:20231231T225900Z
DTSTAMP:20231228T010430Z
URL:https://www.larevistadelapalma.com/events/fin-ano-en-barlovento/
SUMMARY:Fin Año en Barlovento
DESCRIPTION:A partir de las 23:30 horas.\n\n&nbsp\;
ATTACH;FMTTYPE=image/jpeg:https://www.larevistadelapalma.com/wp-content/up
 loads/2023/12/Fin-de-ano-en-Barlovento.jpg
CATEGORIES:Fiestas populares,Otras propuestas
LOCATION:Municipio de Barlovento\, Barlovento\, Barlovento\, 38726\, Españ
 a
GEO:28.834132;-17.805077
X-APPLE-STRUCTURED-LOCATION;VALUE=URI;X-ADDRESS=Barlovento\, Barlovento\, 3
 8726\, España;X-APPLE-RADIUS=100;X-TITLE=Municipio de Barlovento:geo:28.8
 34132,-17.805077
END:VEVENT
END:VCALENDAR