BEGIN:VCALENDAR
VERSION:2.0
PRODID:-//wp-events-plugin.com//7.2.3.1//EN
TZID:Europe/London
X-WR-TIMEZONE:Europe/London
BEGIN:VEVENT
UID:3479@larevistadelapalma.com
DTSTART:20241231T220000Z
DTEND:20241231T225900Z
DTSTAMP:20241223T171359Z
URL:https://www.larevistadelapalma.com/events/fin-ano-tazacorte/
SUMMARY:Fiesta de fin de año en Tazacorte
DESCRIPTION: Fiesta de FIN DE AÑO\, vente a Tazacorte a la Piscina Municip
 al y disfruta de las actuaciones musicales con Los 3 de Caña y Grupo Libe
 rtad.\n\nPueden optar a un cóctel de bienvenida\, picoteo y cotillón por
  15€.
ATTACH;FMTTYPE=image/jpeg:https://www.larevistadelapalma.com/wp-content/up
 loads/2024/12/Fiesta-fiin-ano-Tazacorte.jpg
CATEGORIES:Festivales/Fiestas,Fiestas populares,Música
LOCATION:Municipio de Tazacorte\, Villa y Puerto de Tazacorte\, Tazacorte\,
  38770\, España
GEO:28.642917;-17.936888
X-APPLE-STRUCTURED-LOCATION;VALUE=URI;X-ADDRESS=Villa y Puerto de Tazacorte
 \, Tazacorte\, 38770\, España;X-APPLE-RADIUS=100;X-TITLE=Municipio de Taz
 acorte:geo:28.642917,-17.936888
END:VEVENT
END:VCALENDARBEGIN:VCALENDAR
VERSION:2.0
PRODID:-//wp-events-plugin.com//7.2.3.1//EN
TZID:Europe/London
X-WR-TIMEZONE:Europe/London
BEGIN:VEVENT
UID:3479@larevistadelapalma.com
DTSTART:20241231T220000Z
DTEND:20241231T225900Z
DTSTAMP:20241223T171359Z
URL:https://www.larevistadelapalma.com/events/fin-ano-tazacorte/
SUMMARY:Fiesta de fin de año en Tazacorte
DESCRIPTION: Fiesta de FIN DE AÑO\, vente a Tazacorte a la Piscina Municip
 al y disfruta de las actuaciones musicales con Los 3 de Caña y Grupo Libe
 rtad.\n\nPueden optar a un cóctel de bienvenida\, picoteo y cotillón por
  15€.
ATTACH;FMTTYPE=image/jpeg:https://www.larevistadelapalma.com/wp-content/up
 loads/2024/12/Fiesta-fiin-ano-Tazacorte.jpg
CATEGORIES:Festivales/Fiestas,Fiestas populares,Música
LOCATION:Municipio de Tazacorte\, Villa y Puerto de Tazacorte\, Tazacorte\,
  38770\, España
GEO:28.642917;-17.936888
X-APPLE-STRUCTURED-LOCATION;VALUE=URI;X-ADDRESS=Villa y Puerto de Tazacorte
 \, Tazacorte\, 38770\, España;X-APPLE-RADIUS=100;X-TITLE=Municipio de Taz
 acorte:geo:28.642917,-17.936888
END:VEVENT
END:VCALENDAR