BEGIN:VCALENDAR
VERSION:2.0
PRODID:-//wp-events-plugin.com//7.2.3.1//EN
TZID:Europe/London
X-WR-TIMEZONE:Europe/London
BEGIN:VEVENT
UID:4116@larevistadelapalma.com
DTSTART:20251231T150000Z
DTEND:20251231T210000Z
DTSTAMP:20251211T221542Z
URL:https://www.larevistadelapalma.com/events/fin-de-ano-elvis-bar-x-la-ma
 rmota/
SUMMARY:Fin de año: Elvis Bar x La Marmota
DESCRIPTION:Nos alineamos en la preciosa calle del medio de Los Llanos de A
 ridane para celebrar por todo lo alto el fin de un año y el comienzo de o
 tro.\nFieles a nuestros principios como locales\, Elvis Cocktail Bar + La 
 Marmota Tazacorte\, creamos una fiesta que lleva por bandera:\n\n 	La esen
 cia pura de la cultura musical.\n 	La energía vibrante de la pista de bai
 le.\n 	El buen hacer artístico y la buena selección.\n 	Y la energia pos
 itiva de un público adulto y respetuoso\n\nPara ese día tan especial\, c
 rearemos el ambiente perfecto para soltarse y bailar sin juicios\, rodeado
 s de la mejor energía\, la de un público que respeta\, que viene a diver
 tirse de verdad\, a liberar tensiones y a compartir todo ese amor que llev
 an dentro.\n\nSerá una velada dedicada a quienes entienden que la música
  es un lenguaje vivo\, no un simple ruido de fondo\, por ello\, hemos conv
 ocado a los DJs más dedicados al arte del DJING de la isla para hacerte b
 ailar y disfrutar como nunca!\nCerraremos el ciclo 2025 con la mejor energ
 ía para dar la bienvenida al 2026.
ATTACH;FMTTYPE=image/jpeg:https://www.larevistadelapalma.com/wp-content/up
 loads/2025/12/31-DICIEMBRE-fin-ano-elvis.png
CATEGORIES:Festivales/Fiestas,Música
LOCATION:Municipio de Los Llanos de Aridane\, Los Llanos de Aridane\, Los L
 lanos de Aridane\, 38760\, España
GEO:28.660236;-17.913187
X-APPLE-STRUCTURED-LOCATION;VALUE=URI;X-ADDRESS=Los Llanos de Aridane\, Los
  Llanos de Aridane\, 38760\, España;X-APPLE-RADIUS=100;X-TITLE=Municipio 
 de Los Llanos de Aridane:geo:28.660236,-17.913187
END:VEVENT
END:VCALENDARBEGIN:VCALENDAR
VERSION:2.0
PRODID:-//wp-events-plugin.com//7.2.3.1//EN
TZID:Europe/London
X-WR-TIMEZONE:Europe/London
BEGIN:VEVENT
UID:4116@larevistadelapalma.com
DTSTART:20251231T150000Z
DTEND:20251231T210000Z
DTSTAMP:20251211T221542Z
URL:https://www.larevistadelapalma.com/events/fin-de-ano-elvis-bar-x-la-ma
 rmota/
SUMMARY:Fin de año: Elvis Bar x La Marmota
DESCRIPTION:Nos alineamos en la preciosa calle del medio de Los Llanos de A
 ridane para celebrar por todo lo alto el fin de un año y el comienzo de o
 tro.\nFieles a nuestros principios como locales\, Elvis Cocktail Bar + La 
 Marmota Tazacorte\, creamos una fiesta que lleva por bandera:\n\n 	La esen
 cia pura de la cultura musical.\n 	La energía vibrante de la pista de bai
 le.\n 	El buen hacer artístico y la buena selección.\n 	Y la energia pos
 itiva de un público adulto y respetuoso\n\nPara ese día tan especial\, c
 rearemos el ambiente perfecto para soltarse y bailar sin juicios\, rodeado
 s de la mejor energía\, la de un público que respeta\, que viene a diver
 tirse de verdad\, a liberar tensiones y a compartir todo ese amor que llev
 an dentro.\n\nSerá una velada dedicada a quienes entienden que la música
  es un lenguaje vivo\, no un simple ruido de fondo\, por ello\, hemos conv
 ocado a los DJs más dedicados al arte del DJING de la isla para hacerte b
 ailar y disfrutar como nunca!\nCerraremos el ciclo 2025 con la mejor energ
 ía para dar la bienvenida al 2026.
ATTACH;FMTTYPE=image/jpeg:https://www.larevistadelapalma.com/wp-content/up
 loads/2025/12/31-DICIEMBRE-fin-ano-elvis.png
CATEGORIES:Festivales/Fiestas,Música
LOCATION:Municipio de Los Llanos de Aridane\, Los Llanos de Aridane\, Los L
 lanos de Aridane\, 38760\, España
GEO:28.660236;-17.913187
X-APPLE-STRUCTURED-LOCATION;VALUE=URI;X-ADDRESS=Los Llanos de Aridane\, Los
  Llanos de Aridane\, 38760\, España;X-APPLE-RADIUS=100;X-TITLE=Municipio 
 de Los Llanos de Aridane:geo:28.660236,-17.913187
END:VEVENT
END:VCALENDAR