BEGIN:VCALENDAR
VERSION:2.0
PRODID:-//wp-events-plugin.com//7.2.3.1//EN
TZID:Europe/London
X-WR-TIMEZONE:Europe/London
BEGIN:VEVENT
UID:962@larevistadelapalma.com
DTSTART:20231231T120000Z
DTEND:20231231T225900Z
DTSTAMP:20231227T010003Z
URL:https://www.larevistadelapalma.com/events/fin-de-ano-en-el-paso/
SUMMARY:Fin de año en El Paso
DESCRIPTION:\nGran Fiesta de Fin de año en El Paso\, desde las 13:00 horas
  en la Plaza Francisca de Gazmira. \n\n\n\nCon reparto de uvas y cotilló
 n  y las actuaciones de:\n\n\n\n 	13:00 h Mamajuana's\n 	14:00 h Dj Jacob
 \n 	15:00 h Escuela de Calor\n 	16:30 h GrajaSound\n 	18:00 h Grupo Libert
 ad\n 	20:00 h Zebensui Melián\n 	21:00 h Dj Jacob\n 	23:30 h Los Tres de 
 Caña\n 	00:30 h Dj Visac\n\n
ATTACH;FMTTYPE=image/jpeg:https://www.larevistadelapalma.com/wp-content/up
 loads/2023/12/Fin-de-ano-El-Paso.jpg
CATEGORIES:Fiestas populares,Otras propuestas
LOCATION:Plaza Francisca Gazmira\, Calle El Paso de Abajo\, 2\, El Paso\, 3
 8750\, España
GEO:28.652218;-17.881597
X-APPLE-STRUCTURED-LOCATION;VALUE=URI;X-ADDRESS=Calle El Paso de Abajo\, 2\
 , El Paso\, 38750\, España;X-APPLE-RADIUS=100;X-TITLE=Plaza Francisca Gaz
 mira:geo:28.652218,-17.881597
END:VEVENT
END:VCALENDARBEGIN:VCALENDAR
VERSION:2.0
PRODID:-//wp-events-plugin.com//7.2.3.1//EN
TZID:Europe/London
X-WR-TIMEZONE:Europe/London
BEGIN:VEVENT
UID:962@larevistadelapalma.com
DTSTART:20231231T120000Z
DTEND:20231231T225900Z
DTSTAMP:20231227T010003Z
URL:https://www.larevistadelapalma.com/events/fin-de-ano-en-el-paso/
SUMMARY:Fin de año en El Paso
DESCRIPTION:\nGran Fiesta de Fin de año en El Paso\, desde las 13:00 horas
  en la Plaza Francisca de Gazmira. \n\n\n\nCon reparto de uvas y cotilló
 n  y las actuaciones de:\n\n\n\n 	13:00 h Mamajuana's\n 	14:00 h Dj Jacob
 \n 	15:00 h Escuela de Calor\n 	16:30 h GrajaSound\n 	18:00 h Grupo Libert
 ad\n 	20:00 h Zebensui Melián\n 	21:00 h Dj Jacob\n 	23:30 h Los Tres de 
 Caña\n 	00:30 h Dj Visac\n\n
ATTACH;FMTTYPE=image/jpeg:https://www.larevistadelapalma.com/wp-content/up
 loads/2023/12/Fin-de-ano-El-Paso.jpg
CATEGORIES:Fiestas populares,Otras propuestas
LOCATION:Plaza Francisca Gazmira\, Calle El Paso de Abajo\, 2\, El Paso\, 3
 8750\, España
GEO:28.652218;-17.881597
X-APPLE-STRUCTURED-LOCATION;VALUE=URI;X-ADDRESS=Calle El Paso de Abajo\, 2\
 , El Paso\, 38750\, España;X-APPLE-RADIUS=100;X-TITLE=Plaza Francisca Gaz
 mira:geo:28.652218,-17.881597
END:VEVENT
END:VCALENDAR