BEGIN:VCALENDAR
VERSION:2.0
PRODID:-//wp-events-plugin.com//7.2.3.1//EN
TZID:Europe/London
X-WR-TIMEZONE:Europe/London
BEGIN:VEVENT
UID:958@larevistadelapalma.com
DTSTART:20231231T223000Z
DTEND:20231231T225900Z
DTSTAMP:20231226T235913Z
URL:https://www.larevistadelapalma.com/events/fin-de-ano-en-fuencaliente/
SUMMARY:Fin de año en Fuencaliente
DESCRIPTION:Una fiesta en El Patio del vino\, de Bodegas Teneguía\, en Los
  Canarios\, con uvas\, cotillón y la música de Atlantis Band\,  Zebensu
 i Melian y Son Aldea
ATTACH;FMTTYPE=image/jpeg:https://www.larevistadelapalma.com/wp-content/up
 loads/2023/12/Fin-de-ano-Fuencaliente.jpg
CATEGORIES:Fiestas populares,Otras propuestas
LOCATION:Municipio de Fuencaliente\, Fuencaliente\, Fuencaliente\, 38740\, 
 España
GEO:28.479676;-17.840616
X-APPLE-STRUCTURED-LOCATION;VALUE=URI;X-ADDRESS=Fuencaliente\, Fuencaliente
 \, 38740\, España;X-APPLE-RADIUS=100;X-TITLE=Municipio de Fuencaliente:ge
 o:28.479676,-17.840616
END:VEVENT
END:VCALENDARBEGIN:VCALENDAR
VERSION:2.0
PRODID:-//wp-events-plugin.com//7.2.3.1//EN
TZID:Europe/London
X-WR-TIMEZONE:Europe/London
BEGIN:VEVENT
UID:958@larevistadelapalma.com
DTSTART:20231231T223000Z
DTEND:20231231T225900Z
DTSTAMP:20231226T235913Z
URL:https://www.larevistadelapalma.com/events/fin-de-ano-en-fuencaliente/
SUMMARY:Fin de año en Fuencaliente
DESCRIPTION:Una fiesta en El Patio del vino\, de Bodegas Teneguía\, en Los
  Canarios\, con uvas\, cotillón y la música de Atlantis Band\,  Zebensu
 i Melian y Son Aldea
ATTACH;FMTTYPE=image/jpeg:https://www.larevistadelapalma.com/wp-content/up
 loads/2023/12/Fin-de-ano-Fuencaliente.jpg
CATEGORIES:Fiestas populares,Otras propuestas
LOCATION:Municipio de Fuencaliente\, Fuencaliente\, Fuencaliente\, 38740\, 
 España
GEO:28.479676;-17.840616
X-APPLE-STRUCTURED-LOCATION;VALUE=URI;X-ADDRESS=Fuencaliente\, Fuencaliente
 \, 38740\, España;X-APPLE-RADIUS=100;X-TITLE=Municipio de Fuencaliente:ge
 o:28.479676,-17.840616
END:VEVENT
END:VCALENDAR