BEGIN:VCALENDAR
VERSION:2.0
PRODID:-//wp-events-plugin.com//7.2.3.1//EN
TZID:Europe/London
X-WR-TIMEZONE:Europe/London
BEGIN:VEVENT
UID:966@larevistadelapalma.com
DTSTART:20231231T110000Z
DTEND:20231231T110000Z
DTSTAMP:20231228T000339Z
URL:https://www.larevistadelapalma.com/events/fin-de-ano-en-tazacorte/
SUMMARY:Fin de año en Tazacorte
DESCRIPTION:El 31 de diciembre\, a partir de las 12:00 horas\, en la Plaza 
 de San Miguel.\nActuaciones de Los 3 de Caña\, Grupo Saoco\, Silvia Reyes
  y las sesiones de Dj T3nax y Dj Visac.\nCon campanadas y cotillón.
ATTACH;FMTTYPE=image/jpeg:https://www.larevistadelapalma.com/wp-content/up
 loads/2023/12/Fin-de-ano-en-tazacorte.jpg
CATEGORIES:Fiestas populares,Otras propuestas
LOCATION:Plaza de España de Tazacorte\, plaza de España\, Tazacorte\, 387
 70\, España
GEO:28.644047;-17.933657
X-APPLE-STRUCTURED-LOCATION;VALUE=URI;X-ADDRESS=plaza de España\, Tazacort
 e\, 38770\, España;X-APPLE-RADIUS=100;X-TITLE=Plaza de España de Tazacor
 te:geo:28.644047,-17.933657
END:VEVENT
END:VCALENDARBEGIN:VCALENDAR
VERSION:2.0
PRODID:-//wp-events-plugin.com//7.2.3.1//EN
TZID:Europe/London
X-WR-TIMEZONE:Europe/London
BEGIN:VEVENT
UID:966@larevistadelapalma.com
DTSTART:20231231T110000Z
DTEND:20231231T110000Z
DTSTAMP:20231228T000339Z
URL:https://www.larevistadelapalma.com/events/fin-de-ano-en-tazacorte/
SUMMARY:Fin de año en Tazacorte
DESCRIPTION:El 31 de diciembre\, a partir de las 12:00 horas\, en la Plaza 
 de San Miguel.\nActuaciones de Los 3 de Caña\, Grupo Saoco\, Silvia Reyes
  y las sesiones de Dj T3nax y Dj Visac.\nCon campanadas y cotillón.
ATTACH;FMTTYPE=image/jpeg:https://www.larevistadelapalma.com/wp-content/up
 loads/2023/12/Fin-de-ano-en-tazacorte.jpg
CATEGORIES:Fiestas populares,Otras propuestas
LOCATION:Plaza de España de Tazacorte\, plaza de España\, Tazacorte\, 387
 70\, España
GEO:28.644047;-17.933657
X-APPLE-STRUCTURED-LOCATION;VALUE=URI;X-ADDRESS=plaza de España\, Tazacort
 e\, 38770\, España;X-APPLE-RADIUS=100;X-TITLE=Plaza de España de Tazacor
 te:geo:28.644047,-17.933657
END:VEVENT
END:VCALENDAR