BEGIN:VCALENDAR
VERSION:2.0
PRODID:-//wp-events-plugin.com//7.2.3.1//EN
TZID:Europe/London
X-WR-TIMEZONE:Europe/London
BEGIN:VEVENT
UID:4446@larevistadelapalma.com
DTSTART:20251231T221500Z
DTEND:20251231T225900Z
DTSTAMP:20251228T214100Z
URL:https://www.larevistadelapalma.com/events/fin-de-ano-fuencaliente-2025
 /
SUMMARY:Fin de año en Fuencaliente. 2025
DESCRIPTION:Con las actuaciones en directo de ​Nati Caru &amp\; Leonardo 
 Lires y ​Calle 3.
ATTACH;FMTTYPE=image/jpeg:https://www.larevistadelapalma.com/wp-content/up
 loads/2025/12/31-diciembre-fuencaliente.jpg
CATEGORIES:Festivales/Fiestas,Música
LOCATION:Centro Cultural de Los Canarios\, Fuencaliente\, C. Venezuela\, 2\
 , Fuencaliente\, 38740\, España
GEO:28.494368;-17.845832
X-APPLE-STRUCTURED-LOCATION;VALUE=URI;X-ADDRESS=C. Venezuela\, 2\, Fuencali
 ente\, 38740\, España;X-APPLE-RADIUS=100;X-TITLE=Centro Cultural de Los C
 anarios\, Fuencaliente:geo:28.494368,-17.845832
END:VEVENT
END:VCALENDARBEGIN:VCALENDAR
VERSION:2.0
PRODID:-//wp-events-plugin.com//7.2.3.1//EN
TZID:Europe/London
X-WR-TIMEZONE:Europe/London
BEGIN:VEVENT
UID:4446@larevistadelapalma.com
DTSTART:20251231T221500Z
DTEND:20251231T225900Z
DTSTAMP:20251228T214100Z
URL:https://www.larevistadelapalma.com/events/fin-de-ano-fuencaliente-2025
 /
SUMMARY:Fin de año en Fuencaliente. 2025
DESCRIPTION:Con las actuaciones en directo de ​Nati Caru &amp\; Leonardo 
 Lires y ​Calle 3.
ATTACH;FMTTYPE=image/jpeg:https://www.larevistadelapalma.com/wp-content/up
 loads/2025/12/31-diciembre-fuencaliente.jpg
CATEGORIES:Festivales/Fiestas,Música
LOCATION:Centro Cultural de Los Canarios\, Fuencaliente\, C. Venezuela\, 2\
 , Fuencaliente\, 38740\, España
GEO:28.494368;-17.845832
X-APPLE-STRUCTURED-LOCATION;VALUE=URI;X-ADDRESS=C. Venezuela\, 2\, Fuencali
 ente\, 38740\, España;X-APPLE-RADIUS=100;X-TITLE=Centro Cultural de Los C
 anarios\, Fuencaliente:geo:28.494368,-17.845832
END:VEVENT
END:VCALENDAR