BEGIN:VCALENDAR
VERSION:2.0
PRODID:-//wp-events-plugin.com//7.2.3.1//EN
TZID:Europe/London
X-WR-TIMEZONE:Europe/London
BEGIN:VEVENT
UID:4447@larevistadelapalma.com
DTSTART:20251231T160000Z
DTEND:20251231T225900Z
DTSTAMP:20251230T160804Z
URL:https://www.larevistadelapalma.com/events/fin-de-ano-los-llanos-2/
SUMMARY:Fin de año en Los Llanos de Aridane 2025
DESCRIPTION:Después de la celebración de la prueba deportiva San Silvestr
 e y del Contigo Almediodía Fin de Gallo\, Los Llanos sigue con la celebra
 ción del fin de año. En la tarde continuará la música en directo en la
  plaza de España\, con la tradicional Fiesta de Fin de Año\, que dará c
 omienzo a las 17:00 horas con Renzzo El Selector\, Grupo Saoco\, Tropicana
 ’s\, Son Sabor y los DJ’s Yadry y Aguiloche\; y se extenderá hasta la
  madrugada del 1 de enero.
ATTACH;FMTTYPE=image/jpeg:https://www.larevistadelapalma.com/wp-content/up
 loads/2025/12/31-diciembre-los-llanos.jpg
CATEGORIES:Festivales/Fiestas,Música
LOCATION:Plaza de España en Los Llanos de Aridane\, Plaza de España\, Los
  Llanos de Aridane\, 38760\, España
GEO:28.658934;-17.913174
X-APPLE-STRUCTURED-LOCATION;VALUE=URI;X-ADDRESS=Plaza de España\, Los Llan
 os de Aridane\, 38760\, España;X-APPLE-RADIUS=100;X-TITLE=Plaza de Españ
 a en Los Llanos de Aridane:geo:28.658934,-17.913174
END:VEVENT
END:VCALENDARBEGIN:VCALENDAR
VERSION:2.0
PRODID:-//wp-events-plugin.com//7.2.3.1//EN
TZID:Europe/London
X-WR-TIMEZONE:Europe/London
BEGIN:VEVENT
UID:4447@larevistadelapalma.com
DTSTART:20251231T160000Z
DTEND:20251231T225900Z
DTSTAMP:20251230T160804Z
URL:https://www.larevistadelapalma.com/events/fin-de-ano-los-llanos-2/
SUMMARY:Fin de año en Los Llanos de Aridane 2025
DESCRIPTION:Después de la celebración de la prueba deportiva San Silvestr
 e y del Contigo Almediodía Fin de Gallo\, Los Llanos sigue con la celebra
 ción del fin de año. En la tarde continuará la música en directo en la
  plaza de España\, con la tradicional Fiesta de Fin de Año\, que dará c
 omienzo a las 17:00 horas con Renzzo El Selector\, Grupo Saoco\, Tropicana
 ’s\, Son Sabor y los DJ’s Yadry y Aguiloche\; y se extenderá hasta la
  madrugada del 1 de enero.
ATTACH;FMTTYPE=image/jpeg:https://www.larevistadelapalma.com/wp-content/up
 loads/2025/12/31-diciembre-los-llanos.jpg
CATEGORIES:Festivales/Fiestas,Música
LOCATION:Plaza de España en Los Llanos de Aridane\, Plaza de España\, Los
  Llanos de Aridane\, 38760\, España
GEO:28.658934;-17.913174
X-APPLE-STRUCTURED-LOCATION;VALUE=URI;X-ADDRESS=Plaza de España\, Los Llan
 os de Aridane\, 38760\, España;X-APPLE-RADIUS=100;X-TITLE=Plaza de Españ
 a en Los Llanos de Aridane:geo:28.658934,-17.913174
END:VEVENT
END:VCALENDAR