BEGIN:VCALENDAR
VERSION:2.0
PRODID:-//wp-events-plugin.com//7.2.3.1//EN
TZID:Europe/London
X-WR-TIMEZONE:Europe/London
BEGIN:VEVENT
UID:4445@larevistadelapalma.com
DTSTART:20251231T220000Z
DTEND:20251231T225900Z
DTSTAMP:20251228T213645Z
URL:https://www.larevistadelapalma.com/events/fin-de-ano-tazacorte-2025/
SUMMARY:Fin de año en Tazacorte. 2025
DESCRIPTION:A partir de las 23:00 horas\, en la Piscina Municipal de Tazaco
 rte.
ATTACH;FMTTYPE=image/jpeg:https://www.larevistadelapalma.com/wp-content/up
 loads/2025/12/31-diciembre-tazacorte.jpg
CATEGORIES:Festivales/Fiestas,Música
LOCATION:Municipio de Tazacorte\, Villa y Puerto de Tazacorte\, Tazacorte\,
  38770\, España
GEO:28.642917;-17.936888
X-APPLE-STRUCTURED-LOCATION;VALUE=URI;X-ADDRESS=Villa y Puerto de Tazacorte
 \, Tazacorte\, 38770\, España;X-APPLE-RADIUS=100;X-TITLE=Municipio de Taz
 acorte:geo:28.642917,-17.936888
END:VEVENT
END:VCALENDARBEGIN:VCALENDAR
VERSION:2.0
PRODID:-//wp-events-plugin.com//7.2.3.1//EN
TZID:Europe/London
X-WR-TIMEZONE:Europe/London
BEGIN:VEVENT
UID:4445@larevistadelapalma.com
DTSTART:20251231T220000Z
DTEND:20251231T225900Z
DTSTAMP:20251228T213645Z
URL:https://www.larevistadelapalma.com/events/fin-de-ano-tazacorte-2025/
SUMMARY:Fin de año en Tazacorte. 2025
DESCRIPTION:A partir de las 23:00 horas\, en la Piscina Municipal de Tazaco
 rte.
ATTACH;FMTTYPE=image/jpeg:https://www.larevistadelapalma.com/wp-content/up
 loads/2025/12/31-diciembre-tazacorte.jpg
CATEGORIES:Festivales/Fiestas,Música
LOCATION:Municipio de Tazacorte\, Villa y Puerto de Tazacorte\, Tazacorte\,
  38770\, España
GEO:28.642917;-17.936888
X-APPLE-STRUCTURED-LOCATION;VALUE=URI;X-ADDRESS=Villa y Puerto de Tazacorte
 \, Tazacorte\, 38770\, España;X-APPLE-RADIUS=100;X-TITLE=Municipio de Taz
 acorte:geo:28.642917,-17.936888
END:VEVENT
END:VCALENDAR