BEGIN:VCALENDAR
VERSION:2.0
PRODID:-//wp-events-plugin.com//7.2.3.1//EN
TZID:Europe/London
X-WR-TIMEZONE:Europe/London
BEGIN:VEVENT
UID:161@larevistadelapalma.com
DTSTART:20230713T183000Z
DTEND:20230713T194500Z
DTSTAMP:20230713T125148Z
URL:https://www.larevistadelapalma.com/events/fin-de-curso-de-la-escuela-d
 e-folclore-de-santa-cruz-de-la-palma/
SUMMARY:Fin de curso de la Escuela de Folclore de Santa Cruz de La Palma
DESCRIPTION:Este jueves\, 13 de julio\, a las 19:30 horas en la plaza de Es
 paña.
ATTACH;FMTTYPE=image/jpeg:https://www.larevistadelapalma.com/wp-content/up
 loads/2023/07/fin-curso-escuela-folclore.jpg
CATEGORIES:Danza,Espectáculos
LOCATION:Plaza de España de Santa Cruz de La Palma\, Plaza de España\, Sa
 nta Cruz De La Palma\, Santa Cruz de Tenerife\, 38700\, España
GEO:28.683369;-17.76487
X-APPLE-STRUCTURED-LOCATION;VALUE=URI;X-ADDRESS=Plaza de España\, Santa Cr
 uz De La Palma\, Santa Cruz de Tenerife\, 38700\, España;X-APPLE-RADIUS=1
 00;X-TITLE=Plaza de España de Santa Cruz de La Palma:geo:28.683369,-17.76
 487
END:VEVENT
END:VCALENDARBEGIN:VCALENDAR
VERSION:2.0
PRODID:-//wp-events-plugin.com//7.2.3.1//EN
TZID:Europe/London
X-WR-TIMEZONE:Europe/London
BEGIN:VEVENT
UID:161@larevistadelapalma.com
DTSTART:20230713T183000Z
DTEND:20230713T194500Z
DTSTAMP:20230713T125148Z
URL:https://www.larevistadelapalma.com/events/fin-de-curso-de-la-escuela-d
 e-folclore-de-santa-cruz-de-la-palma/
SUMMARY:Fin de curso de la Escuela de Folclore de Santa Cruz de La Palma
DESCRIPTION:Este jueves\, 13 de julio\, a las 19:30 horas en la plaza de Es
 paña.
ATTACH;FMTTYPE=image/jpeg:https://www.larevistadelapalma.com/wp-content/up
 loads/2023/07/fin-curso-escuela-folclore.jpg
CATEGORIES:Danza,Espectáculos
LOCATION:Plaza de España de Santa Cruz de La Palma\, Plaza de España\, Sa
 nta Cruz De La Palma\, Santa Cruz de Tenerife\, 38700\, España
GEO:28.683369;-17.76487
X-APPLE-STRUCTURED-LOCATION;VALUE=URI;X-ADDRESS=Plaza de España\, Santa Cr
 uz De La Palma\, Santa Cruz de Tenerife\, 38700\, España;X-APPLE-RADIUS=1
 00;X-TITLE=Plaza de España de Santa Cruz de La Palma:geo:28.683369,-17.76
 487
END:VEVENT
END:VCALENDAR