BEGIN:VCALENDAR
VERSION:2.0
PRODID:-//wp-events-plugin.com//7.2.3.1//EN
TZID:Europe/London
X-WR-TIMEZONE:Europe/London
BEGIN:VEVENT
UID:97@larevistadelapalma.com
DTSTART:20230630T203000Z
DTEND:20230630T225900Z
DTSTAMP:20230625T185124Z
URL:https://www.larevistadelapalma.com/events/fin-fiesta-full-moon-trail-2
 3/
SUMMARY:Fin de Fiesta de la Full Moon Trail con GrajaSound y Joe's Band
DESCRIPTION:El viernes 30 fin de fiesta del evento deportivo Full Moon Trai
 l con GrajaSound y su inseparable Elvira y la Joe's Band de Tenerife\,  e
 n la Plaza de Candelaria\, tras las modalidad Kids a las 21:30h comienza t
 odo con la Joe's Band y tras ellos las Grajitas Y Elvira.
ATTACH;FMTTYPE=image/jpeg:https://www.larevistadelapalma.com/wp-content/up
 loads/2023/06/Fin-de-fiesta-Full-Moon-Trail.jpg
CATEGORIES:Festivales/Fiestas,Música
LOCATION:Plaza Candelaria en Tijarafe\, Plaza de La Candelaria \, Tijarafe\
 , 38780\, España
GEO:28.711392;-17.955151
X-APPLE-STRUCTURED-LOCATION;VALUE=URI;X-ADDRESS=Plaza de La Candelaria \, T
 ijarafe\, 38780\, España;X-APPLE-RADIUS=100;X-TITLE=Plaza Candelaria en T
 ijarafe:geo:28.711392,-17.955151
END:VEVENT
END:VCALENDARBEGIN:VCALENDAR
VERSION:2.0
PRODID:-//wp-events-plugin.com//7.2.3.1//EN
TZID:Europe/London
X-WR-TIMEZONE:Europe/London
BEGIN:VEVENT
UID:97@larevistadelapalma.com
DTSTART:20230630T203000Z
DTEND:20230630T225900Z
DTSTAMP:20230625T185124Z
URL:https://www.larevistadelapalma.com/events/fin-fiesta-full-moon-trail-2
 3/
SUMMARY:Fin de Fiesta de la Full Moon Trail con GrajaSound y Joe's Band
DESCRIPTION:El viernes 30 fin de fiesta del evento deportivo Full Moon Trai
 l con GrajaSound y su inseparable Elvira y la Joe's Band de Tenerife\,  e
 n la Plaza de Candelaria\, tras las modalidad Kids a las 21:30h comienza t
 odo con la Joe's Band y tras ellos las Grajitas Y Elvira.
ATTACH;FMTTYPE=image/jpeg:https://www.larevistadelapalma.com/wp-content/up
 loads/2023/06/Fin-de-fiesta-Full-Moon-Trail.jpg
CATEGORIES:Festivales/Fiestas,Música
LOCATION:Plaza Candelaria en Tijarafe\, Plaza de La Candelaria \, Tijarafe\
 , 38780\, España
GEO:28.711392;-17.955151
X-APPLE-STRUCTURED-LOCATION;VALUE=URI;X-ADDRESS=Plaza de La Candelaria \, T
 ijarafe\, 38780\, España;X-APPLE-RADIUS=100;X-TITLE=Plaza Candelaria en T
 ijarafe:geo:28.711392,-17.955151
END:VEVENT
END:VCALENDAR