BEGIN:VCALENDAR
VERSION:2.0
PRODID:-//wp-events-plugin.com//7.2.3.1//EN
TZID:Europe/London
X-WR-TIMEZONE:Europe/London
BEGIN:VEVENT
UID:3133@larevistadelapalma.com
DTSTART:20240714T180000Z
DTEND:20240714T213000Z
DTSTAMP:20240712T183107Z
URL:https://www.larevistadelapalma.com/events/final-de-la-eurocopa-mab/
SUMMARY:Los Llanos retransmitirá la final de la Eurocopa en la Plaza del M
 AB
DESCRIPTION:El partido se podrá ver en la fachada del Museo Arqueológico 
 Benahoarita\, en la calle Las Adelfas\, desde las 20:00 horas.\nUna hora a
 ntes contarán con la dinamización de DJ Visac.\n\nLa final de la Eurocop
 a 2024 se retransmitirá en la plaza del Museo Arqueológico Benahoarita\,
  por la Calle Las Adelfas. El Ayuntamiento de Los Llanos de Aridane habili
 tará asientos y una pantalla en la fachada para disfrutar del encuentro. 
 El partido se disputa este domingo\, 14 de julio\, a las 20:00 horas\, y u
 na hora antes comenzará la dinamización en la zona con la actuación de 
 DJ Visac.\n\nLa selección española se enfrentará a Inglaterra después 
 de hacer un torneo memorable\, superando todas las expectativas.\n\nDesde 
 el Ayuntamiento de Los Llanos de Aridane se pretende crear ambiente en las
  calles del municipio en un día tan importante para la historia del depor
 te nacional\, y de esta manera unir a la ciudadanía para alentar al equip
 o español en una fecha clave.
ATTACH;FMTTYPE=image/jpeg:https://www.larevistadelapalma.com/wp-content/up
 loads/2024/07/Final-de-la-Eurocopa-2024-Los-Llanos-1.jpg
CATEGORIES:Actividades deportivas,Otras propuestas,Varios
END:VEVENT
END:VCALENDARBEGIN:VCALENDAR
VERSION:2.0
PRODID:-//wp-events-plugin.com//7.2.3.1//EN
TZID:Europe/London
X-WR-TIMEZONE:Europe/London
BEGIN:VEVENT
UID:3133@larevistadelapalma.com
DTSTART:20240714T180000Z
DTEND:20240714T213000Z
DTSTAMP:20240712T183107Z
URL:https://www.larevistadelapalma.com/events/final-de-la-eurocopa-mab/
SUMMARY:Los Llanos retransmitirá la final de la Eurocopa en la Plaza del M
 AB
DESCRIPTION:El partido se podrá ver en la fachada del Museo Arqueológico 
 Benahoarita\, en la calle Las Adelfas\, desde las 20:00 horas.\nUna hora a
 ntes contarán con la dinamización de DJ Visac.\n\nLa final de la Eurocop
 a 2024 se retransmitirá en la plaza del Museo Arqueológico Benahoarita\,
  por la Calle Las Adelfas. El Ayuntamiento de Los Llanos de Aridane habili
 tará asientos y una pantalla en la fachada para disfrutar del encuentro. 
 El partido se disputa este domingo\, 14 de julio\, a las 20:00 horas\, y u
 na hora antes comenzará la dinamización en la zona con la actuación de 
 DJ Visac.\n\nLa selección española se enfrentará a Inglaterra después 
 de hacer un torneo memorable\, superando todas las expectativas.\n\nDesde 
 el Ayuntamiento de Los Llanos de Aridane se pretende crear ambiente en las
  calles del municipio en un día tan importante para la historia del depor
 te nacional\, y de esta manera unir a la ciudadanía para alentar al equip
 o español en una fecha clave.
ATTACH;FMTTYPE=image/jpeg:https://www.larevistadelapalma.com/wp-content/up
 loads/2024/07/Final-de-la-Eurocopa-2024-Los-Llanos-1.jpg
CATEGORIES:Actividades deportivas,Otras propuestas,Varios
END:VEVENT
END:VCALENDAR