BEGIN:VCALENDAR
VERSION:2.0
PRODID:-//wp-events-plugin.com//7.2.3.1//EN
TZID:Europe/London
X-WR-TIMEZONE:Europe/London
BEGIN:VEVENT
UID:798@larevistadelapalma.com
DTSTART:20231028T200000Z
DTEND:20231028T213000Z
DTSTAMP:20231026T164340Z
URL:https://www.larevistadelapalma.com/events/fisura-casa-de-la-cultura-de
 -tazacorte/
SUMMARY:lanire Madariaga y Begoña Grande presentan "Fisura" en Tazacorte
DESCRIPTION:¿Es posible escapar del horror de lo cotidiano?\nEscrita a par
 tir de un poema del libro de Patricia Figuero\, La fisura entra por las ma
 nos (Libero Editorial\, 2022).
ATTACH;FMTTYPE=image/jpeg:https://www.larevistadelapalma.com/wp-content/up
 loads/2023/10/Fisura.jpg
CATEGORIES:Espectáculos,Teatro
LOCATION:Casa de la cultura de Tazacorte\, C. Primero de Mayo\, 7\, Tazacor
 te\, 38770\, España
GEO:28.640111;-17.932736
X-APPLE-STRUCTURED-LOCATION;VALUE=URI;X-ADDRESS=C. Primero de Mayo\, 7\, Ta
 zacorte\, 38770\, España;X-APPLE-RADIUS=100;X-TITLE=Casa de la cultura de
  Tazacorte:geo:28.640111,-17.932736
END:VEVENT
END:VCALENDARBEGIN:VCALENDAR
VERSION:2.0
PRODID:-//wp-events-plugin.com//7.2.3.1//EN
TZID:Europe/London
X-WR-TIMEZONE:Europe/London
BEGIN:VEVENT
UID:798@larevistadelapalma.com
DTSTART:20231028T200000Z
DTEND:20231028T213000Z
DTSTAMP:20231026T164340Z
URL:https://www.larevistadelapalma.com/events/fisura-casa-de-la-cultura-de
 -tazacorte/
SUMMARY:lanire Madariaga y Begoña Grande presentan "Fisura" en Tazacorte
DESCRIPTION:¿Es posible escapar del horror de lo cotidiano?\nEscrita a par
 tir de un poema del libro de Patricia Figuero\, La fisura entra por las ma
 nos (Libero Editorial\, 2022).
ATTACH;FMTTYPE=image/jpeg:https://www.larevistadelapalma.com/wp-content/up
 loads/2023/10/Fisura.jpg
CATEGORIES:Espectáculos,Teatro
LOCATION:Casa de la cultura de Tazacorte\, C. Primero de Mayo\, 7\, Tazacor
 te\, 38770\, España
GEO:28.640111;-17.932736
X-APPLE-STRUCTURED-LOCATION;VALUE=URI;X-ADDRESS=C. Primero de Mayo\, 7\, Ta
 zacorte\, 38770\, España;X-APPLE-RADIUS=100;X-TITLE=Casa de la cultura de
  Tazacorte:geo:28.640111,-17.932736
END:VEVENT
END:VCALENDAR