BEGIN:VCALENDAR
VERSION:2.0
PRODID:-//wp-events-plugin.com//7.2.3.1//EN
TZID:Europe/London
X-WR-TIMEZONE:Europe/London
BEGIN:VEVENT
UID:3715@larevistadelapalma.com
DTSTART:20250517T110000Z
DTEND:20250517T170000Z
DTSTAMP:20250430T112611Z
URL:https://www.larevistadelapalma.com/events/fivipal-2025/
SUMMARY:FIVIPAL 2025
DESCRIPTION:\nVuelve FIVIPAL\, la XIV Feria Insular del Vino de La Palma se
  celebra el 17 de mayo\, de 12:00 a 18:00 horas\, en la Plaza de España d
 e Los Llanos de Aridane.\nUna cita imprescindible donde se fusionan los me
 jores vinos de La Palma\, la gastronomía local y un ambiente musical úni
 co.\nEn los próximos días se darán a conocer los nombres de los estable
 cimientos de restauración participantes\, y las bodegas adscritas a la DO
 P Vinos La Palma que se darán cita en esta edición.\nOrganiza: Consejo R
 egulador de Vinos de La Palma.\n\n\n\nColaboran: Ayuntamiento de Los Llano
 s de Aridane\, ACZA y ZCA. Con el apoyo del Cabildo Insular de La Palma.\n
 \n
ATTACH;FMTTYPE=image/jpeg:https://www.larevistadelapalma.com/wp-content/up
 loads/2025/04/Fivipal-25.jpg
CATEGORIES:Gastro,Otras propuestas
LOCATION:Plaza de España en Los Llanos de Aridane\, Plaza de España\, Los
  Llanos de Aridane\, 38760\, España
GEO:28.658934;-17.913174
X-APPLE-STRUCTURED-LOCATION;VALUE=URI;X-ADDRESS=Plaza de España\, Los Llan
 os de Aridane\, 38760\, España;X-APPLE-RADIUS=100;X-TITLE=Plaza de Españ
 a en Los Llanos de Aridane:geo:28.658934,-17.913174
END:VEVENT
END:VCALENDARBEGIN:VCALENDAR
VERSION:2.0
PRODID:-//wp-events-plugin.com//7.2.3.1//EN
TZID:Europe/London
X-WR-TIMEZONE:Europe/London
BEGIN:VEVENT
UID:3715@larevistadelapalma.com
DTSTART:20250517T110000Z
DTEND:20250517T170000Z
DTSTAMP:20250430T112611Z
URL:https://www.larevistadelapalma.com/events/fivipal-2025/
SUMMARY:FIVIPAL 2025
DESCRIPTION:\nVuelve FIVIPAL\, la XIV Feria Insular del Vino de La Palma se
  celebra el 17 de mayo\, de 12:00 a 18:00 horas\, en la Plaza de España d
 e Los Llanos de Aridane.\nUna cita imprescindible donde se fusionan los me
 jores vinos de La Palma\, la gastronomía local y un ambiente musical úni
 co.\nEn los próximos días se darán a conocer los nombres de los estable
 cimientos de restauración participantes\, y las bodegas adscritas a la DO
 P Vinos La Palma que se darán cita en esta edición.\nOrganiza: Consejo R
 egulador de Vinos de La Palma.\n\n\n\nColaboran: Ayuntamiento de Los Llano
 s de Aridane\, ACZA y ZCA. Con el apoyo del Cabildo Insular de La Palma.\n
 \n
ATTACH;FMTTYPE=image/jpeg:https://www.larevistadelapalma.com/wp-content/up
 loads/2025/04/Fivipal-25.jpg
CATEGORIES:Gastro,Otras propuestas
LOCATION:Plaza de España en Los Llanos de Aridane\, Plaza de España\, Los
  Llanos de Aridane\, 38760\, España
GEO:28.658934;-17.913174
X-APPLE-STRUCTURED-LOCATION;VALUE=URI;X-ADDRESS=Plaza de España\, Los Llan
 os de Aridane\, 38760\, España;X-APPLE-RADIUS=100;X-TITLE=Plaza de Españ
 a en Los Llanos de Aridane:geo:28.658934,-17.913174
END:VEVENT
END:VCALENDAR