BEGIN:VCALENDAR
VERSION:2.0
PRODID:-//wp-events-plugin.com//7.2.3.1//EN
TZID:Europe/London
X-WR-TIMEZONE:Europe/London
BEGIN:VEVENT
UID:3607@larevistadelapalma.com
DTSTART:20250221T190000Z
DTEND:20250221T211500Z
DTSTAMP:20250220T223844Z
URL:https://www.larevistadelapalma.com/events/flamenco-en-la-casa-massieu-
 de-tazacorte/
SUMMARY:Flamenco en la Casa Massieu de Tazacorte
DESCRIPTION:Con Juan de Pilar\, La Niña de La Isla\, Xavi Roca\, Elena Diz
 \, Eremiot e Ivan Sweeney.
ATTACH;FMTTYPE=image/jpeg:https://www.larevistadelapalma.com/wp-content/up
 loads/2025/02/Guitarra-flamenca.jpg
CATEGORIES:Conciertos,Música
LOCATION:Casa Masieu\, Tazacorte\, s/n\, C. Miguel de Unamuno\, Tazacorte\,
  38770\, España
GEO:28.641866;-17.936446
X-APPLE-STRUCTURED-LOCATION;VALUE=URI;X-ADDRESS=s/n\, C. Miguel de Unamuno\
 , Tazacorte\, 38770\, España;X-APPLE-RADIUS=100;X-TITLE=Casa Masieu\, Taz
 acorte:geo:28.641866,-17.936446
END:VEVENT
END:VCALENDARBEGIN:VCALENDAR
VERSION:2.0
PRODID:-//wp-events-plugin.com//7.2.3.1//EN
TZID:Europe/London
X-WR-TIMEZONE:Europe/London
BEGIN:VEVENT
UID:3607@larevistadelapalma.com
DTSTART:20250221T190000Z
DTEND:20250221T211500Z
DTSTAMP:20250220T223844Z
URL:https://www.larevistadelapalma.com/events/flamenco-en-la-casa-massieu-
 de-tazacorte/
SUMMARY:Flamenco en la Casa Massieu de Tazacorte
DESCRIPTION:Con Juan de Pilar\, La Niña de La Isla\, Xavi Roca\, Elena Diz
 \, Eremiot e Ivan Sweeney.
ATTACH;FMTTYPE=image/jpeg:https://www.larevistadelapalma.com/wp-content/up
 loads/2025/02/Guitarra-flamenca.jpg
CATEGORIES:Conciertos,Música
LOCATION:Casa Masieu\, Tazacorte\, s/n\, C. Miguel de Unamuno\, Tazacorte\,
  38770\, España
GEO:28.641866;-17.936446
X-APPLE-STRUCTURED-LOCATION;VALUE=URI;X-ADDRESS=s/n\, C. Miguel de Unamuno\
 , Tazacorte\, 38770\, España;X-APPLE-RADIUS=100;X-TITLE=Casa Masieu\, Taz
 acorte:geo:28.641866,-17.936446
END:VEVENT
END:VCALENDAR