BEGIN:VCALENDAR
VERSION:2.0
PRODID:-//wp-events-plugin.com//7.2.3.1//EN
TZID:Europe/London
X-WR-TIMEZONE:Europe/London
BEGIN:VEVENT
UID:4553@larevistadelapalma.com
DTSTART:20260306T190000Z
DTEND:20260306T203000Z
DTSTAMP:20260303T213343Z
URL:https://www.larevistadelapalma.com/events/francisco-vina-presenta-su-n
 uevo-libro-alma-de-vina/
SUMMARY:Francisco Viña presenta su nuevo libro "Alma de Viña"
DESCRIPTION:\nFrancisco Viña presenta su nuevo libro "Alma de Viña". Un r
 ecital poético en el que intervendrán invitados especiales que arropará
 n con música en directo para tejer\, nota a nota\, una atmósfera íntima
  para celebrar la palabra.\n\n\n\n
ATTACH;FMTTYPE=image/jpeg:https://www.larevistadelapalma.com/wp-content/up
 loads/2026/03/3-6-alma-de-vina.jpg
CATEGORIES:Cine y Literatura,Literatura
LOCATION:Museo del Puro Palmero\, Parque de Los Álamos\, Breña Alta\, 387
 10\, España
GEO:28.666832;-17.787186
X-APPLE-STRUCTURED-LOCATION;VALUE=URI;X-ADDRESS=Parque de Los Álamos\, Bre
 ña Alta\, 38710\, España;X-APPLE-RADIUS=100;X-TITLE=Museo del Puro Palme
 ro:geo:28.666832,-17.787186
END:VEVENT
END:VCALENDARBEGIN:VCALENDAR
VERSION:2.0
PRODID:-//wp-events-plugin.com//7.2.3.1//EN
TZID:Europe/London
X-WR-TIMEZONE:Europe/London
BEGIN:VEVENT
UID:4553@larevistadelapalma.com
DTSTART:20260306T190000Z
DTEND:20260306T203000Z
DTSTAMP:20260303T213343Z
URL:https://www.larevistadelapalma.com/events/francisco-vina-presenta-su-n
 uevo-libro-alma-de-vina/
SUMMARY:Francisco Viña presenta su nuevo libro "Alma de Viña"
DESCRIPTION:\nFrancisco Viña presenta su nuevo libro "Alma de Viña". Un r
 ecital poético en el que intervendrán invitados especiales que arropará
 n con música en directo para tejer\, nota a nota\, una atmósfera íntima
  para celebrar la palabra.\n\n\n\n
ATTACH;FMTTYPE=image/jpeg:https://www.larevistadelapalma.com/wp-content/up
 loads/2026/03/3-6-alma-de-vina.jpg
CATEGORIES:Cine y Literatura,Literatura
LOCATION:Museo del Puro Palmero\, Parque de Los Álamos\, Breña Alta\, 387
 10\, España
GEO:28.666832;-17.787186
X-APPLE-STRUCTURED-LOCATION;VALUE=URI;X-ADDRESS=Parque de Los Álamos\, Bre
 ña Alta\, 38710\, España;X-APPLE-RADIUS=100;X-TITLE=Museo del Puro Palme
 ro:geo:28.666832,-17.787186
END:VEVENT
END:VCALENDAR