BEGIN:VCALENDAR
VERSION:2.0
PRODID:-//wp-events-plugin.com//7.2.3.1//EN
TZID:Europe/London
X-WR-TIMEZONE:Europe/London
BEGIN:VEVENT
UID:3337@larevistadelapalma.com
DTSTART:20241026T110000Z
DTEND:20241026T224500Z
DTSTAMP:20241022T213243Z
URL:https://www.larevistadelapalma.com/events/fuencaliente-celebra-su-part
 icular-oktoberfest-con-la-celebracion-del-fuenca-bier/
SUMMARY:Fuencaliente celebra su particular Oktoberfest con la celebración 
 del Fuenca Bier
DESCRIPTION:Esta primera edición contará con la participación del grupo 
 folclórico bávaro ‘Die Edelweisser’.\n\nEl Ayuntamiento de Fuencalie
 nte\, a través de la Concejalía de Fiestas que dirige Patricia Hernánde
 z\, prepara la celebración de su particular Oktoberfest\, acogiendo la pr
 imera edición del Fuenca Bier Baviera Fest.\n\nLa cita se celebrará el p
 róximo sábado 26 de octubre\, en la Plaza del Ayuntamiento\, desde medio
 día hasta la media noche\, contando con la participación del grupo folcl
 órico bávaro ‘Die Edelweisser’\, el grupo musical Jareagua y la Parr
 anda Los Amigos.\n\nPatricia Hernández destaca que esta celebración\, im
 pulsada por una iniciativa vecinal\, permitirá disfrutar de una parte de 
 la cultura alemana\, reflejada en el grupo invitado\, además de poder deg
 ustar productos procedentes del país germano. \n\nPor su parte\, el alca
 lde Fuencaliente\, Gregorio Alonso\, apunta a lo importante de esta celebr
 ación\, que permite acoger y recibir a la importante comunidad alemana de
  la Isla\, además de acercar al público en general una celebración impo
 rtante vinculada al mes de octubre. 
ATTACH;FMTTYPE=image/jpeg:https://www.larevistadelapalma.com/wp-content/up
 loads/2024/10/d560128a-c0c5-40b7-b73e-4220c3bf9f35.jpg
CATEGORIES:Fiestas populares,Otras propuestas
LOCATION:Plaza del Ayuntamiento de Fuencaliente\, C. San Antonio\, Los Cana
 rios\, Fuencaliente\, 38740\, España
GEO:28.494669;-17.845068
X-APPLE-STRUCTURED-LOCATION;VALUE=URI;X-ADDRESS=C. San Antonio\, Los Canari
 os\, Fuencaliente\, 38740\, España;X-APPLE-RADIUS=100;X-TITLE=Plaza del A
 yuntamiento de Fuencaliente:geo:28.494669,-17.845068
END:VEVENT
END:VCALENDARBEGIN:VCALENDAR
VERSION:2.0
PRODID:-//wp-events-plugin.com//7.2.3.1//EN
TZID:Europe/London
X-WR-TIMEZONE:Europe/London
BEGIN:VEVENT
UID:3337@larevistadelapalma.com
DTSTART:20241026T110000Z
DTEND:20241026T224500Z
DTSTAMP:20241022T213243Z
URL:https://www.larevistadelapalma.com/events/fuencaliente-celebra-su-part
 icular-oktoberfest-con-la-celebracion-del-fuenca-bier/
SUMMARY:Fuencaliente celebra su particular Oktoberfest con la celebración 
 del Fuenca Bier
DESCRIPTION:Esta primera edición contará con la participación del grupo 
 folclórico bávaro ‘Die Edelweisser’.\n\nEl Ayuntamiento de Fuencalie
 nte\, a través de la Concejalía de Fiestas que dirige Patricia Hernánde
 z\, prepara la celebración de su particular Oktoberfest\, acogiendo la pr
 imera edición del Fuenca Bier Baviera Fest.\n\nLa cita se celebrará el p
 róximo sábado 26 de octubre\, en la Plaza del Ayuntamiento\, desde medio
 día hasta la media noche\, contando con la participación del grupo folcl
 órico bávaro ‘Die Edelweisser’\, el grupo musical Jareagua y la Parr
 anda Los Amigos.\n\nPatricia Hernández destaca que esta celebración\, im
 pulsada por una iniciativa vecinal\, permitirá disfrutar de una parte de 
 la cultura alemana\, reflejada en el grupo invitado\, además de poder deg
 ustar productos procedentes del país germano. \n\nPor su parte\, el alca
 lde Fuencaliente\, Gregorio Alonso\, apunta a lo importante de esta celebr
 ación\, que permite acoger y recibir a la importante comunidad alemana de
  la Isla\, además de acercar al público en general una celebración impo
 rtante vinculada al mes de octubre. 
ATTACH;FMTTYPE=image/jpeg:https://www.larevistadelapalma.com/wp-content/up
 loads/2024/10/d560128a-c0c5-40b7-b73e-4220c3bf9f35.jpg
CATEGORIES:Fiestas populares,Otras propuestas
LOCATION:Plaza del Ayuntamiento de Fuencaliente\, C. San Antonio\, Los Cana
 rios\, Fuencaliente\, 38740\, España
GEO:28.494669;-17.845068
X-APPLE-STRUCTURED-LOCATION;VALUE=URI;X-ADDRESS=C. San Antonio\, Los Canari
 os\, Fuencaliente\, 38740\, España;X-APPLE-RADIUS=100;X-TITLE=Plaza del A
 yuntamiento de Fuencaliente:geo:28.494669,-17.845068
END:VEVENT
END:VCALENDAR