BEGIN:VCALENDAR
VERSION:2.0
PRODID:-//wp-events-plugin.com//7.2.3.1//EN
TZID:Europe/London
X-WR-TIMEZONE:Europe/London
BEGIN:VEVENT
UID:3761@larevistadelapalma.com
DTSTART;VALUE=DATE:20250823
DTEND;VALUE=DATE:20250824
DTSTAMP:20250524T225036Z
URL:https://www.larevistadelapalma.com/events/fuencaliente-grupo-extra/
SUMMARY:Cocierto de Grupo Extra\, Fuencaliente
DESCRIPTION:\nFuencaliente anuncia que el popular Grupo Extra será uno de 
 los platos fuertes de las próximas Fiestas de la Vendimia\, que se celebr
 arán en la localidad. La actuación tendrá lugar el 23 de agosto\, prome
 tiendo una noche llena de música y baile para todos los asistentes.\nEl G
 rupo Extra\, conocido por sus éxitos en el género de la bachata y la mú
 sica latina\, hará vibrar al público con sus pegadizas canciones.\nHorar
 io por confirmar.\n\n
ATTACH;FMTTYPE=image/jpeg:https://www.larevistadelapalma.com/wp-content/up
 loads/2025/05/Grupo-extra.jpg
CATEGORIES:Conciertos,Música
LOCATION:Plaza del Ayuntamiento de Fuencaliente\, C. San Antonio\, Los Cana
 rios\, Fuencaliente\, 38740\, España
GEO:28.494669;-17.845068
X-APPLE-STRUCTURED-LOCATION;VALUE=URI;X-ADDRESS=C. San Antonio\, Los Canari
 os\, Fuencaliente\, 38740\, España;X-APPLE-RADIUS=100;X-TITLE=Plaza del A
 yuntamiento de Fuencaliente:geo:28.494669,-17.845068
END:VEVENT
END:VCALENDARBEGIN:VCALENDAR
VERSION:2.0
PRODID:-//wp-events-plugin.com//7.2.3.1//EN
TZID:Europe/London
X-WR-TIMEZONE:Europe/London
BEGIN:VEVENT
UID:3761@larevistadelapalma.com
DTSTART;VALUE=DATE:20250823
DTEND;VALUE=DATE:20250824
DTSTAMP:20250524T225036Z
URL:https://www.larevistadelapalma.com/events/fuencaliente-grupo-extra/
SUMMARY:Cocierto de Grupo Extra\, Fuencaliente
DESCRIPTION:\nFuencaliente anuncia que el popular Grupo Extra será uno de 
 los platos fuertes de las próximas Fiestas de la Vendimia\, que se celebr
 arán en la localidad. La actuación tendrá lugar el 23 de agosto\, prome
 tiendo una noche llena de música y baile para todos los asistentes.\nEl G
 rupo Extra\, conocido por sus éxitos en el género de la bachata y la mú
 sica latina\, hará vibrar al público con sus pegadizas canciones.\nHorar
 io por confirmar.\n\n
ATTACH;FMTTYPE=image/jpeg:https://www.larevistadelapalma.com/wp-content/up
 loads/2025/05/Grupo-extra.jpg
CATEGORIES:Conciertos,Música
LOCATION:Plaza del Ayuntamiento de Fuencaliente\, C. San Antonio\, Los Cana
 rios\, Fuencaliente\, 38740\, España
GEO:28.494669;-17.845068
X-APPLE-STRUCTURED-LOCATION;VALUE=URI;X-ADDRESS=C. San Antonio\, Los Canari
 os\, Fuencaliente\, 38740\, España;X-APPLE-RADIUS=100;X-TITLE=Plaza del A
 yuntamiento de Fuencaliente:geo:28.494669,-17.845068
END:VEVENT
END:VCALENDAR