BEGIN:VCALENDAR
VERSION:2.0
PRODID:-//wp-events-plugin.com//7.2.3.1//EN
TZID:Europe/London
X-WR-TIMEZONE:Europe/London
BEGIN:VEVENT
UID:3559@larevistadelapalma.com
DTSTART:20250215T160000Z
DTEND:20250215T225900Z
DTSTAMP:20250123T204557Z
URL:https://www.larevistadelapalma.com/events/full-moon-party-ocean-drive/
SUMMARY:Full Moon Love Party en el Ocean Drive
DESCRIPTION:El sábado 15 de febrero vuelven las noches del Kiosco Ocean Dr
 ive en Puerto Naos con la FULL MOON LOVE PARTY\, desde las 17:00h de la ta
 rde te acompañarán dándole ritmo a la playa Dj Zapi\, Elvira y GrajaSou
 nd. Puesta de Sol\, luna llena post San Valentín\, mojitos y buena músic
 a..
ATTACH;FMTTYPE=image/jpeg:https://www.larevistadelapalma.com/wp-content/up
 loads/2025/01/Full-Moon-party-Ocean.jpg
CATEGORIES:Festivales/Fiestas,Música
LOCATION:Playa de Puerto Naos\, Puerto Naos\, Los Llanos de Aridane \, 3876
 9\, España
GEO:28.587524;-17.910531
X-APPLE-STRUCTURED-LOCATION;VALUE=URI;X-ADDRESS=Puerto Naos\, Los Llanos de
  Aridane \, 38769\, España;X-APPLE-RADIUS=100;X-TITLE=Playa de Puerto Nao
 s:geo:28.587524,-17.910531
END:VEVENT
END:VCALENDARBEGIN:VCALENDAR
VERSION:2.0
PRODID:-//wp-events-plugin.com//7.2.3.1//EN
TZID:Europe/London
X-WR-TIMEZONE:Europe/London
BEGIN:VEVENT
UID:3559@larevistadelapalma.com
DTSTART:20250215T160000Z
DTEND:20250215T225900Z
DTSTAMP:20250123T204557Z
URL:https://www.larevistadelapalma.com/events/full-moon-party-ocean-drive/
SUMMARY:Full Moon Love Party en el Ocean Drive
DESCRIPTION:El sábado 15 de febrero vuelven las noches del Kiosco Ocean Dr
 ive en Puerto Naos con la FULL MOON LOVE PARTY\, desde las 17:00h de la ta
 rde te acompañarán dándole ritmo a la playa Dj Zapi\, Elvira y GrajaSou
 nd. Puesta de Sol\, luna llena post San Valentín\, mojitos y buena músic
 a..
ATTACH;FMTTYPE=image/jpeg:https://www.larevistadelapalma.com/wp-content/up
 loads/2025/01/Full-Moon-party-Ocean.jpg
CATEGORIES:Festivales/Fiestas,Música
LOCATION:Playa de Puerto Naos\, Puerto Naos\, Los Llanos de Aridane \, 3876
 9\, España
GEO:28.587524;-17.910531
X-APPLE-STRUCTURED-LOCATION;VALUE=URI;X-ADDRESS=Puerto Naos\, Los Llanos de
  Aridane \, 38769\, España;X-APPLE-RADIUS=100;X-TITLE=Playa de Puerto Nao
 s:geo:28.587524,-17.910531
END:VEVENT
END:VCALENDAR