BEGIN:VCALENDAR
VERSION:2.0
PRODID:-//wp-events-plugin.com//7.2.3.1//EN
TZID:Europe/London
X-WR-TIMEZONE:Europe/London
BEGIN:VEVENT
UID:4633@larevistadelapalma.com
DTSTART;VALUE=DATE:20260608
DTEND;VALUE=DATE:20260609
DTSTAMP:20260414T213852Z
URL:https://www.larevistadelapalma.com/events/fundacion-disa-y-jocan-lanza
 n-el-primer-concurso-de-orquestacion-de-canarias-para-impulsar-el-talento-
 joven/
SUMMARY:Fundación DISA y JOCAN lanzan el primer concurso de orquestación 
 de Canarias para impulsar el talento joven
DESCRIPTION:Dirigido a jóvenes menores de 30 años\, el certamen ofrece un
  premio de 5.000 euros y el estreno de hasta dos obras ganadoras con la Jo
 ven Orquesta de Canarias.\nEl Gobierno de Canarias\, a través del Institu
 to Canario de Desarrollo Cultural (ICDC)\, y la Fundación DISA se unen pa
 ra organizar el primer Concurso de Orquestación Fundación DISA–JOCAN 2
 026\, una convocatoria inédita en las islas que busca potenciar la formac
 ión y la proyección profesional de jóvenes compositores\, además de re
 forzar la colaboración entre instituciones públicas y entidades privadas
  en el ámbito cultural nacional. La iniciativa se enmarca dentro de las a
 ctividades de la Joven Orquesta de Canarias (JOCAN) y persigue consolidar 
 un espacio de creación artística que impulse el talento emergente y cont
 ribuya a la difusión del patrimonio musical.\nEl concurso propone a los p
 articipantes la orquestación de dos obras para piano del compositor fran
 cés Camille Saint-Saëns\, Vals canariote y Campanas de Las Palmas\, c
 readas durante sus estancias en Gran Canaria entre finales del siglo XIX y
  comienzos del XX. Cabe señalar que también ofreció varios conciertos y
  estrenó su Sonata de violín y piano acompañando al violinista grancana
 rio José de Avellaneda.\nLa transformación de estas piezas en versiones 
 sinfónicas forma parte del objetivo del programa: preservar y revitalizar
  el patrimonio musical canario\, ofreciendo además nuevas oportunidades i
 nterpretativas para la JOCAN\, que lleva una década impulsando la formac
 ión y práctica orquestal de jóvenes músicos de las islas. Esta formaci
 ón\, creada en 2016 por Cultura del Gobierno\, está integrada por jóven
 es de Canarias que cursan sus últimos estudios académicos o que han obte
 nido recientemente su titulación en centros situados en cualquier parte d
 el mundo. Destaca como una importante plataforma para su futura iniciació
 n profesional y promoción de su inserción laboral.\nUn premio de 5.000 e
 uros y estreno con la JOCAN                               
                                       \nEl certamen est
 ablece un premio único de 5.000 euros\, financiado por la Fundación DI
 SA\, y contempla que una o ambas obras ganadoras sean interpretadas por la
  Joven Orquesta de Canarias en concierto dentro de los dos años posteri
 ores al fallo.\nLas bases para participar en esta convocatoria se encuen
 tran disponibles en el apartado de convocatorias de la web del ICDC (www.i
 cdcultural.org)\, empresa pública que gestiona la JOCAN. Podrán presenta
 rse jóvenes residentes en Canarias y en el resto del territorio españo
 l hasta el 8 de junio de 2026.\n\n\n\n\n¿Qué se propone?\nOrquestar en 
 formato sinfónico dos obras para piano del compositor francés Camille Sa
 int-Saëns: 'Vals canariote' y 'Campanas de Las Palmas'\, creadas durante 
 sus estancias en Gran Canaria entre finales del siglo XIX y comienzos del 
 XX.\n\n¿Cuál es el premio?\n5000 € y el estreno de alguna de las obras
  por la JOCAN.\n\n¿Quiénes pueden participar?\nJóvenes de entre 18 y 30
  años\, residentes en Canarias y en el resto del territorio español\, ti
 tuladxs o estudiantes de música\, tanto de composición como de otras esp
 ecialidades.\n\n¿Hasta cuándo?\nEl plazo termina el 8 de junio.\n\n\nEn 
 cuanto a la resolución del concurso\, el ganador deberá ceder los derech
 os de reproducción\, distribución y comunicación pública de la orquest
 ación al ICDC durante cinco años\, manteniendo la autoría de la obra or
 iginal. El mismo está dirigido a jóvenes de 18 a 30 años\, españoles o
  residentes en España\, con titulación en composición o de alguna espec
 ialidad o estudios musicales en curso.\nEl acuerdo con la Fundación DISA
  se suscribe dentro de la política de esta formación de establecer acue
 rdos con instituciones públicas y privadas de ámbito autonómico o estat
 al que permitan desarrollar nuevas iniciativas dentro de las líneas que p
 ersigue el proyecto. En este sentido\, la citada Fundación colabora asidu
 amente con la JOCAN\, especialmente en la dotación de becas para adquisi
 ción de instrumentos.\nCompromisos por la cultura\nLa Fundación DISA h
 a establecido un fuerte compromiso con las artes y la cultura\, sobre todo
  con aquellas variantes de mayor arraigo de Canarias y con aquellas dirigi
 das a la juventud de las islas. La principal razón del apoyo a las discip
 linas artísticas se basa en que promueve los valores como el trabajo en e
 quipo\, el esfuerzo y el afán de superación\, con los que se siente plen
 amente identificada. Por otra parte\, el impulso de la cultura y el arte e
 s fruto del convencimiento de que son fundamentales para el desarrollo de 
 cualquier sociedad.\nTanto el ICDC como la Fundación DISA destacan que es
 te convenio refuerza una línea de trabajo basada en el apoyo a la música
 \, la formación y las oportunidades profesionales para la juventud canari
 a.\nCabe recordar que\, desde su creación\, la Joven Orquesta de Canaria
 s ha interpretado\, encargado composiciones y orquestaciones de obras de 
 contenido canario o de compositores de las islas como la ‘Obertura cana
 ria’\, de E. Coello\; ‘Tamat’\, de B. Cabrera\, con arreglos de Edua
 rdo Purriños y posteriormente orquestada por J. Durán\; ‘El Carnaval d
 e los animales canarios’\, de S. Rodríguez González y C. Rivero Santan
 a\;  ‘Fanfarria canaria’\, de J. Durán\; ‘Balcánicas’\, de Juan
  Manuel Ruiz\,  ‘Reflejos sobre A. Bruckner’\, de A. Lorente\, dentro
  de un compromiso por crear\, mantener y divulgar el patrimonio musical ca
 nario.
ATTACH;FMTTYPE=image/jpeg:https://www.larevistadelapalma.com/wp-content/up
 loads/2026/04/6-8-concurso-orquestacion.jpg
CATEGORIES:Otras propuestas,Varios
END:VEVENT
END:VCALENDARBEGIN:VCALENDAR
VERSION:2.0
PRODID:-//wp-events-plugin.com//7.2.3.1//EN
TZID:Europe/London
X-WR-TIMEZONE:Europe/London
BEGIN:VEVENT
UID:4633@larevistadelapalma.com
DTSTART;VALUE=DATE:20260608
DTEND;VALUE=DATE:20260609
DTSTAMP:20260414T213852Z
URL:https://www.larevistadelapalma.com/events/fundacion-disa-y-jocan-lanza
 n-el-primer-concurso-de-orquestacion-de-canarias-para-impulsar-el-talento-
 joven/
SUMMARY:Fundación DISA y JOCAN lanzan el primer concurso de orquestación 
 de Canarias para impulsar el talento joven
DESCRIPTION:Dirigido a jóvenes menores de 30 años\, el certamen ofrece un
  premio de 5.000 euros y el estreno de hasta dos obras ganadoras con la Jo
 ven Orquesta de Canarias.\nEl Gobierno de Canarias\, a través del Institu
 to Canario de Desarrollo Cultural (ICDC)\, y la Fundación DISA se unen pa
 ra organizar el primer Concurso de Orquestación Fundación DISA–JOCAN 2
 026\, una convocatoria inédita en las islas que busca potenciar la formac
 ión y la proyección profesional de jóvenes compositores\, además de re
 forzar la colaboración entre instituciones públicas y entidades privadas
  en el ámbito cultural nacional. La iniciativa se enmarca dentro de las a
 ctividades de la Joven Orquesta de Canarias (JOCAN) y persigue consolidar 
 un espacio de creación artística que impulse el talento emergente y cont
 ribuya a la difusión del patrimonio musical.\nEl concurso propone a los p
 articipantes la orquestación de dos obras para piano del compositor fran
 cés Camille Saint-Saëns\, Vals canariote y Campanas de Las Palmas\, c
 readas durante sus estancias en Gran Canaria entre finales del siglo XIX y
  comienzos del XX. Cabe señalar que también ofreció varios conciertos y
  estrenó su Sonata de violín y piano acompañando al violinista grancana
 rio José de Avellaneda.\nLa transformación de estas piezas en versiones 
 sinfónicas forma parte del objetivo del programa: preservar y revitalizar
  el patrimonio musical canario\, ofreciendo además nuevas oportunidades i
 nterpretativas para la JOCAN\, que lleva una década impulsando la formac
 ión y práctica orquestal de jóvenes músicos de las islas. Esta formaci
 ón\, creada en 2016 por Cultura del Gobierno\, está integrada por jóven
 es de Canarias que cursan sus últimos estudios académicos o que han obte
 nido recientemente su titulación en centros situados en cualquier parte d
 el mundo. Destaca como una importante plataforma para su futura iniciació
 n profesional y promoción de su inserción laboral.\nUn premio de 5.000 e
 uros y estreno con la JOCAN                               
                                       \nEl certamen est
 ablece un premio único de 5.000 euros\, financiado por la Fundación DI
 SA\, y contempla que una o ambas obras ganadoras sean interpretadas por la
  Joven Orquesta de Canarias en concierto dentro de los dos años posteri
 ores al fallo.\nLas bases para participar en esta convocatoria se encuen
 tran disponibles en el apartado de convocatorias de la web del ICDC (www.i
 cdcultural.org)\, empresa pública que gestiona la JOCAN. Podrán presenta
 rse jóvenes residentes en Canarias y en el resto del territorio españo
 l hasta el 8 de junio de 2026.\n\n\n\n\n¿Qué se propone?\nOrquestar en 
 formato sinfónico dos obras para piano del compositor francés Camille Sa
 int-Saëns: 'Vals canariote' y 'Campanas de Las Palmas'\, creadas durante 
 sus estancias en Gran Canaria entre finales del siglo XIX y comienzos del 
 XX.\n\n¿Cuál es el premio?\n5000 € y el estreno de alguna de las obras
  por la JOCAN.\n\n¿Quiénes pueden participar?\nJóvenes de entre 18 y 30
  años\, residentes en Canarias y en el resto del territorio español\, ti
 tuladxs o estudiantes de música\, tanto de composición como de otras esp
 ecialidades.\n\n¿Hasta cuándo?\nEl plazo termina el 8 de junio.\n\n\nEn 
 cuanto a la resolución del concurso\, el ganador deberá ceder los derech
 os de reproducción\, distribución y comunicación pública de la orquest
 ación al ICDC durante cinco años\, manteniendo la autoría de la obra or
 iginal. El mismo está dirigido a jóvenes de 18 a 30 años\, españoles o
  residentes en España\, con titulación en composición o de alguna espec
 ialidad o estudios musicales en curso.\nEl acuerdo con la Fundación DISA
  se suscribe dentro de la política de esta formación de establecer acue
 rdos con instituciones públicas y privadas de ámbito autonómico o estat
 al que permitan desarrollar nuevas iniciativas dentro de las líneas que p
 ersigue el proyecto. En este sentido\, la citada Fundación colabora asidu
 amente con la JOCAN\, especialmente en la dotación de becas para adquisi
 ción de instrumentos.\nCompromisos por la cultura\nLa Fundación DISA h
 a establecido un fuerte compromiso con las artes y la cultura\, sobre todo
  con aquellas variantes de mayor arraigo de Canarias y con aquellas dirigi
 das a la juventud de las islas. La principal razón del apoyo a las discip
 linas artísticas se basa en que promueve los valores como el trabajo en e
 quipo\, el esfuerzo y el afán de superación\, con los que se siente plen
 amente identificada. Por otra parte\, el impulso de la cultura y el arte e
 s fruto del convencimiento de que son fundamentales para el desarrollo de 
 cualquier sociedad.\nTanto el ICDC como la Fundación DISA destacan que es
 te convenio refuerza una línea de trabajo basada en el apoyo a la música
 \, la formación y las oportunidades profesionales para la juventud canari
 a.\nCabe recordar que\, desde su creación\, la Joven Orquesta de Canaria
 s ha interpretado\, encargado composiciones y orquestaciones de obras de 
 contenido canario o de compositores de las islas como la ‘Obertura cana
 ria’\, de E. Coello\; ‘Tamat’\, de B. Cabrera\, con arreglos de Edua
 rdo Purriños y posteriormente orquestada por J. Durán\; ‘El Carnaval d
 e los animales canarios’\, de S. Rodríguez González y C. Rivero Santan
 a\;  ‘Fanfarria canaria’\, de J. Durán\; ‘Balcánicas’\, de Juan
  Manuel Ruiz\,  ‘Reflejos sobre A. Bruckner’\, de A. Lorente\, dentro
  de un compromiso por crear\, mantener y divulgar el patrimonio musical ca
 nario.
ATTACH;FMTTYPE=image/jpeg:https://www.larevistadelapalma.com/wp-content/up
 loads/2026/04/6-8-concurso-orquestacion.jpg
CATEGORIES:Otras propuestas,Varios
END:VEVENT
END:VCALENDAR