BEGIN:VCALENDAR
VERSION:2.0
PRODID:-//wp-events-plugin.com//7.2.3.1//EN
TZID:Europe/London
X-WR-TIMEZONE:Europe/London
BEGIN:VEVENT
UID:3807@larevistadelapalma.com
DTSTART:20250614T190000Z
DTEND:20250614T203000Z
DTSTAMP:20250613T214023Z
URL:https://www.larevistadelapalma.com/events/gala-de-entrega-premio-insul
 ar-de-musica-domingo-gonzalez-ferrera/
SUMMARY:APLAZADO- Gala de entrega Premio Insular de Música Domingo Gonzál
 ez Ferrera
DESCRIPTION:\n\n 	El municipio de Los Llanos de Aridane ha decretado tres d
 ías de luto oficial por el fallecimiento de León Manuel Acosta Nazco\, s
 egundo alcalde de Los Llanos de Aridane tras la llegada de la democracia y
  alcalde honorario.\n\nEl galardón será entregado a José Adelto Plasenc
 ia Hernández.\nLa Asociación Cultural Tagoror 2 de Julio tiene el honor 
 de anunciar la entrega del Premio Insular de Música Domingo González Fer
 rera\, un reconocimiento al talento\, la dedicación y el compromiso con l
 a música en nuestra isla.\n\n\nUna gala especial de presentación y entre
 ga\, donde celebrarán el arte\, la pasión y el legado musical. En esta X
 II edición\, el galardón será entregado a Don José Adelto Plasencia He
 rnández\, merecedor de esta distinción por su destacada trayectoria y co
 ntribución a la creación y difusión musical.\n\nJosé Adelto Plasencia 
 Hernández nació en Los Llanos de Aridane el 12 de agosto de 1965 y es el
  actual coordinador de La Escuela de Folclore de Los Llanos de Aridane. A
 prendió guitarra de forma autodidacta y realizó sus primeras composicion
 es en su adolescencia\, y desde 2006 es monitor de la Escuela de Folklore 
 de Los Llanos de Aridane y director de diferentes agrupaciones participand
 o en programas de televisión y festivales dentro y fuera de las islas\, i
 ncluso en el extranjero.\nRecibió formación de guitarra y timple con dif
 erentes personalidades del mundo del folclore durante estos años\, y en s
 u última etapa\, de educación musical\, didáctica de la música y music
 ología\, a través del Ministerio de Educación.\nA parte de colaborar y 
 formar parte de muchísimas agrupaciones dentro y fuera de la isla\, ha c
 ompuesto más de 15 temas musicales propios para diversos grupos\, siendo 
 muchos grabados y publicados\, y siendo interpretados por solistas y agru
 paciones del panorama musical canario. Ha colaborado como músico en graba
 ciones de temas de otros compositores.\n\n\n\n\n
ATTACH;FMTTYPE=image/jpeg:https://www.larevistadelapalma.com/wp-content/up
 loads/2025/06/Gala-Premio-Domingo-Gonzalez-Ferrera.jpg
CATEGORIES:Otras propuestas,Varios
LOCATION:Casa de La Cultura de Los Llanos de Aridane\, : C. Real\, 8\, Los 
 Llanos de Aridane \, 38760\, España
GEO:28.658651;-17.913512
X-APPLE-STRUCTURED-LOCATION;VALUE=URI;X-ADDRESS=: C. Real\, 8\, Los Llanos 
 de Aridane \, 38760\, España;X-APPLE-RADIUS=100;X-TITLE=Casa de La Cultur
 a de Los Llanos de Aridane:geo:28.658651,-17.913512
END:VEVENT
END:VCALENDARBEGIN:VCALENDAR
VERSION:2.0
PRODID:-//wp-events-plugin.com//7.2.3.1//EN
TZID:Europe/London
X-WR-TIMEZONE:Europe/London
BEGIN:VEVENT
UID:3807@larevistadelapalma.com
DTSTART:20250614T190000Z
DTEND:20250614T203000Z
DTSTAMP:20250613T214023Z
URL:https://www.larevistadelapalma.com/events/gala-de-entrega-premio-insul
 ar-de-musica-domingo-gonzalez-ferrera/
SUMMARY:APLAZADO- Gala de entrega Premio Insular de Música Domingo Gonzál
 ez Ferrera
DESCRIPTION:\n\n 	El municipio de Los Llanos de Aridane ha decretado tres d
 ías de luto oficial por el fallecimiento de León Manuel Acosta Nazco\, s
 egundo alcalde de Los Llanos de Aridane tras la llegada de la democracia y
  alcalde honorario.\n\nEl galardón será entregado a José Adelto Plasenc
 ia Hernández.\nLa Asociación Cultural Tagoror 2 de Julio tiene el honor 
 de anunciar la entrega del Premio Insular de Música Domingo González Fer
 rera\, un reconocimiento al talento\, la dedicación y el compromiso con l
 a música en nuestra isla.\n\n\nUna gala especial de presentación y entre
 ga\, donde celebrarán el arte\, la pasión y el legado musical. En esta X
 II edición\, el galardón será entregado a Don José Adelto Plasencia He
 rnández\, merecedor de esta distinción por su destacada trayectoria y co
 ntribución a la creación y difusión musical.\n\nJosé Adelto Plasencia 
 Hernández nació en Los Llanos de Aridane el 12 de agosto de 1965 y es el
  actual coordinador de La Escuela de Folclore de Los Llanos de Aridane. A
 prendió guitarra de forma autodidacta y realizó sus primeras composicion
 es en su adolescencia\, y desde 2006 es monitor de la Escuela de Folklore 
 de Los Llanos de Aridane y director de diferentes agrupaciones participand
 o en programas de televisión y festivales dentro y fuera de las islas\, i
 ncluso en el extranjero.\nRecibió formación de guitarra y timple con dif
 erentes personalidades del mundo del folclore durante estos años\, y en s
 u última etapa\, de educación musical\, didáctica de la música y music
 ología\, a través del Ministerio de Educación.\nA parte de colaborar y 
 formar parte de muchísimas agrupaciones dentro y fuera de la isla\, ha c
 ompuesto más de 15 temas musicales propios para diversos grupos\, siendo 
 muchos grabados y publicados\, y siendo interpretados por solistas y agru
 paciones del panorama musical canario. Ha colaborado como músico en graba
 ciones de temas de otros compositores.\n\n\n\n\n
ATTACH;FMTTYPE=image/jpeg:https://www.larevistadelapalma.com/wp-content/up
 loads/2025/06/Gala-Premio-Domingo-Gonzalez-Ferrera.jpg
CATEGORIES:Otras propuestas,Varios
LOCATION:Casa de La Cultura de Los Llanos de Aridane\, : C. Real\, 8\, Los 
 Llanos de Aridane \, 38760\, España
GEO:28.658651;-17.913512
X-APPLE-STRUCTURED-LOCATION;VALUE=URI;X-ADDRESS=: C. Real\, 8\, Los Llanos 
 de Aridane \, 38760\, España;X-APPLE-RADIUS=100;X-TITLE=Casa de La Cultur
 a de Los Llanos de Aridane:geo:28.658651,-17.913512
END:VEVENT
END:VCALENDAR