BEGIN:VCALENDAR
VERSION:2.0
PRODID:-//wp-events-plugin.com//7.2.3.1//EN
TZID:Europe/London
X-WR-TIMEZONE:Europe/London
BEGIN:VEVENT
UID:125@larevistadelapalma.com
DTSTART:20230708T203000Z
DTEND:20230708T223000Z
DTSTAMP:20230704T233308Z
URL:https://www.larevistadelapalma.com/events/gala-transfordrag-en-san-jos
 e/
SUMMARY:Gala Transfordrag\, en San José
DESCRIPTION:Con drags y transformistas de Tenerife\, Gran Canaria y La Palm
 a.
ATTACH;FMTTYPE=image/jpeg:https://www.larevistadelapalma.com/wp-content/up
 loads/2023/07/Gala-Transfordrag-San-Jose.jpg
CATEGORIES:Espectáculos
LOCATION:Plaza de las Madres\, San José\, Breña Baja\, 38712\, España
GEO:28.642202;-17.775828
X-APPLE-STRUCTURED-LOCATION;VALUE=URI;X-ADDRESS=San José\, Breña Baja\, 3
 8712\, España;X-APPLE-RADIUS=100;X-TITLE=Plaza de las Madres:geo:28.64220
 2,-17.775828
END:VEVENT
END:VCALENDARBEGIN:VCALENDAR
VERSION:2.0
PRODID:-//wp-events-plugin.com//7.2.3.1//EN
TZID:Europe/London
X-WR-TIMEZONE:Europe/London
BEGIN:VEVENT
UID:125@larevistadelapalma.com
DTSTART:20230708T203000Z
DTEND:20230708T223000Z
DTSTAMP:20230704T233308Z
URL:https://www.larevistadelapalma.com/events/gala-transfordrag-en-san-jos
 e/
SUMMARY:Gala Transfordrag\, en San José
DESCRIPTION:Con drags y transformistas de Tenerife\, Gran Canaria y La Palm
 a.
ATTACH;FMTTYPE=image/jpeg:https://www.larevistadelapalma.com/wp-content/up
 loads/2023/07/Gala-Transfordrag-San-Jose.jpg
CATEGORIES:Espectáculos
LOCATION:Plaza de las Madres\, San José\, Breña Baja\, 38712\, España
GEO:28.642202;-17.775828
X-APPLE-STRUCTURED-LOCATION;VALUE=URI;X-ADDRESS=San José\, Breña Baja\, 3
 8712\, España;X-APPLE-RADIUS=100;X-TITLE=Plaza de las Madres:geo:28.64220
 2,-17.775828
END:VEVENT
END:VCALENDAR