BEGIN:VCALENDAR
VERSION:2.0
PRODID:-//wp-events-plugin.com//7.2.3.1//EN
TZID:Europe/London
X-WR-TIMEZONE:Europe/London
BEGIN:VEVENT
UID:3661@larevistadelapalma.com
DTSTART:20250321T183000Z
DTEND:20250321T203000Z
DTSTAMP:20250319T112406Z
URL:https://www.larevistadelapalma.com/events/galardones-el-damo-entrega/
SUMMARY:Entrega de premios de los "Galardones El Damo" en El Paso
DESCRIPTION:El Paso acoge la tercera edición de los "Galardones El Damo"\,
  un evento creado para reconocer la excelencia y compromiso en distintos 
 ámbitos de la sociedad palmera. La ceremonia de entrega de premios se cel
 ebrará en la Casa de la Cultura del municipio.\nLos premios de este 2025 
 han sido concedidos a María del Carmen Capote Martín\, vinculada al mund
 o del tabaco en el municipio\, y al artista Luis Morera.\nLa historia de "
 El damo"\nNacido en Santa Cruz de La Palma el 22 de agosto de 1665\, fue h
 ijo de Matías Rodríguez Cáceres -oficial de pedrero- y de Josefa de Jes
 ús Hernández Felipe\, o Montero\, honrados artesanos de esta población
 . El palmero pasaría a la posteridad con el sobrenombre de El Damo -mas
 culino de dama- debido a lo agradable de sus facciones y la arrogancia y g
 allardía de su figura.\nSeguir leyendo &gt\;&gt\;
ATTACH;FMTTYPE=image/jpeg:https://www.larevistadelapalma.com/wp-content/up
 loads/2025/03/Galardones-el-damo.jpg
CATEGORIES:Otras propuestas,Varios
LOCATION:Casa de la Cultura Braulio Martín Hernández de El Paso\, Av. Isl
 as Canarias\, 9\,\, El Paso\, 38750\, España
GEO:28.652923;-17.880463
X-APPLE-STRUCTURED-LOCATION;VALUE=URI;X-ADDRESS=Av. Islas Canarias\, 9\,\, 
 El Paso\, 38750\, España;X-APPLE-RADIUS=100;X-TITLE=Casa de la Cultura Br
 aulio Martín Hernández de El Paso:geo:28.652923,-17.880463
END:VEVENT
END:VCALENDARBEGIN:VCALENDAR
VERSION:2.0
PRODID:-//wp-events-plugin.com//7.2.3.1//EN
TZID:Europe/London
X-WR-TIMEZONE:Europe/London
BEGIN:VEVENT
UID:3661@larevistadelapalma.com
DTSTART:20250321T183000Z
DTEND:20250321T203000Z
DTSTAMP:20250319T112406Z
URL:https://www.larevistadelapalma.com/events/galardones-el-damo-entrega/
SUMMARY:Entrega de premios de los "Galardones El Damo" en El Paso
DESCRIPTION:El Paso acoge la tercera edición de los "Galardones El Damo"\,
  un evento creado para reconocer la excelencia y compromiso en distintos 
 ámbitos de la sociedad palmera. La ceremonia de entrega de premios se cel
 ebrará en la Casa de la Cultura del municipio.\nLos premios de este 2025 
 han sido concedidos a María del Carmen Capote Martín\, vinculada al mund
 o del tabaco en el municipio\, y al artista Luis Morera.\nLa historia de "
 El damo"\nNacido en Santa Cruz de La Palma el 22 de agosto de 1665\, fue h
 ijo de Matías Rodríguez Cáceres -oficial de pedrero- y de Josefa de Jes
 ús Hernández Felipe\, o Montero\, honrados artesanos de esta población
 . El palmero pasaría a la posteridad con el sobrenombre de El Damo -mas
 culino de dama- debido a lo agradable de sus facciones y la arrogancia y g
 allardía de su figura.\nSeguir leyendo &gt\;&gt\;
ATTACH;FMTTYPE=image/jpeg:https://www.larevistadelapalma.com/wp-content/up
 loads/2025/03/Galardones-el-damo.jpg
CATEGORIES:Otras propuestas,Varios
LOCATION:Casa de la Cultura Braulio Martín Hernández de El Paso\, Av. Isl
 as Canarias\, 9\,\, El Paso\, 38750\, España
GEO:28.652923;-17.880463
X-APPLE-STRUCTURED-LOCATION;VALUE=URI;X-ADDRESS=Av. Islas Canarias\, 9\,\, 
 El Paso\, 38750\, España;X-APPLE-RADIUS=100;X-TITLE=Casa de la Cultura Br
 aulio Martín Hernández de El Paso:geo:28.652923,-17.880463
END:VEVENT
END:VCALENDAR