BEGIN:VCALENDAR
VERSION:2.0
PRODID:-//wp-events-plugin.com//7.2.3.1//EN
TZID:Europe/London
X-WR-TIMEZONE:Europe/London
BEGIN:VEVENT
UID:820@larevistadelapalma.com
DTSTART;VALUE=DATE:20231110
DTEND;VALUE=DATE:20231112
DTSTAMP:20231106T214720Z
URL:https://www.larevistadelapalma.com/events/garafia-celebra-san-martin-c
 on-humor/
SUMMARY:Garafía celebra San Martín con humor
DESCRIPTION:\nEspectáculos de humor\, música y taller de baile.\nEn San A
 ntonio del Monte y en Santo Domingo.\n\n\n\n\n
ATTACH;FMTTYPE=image/jpeg:https://www.larevistadelapalma.com/wp-content/up
 loads/2023/11/San-Martin-con-humor-Garafia.jpg
CATEGORIES:Fiestas populares,Otras propuestas
LOCATION:Municipio Villa de Garafía\, Garafía\, Garafía\, 38787\, Españ
 a
GEO:28.822803;-17.950221
X-APPLE-STRUCTURED-LOCATION;VALUE=URI;X-ADDRESS=Garafía\, Garafía\, 38787
 \, España;X-APPLE-RADIUS=100;X-TITLE=Municipio Villa de Garafía:geo:28.8
 22803,-17.950221
END:VEVENT
END:VCALENDARBEGIN:VCALENDAR
VERSION:2.0
PRODID:-//wp-events-plugin.com//7.2.3.1//EN
TZID:Europe/London
X-WR-TIMEZONE:Europe/London
BEGIN:VEVENT
UID:820@larevistadelapalma.com
DTSTART;VALUE=DATE:20231110
DTEND;VALUE=DATE:20231112
DTSTAMP:20231106T214720Z
URL:https://www.larevistadelapalma.com/events/garafia-celebra-san-martin-c
 on-humor/
SUMMARY:Garafía celebra San Martín con humor
DESCRIPTION:\nEspectáculos de humor\, música y taller de baile.\nEn San A
 ntonio del Monte y en Santo Domingo.\n\n\n\n\n
ATTACH;FMTTYPE=image/jpeg:https://www.larevistadelapalma.com/wp-content/up
 loads/2023/11/San-Martin-con-humor-Garafia.jpg
CATEGORIES:Fiestas populares,Otras propuestas
LOCATION:Municipio Villa de Garafía\, Garafía\, Garafía\, 38787\, Españ
 a
GEO:28.822803;-17.950221
X-APPLE-STRUCTURED-LOCATION;VALUE=URI;X-ADDRESS=Garafía\, Garafía\, 38787
 \, España;X-APPLE-RADIUS=100;X-TITLE=Municipio Villa de Garafía:geo:28.8
 22803,-17.950221
END:VEVENT
END:VCALENDAR