BEGIN:VCALENDAR
VERSION:2.0
PRODID:-//wp-events-plugin.com//7.2.3.1//EN
TZID:Europe/London
X-WR-TIMEZONE:Europe/London
BEGIN:VEVENT
UID:3485@larevistadelapalma.com
DTSTART:20241213T180000Z
DTEND:20241213T193000Z
DTSTAMP:20241210T205809Z
URL:https://www.larevistadelapalma.com/events/garafia-organiza-el-desfile-
 navidad-a-la-moda/
SUMMARY:Garafía organiza el desfile "Navidad a la moda"
DESCRIPTION:Habrá una exposición y venta de prendas y complementos hechos
  a mano.
ATTACH;FMTTYPE=image/jpeg:https://www.larevistadelapalma.com/wp-content/up
 loads/2024/12/Desfile-de-Navidad-Garafia.jpg
CATEGORIES:Ferias y mercados,Otras propuestas,Varios
LOCATION:Casa de La Cultura de Santo Domingo\, Garafía\, Calle Diaz Juarez
 \, 21\,\, Garafía\, 38787\, España
GEO:28.790649;-17.917631
X-APPLE-STRUCTURED-LOCATION;VALUE=URI;X-ADDRESS=Calle Diaz Juarez\, 21\,\, 
 Garafía\, 38787\, España;X-APPLE-RADIUS=100;X-TITLE=Casa de La Cultura d
 e Santo Domingo\, Garafía:geo:28.790649,-17.917631
END:VEVENT
END:VCALENDARBEGIN:VCALENDAR
VERSION:2.0
PRODID:-//wp-events-plugin.com//7.2.3.1//EN
TZID:Europe/London
X-WR-TIMEZONE:Europe/London
BEGIN:VEVENT
UID:3485@larevistadelapalma.com
DTSTART:20241213T180000Z
DTEND:20241213T193000Z
DTSTAMP:20241210T205809Z
URL:https://www.larevistadelapalma.com/events/garafia-organiza-el-desfile-
 navidad-a-la-moda/
SUMMARY:Garafía organiza el desfile "Navidad a la moda"
DESCRIPTION:Habrá una exposición y venta de prendas y complementos hechos
  a mano.
ATTACH;FMTTYPE=image/jpeg:https://www.larevistadelapalma.com/wp-content/up
 loads/2024/12/Desfile-de-Navidad-Garafia.jpg
CATEGORIES:Ferias y mercados,Otras propuestas,Varios
LOCATION:Casa de La Cultura de Santo Domingo\, Garafía\, Calle Diaz Juarez
 \, 21\,\, Garafía\, 38787\, España
GEO:28.790649;-17.917631
X-APPLE-STRUCTURED-LOCATION;VALUE=URI;X-ADDRESS=Calle Diaz Juarez\, 21\,\, 
 Garafía\, 38787\, España;X-APPLE-RADIUS=100;X-TITLE=Casa de La Cultura d
 e Santo Domingo\, Garafía:geo:28.790649,-17.917631
END:VEVENT
END:VCALENDAR