BEGIN:VCALENDAR
VERSION:2.0
PRODID:-//wp-events-plugin.com//7.2.3.1//EN
TZID:Europe/London
X-WR-TIMEZONE:Europe/London
BEGIN:VEVENT
UID:3811@larevistadelapalma.com
DTSTART:20250614T170000Z
DTEND:20250614T223000Z
DTSTAMP:20250613T215940Z
URL:https://www.larevistadelapalma.com/events/gastro-pop-rock-tazacorte/
SUMMARY:"Gastro Pop Rock"\, Tazacorte
DESCRIPTION:Elsábado 14 de junio a partir de las 18:00 te esperan en la Av
 enida el Emigrante para disfrutar de la gastro pop rock\, con las actuacio
 nes de:\n\n 	Dj Equis\n 	Los Vándalos\n 	Soulhammer\n 	Los Coquillos\n
ATTACH;FMTTYPE=image/jpeg:https://www.larevistadelapalma.com/wp-content/up
 loads/2025/06/Gastro-pop-rock.jpg
CATEGORIES:Festivales/Fiestas,Música
LOCATION:Municipio de Tazacorte\, Villa y Puerto de Tazacorte\, Tazacorte\,
  38770\, España
GEO:28.642917;-17.936888
X-APPLE-STRUCTURED-LOCATION;VALUE=URI;X-ADDRESS=Villa y Puerto de Tazacorte
 \, Tazacorte\, 38770\, España;X-APPLE-RADIUS=100;X-TITLE=Municipio de Taz
 acorte:geo:28.642917,-17.936888
END:VEVENT
END:VCALENDARBEGIN:VCALENDAR
VERSION:2.0
PRODID:-//wp-events-plugin.com//7.2.3.1//EN
TZID:Europe/London
X-WR-TIMEZONE:Europe/London
BEGIN:VEVENT
UID:3811@larevistadelapalma.com
DTSTART:20250614T170000Z
DTEND:20250614T223000Z
DTSTAMP:20250613T215940Z
URL:https://www.larevistadelapalma.com/events/gastro-pop-rock-tazacorte/
SUMMARY:"Gastro Pop Rock"\, Tazacorte
DESCRIPTION:Elsábado 14 de junio a partir de las 18:00 te esperan en la Av
 enida el Emigrante para disfrutar de la gastro pop rock\, con las actuacio
 nes de:\n\n 	Dj Equis\n 	Los Vándalos\n 	Soulhammer\n 	Los Coquillos\n
ATTACH;FMTTYPE=image/jpeg:https://www.larevistadelapalma.com/wp-content/up
 loads/2025/06/Gastro-pop-rock.jpg
CATEGORIES:Festivales/Fiestas,Música
LOCATION:Municipio de Tazacorte\, Villa y Puerto de Tazacorte\, Tazacorte\,
  38770\, España
GEO:28.642917;-17.936888
X-APPLE-STRUCTURED-LOCATION;VALUE=URI;X-ADDRESS=Villa y Puerto de Tazacorte
 \, Tazacorte\, 38770\, España;X-APPLE-RADIUS=100;X-TITLE=Municipio de Taz
 acorte:geo:28.642917,-17.936888
END:VEVENT
END:VCALENDAR