BEGIN:VCALENDAR
VERSION:2.0
PRODID:-//wp-events-plugin.com//7.2.3.1//EN
TZID:Europe/London
X-WR-TIMEZONE:Europe/London
BEGIN:VEVENT
UID:3901@larevistadelapalma.com
DTSTART:20250816T110000Z
DTEND:20250816T210000Z
DTSTAMP:20250813T110630Z
URL:https://www.larevistadelapalma.com/events/gastronaos/
SUMMARY:Gastronaos
DESCRIPTION:En el evento se podrá disfrutar de una variada oferta gastron
 ómica con tapas\, platos tradicionales\, vinos de la isla\, cervezas arte
 sanales y otros productos locales.\n\nEl Ayuntamiento de Los Llanos de Ari
 dane\, en colaboración con la Cámara de Comercio de La Palma\, organiza 
 Gastronaos\, un evento que convertirá la avenida de Puerto Naos en un gra
 n espacio gastronómico y cultural. La cita\, de acceso gratuito\, se cele
 brará el sábado 16 de agosto\, de 12:00 a 22:00 horas.\n\nDurante Gastro
 naos\, Puerto Naos se llenará de sabor\, música y actividad durante toda
  la jornada. Los asistentes podrán disfrutar de una variada oferta gastro
 nómica con tapas\, platos tradicionales\, vinos de la isla\, cervezas art
 esanales y otros productos locales\, elaborados y servidos por establecimi
 entos del municipio y de la isla.\n\nLa programación se completa con acti
 vidades culturales y de ocio pensadas para todos los públicos\, que inclu
 yen actuaciones en directo de la Escuela de Folclore de Los Llanos de Arid
 ane\, sesiones de DJ desde el mediodía hasta la noche y varios talleres g
 astronómicos. Entre ellos\, un taller infantil y familiar con Zulay\, cat
 as dirigidas al público adulto\, una formación impartida por la Cámara 
 de Comercio y una actividad dedicada al gofio\, en colaboración con La Ca
 ña.\n\nComo incentivo adicional\, se realizarán sorteos de bonos de expe
 riencias y productos locales\, con el objetivo de seguir fomentando el con
 sumo de proximidad y dinamizar la economía del municipio.\nPORGRAMA:\n12:
 00 | Inauguración oficial\n14:00 | Taller “Elaboración artesanal de go
 fio”\n15:00 | Formación en coctelería con Vito Calculli\n17:00 | “Mi
 ni Chefs &amp\; Master Chefs” con Zulay\n18:30 | Degustación de product
 os locales\n19:15 | Actuación de la Escuela de Folclore de Los Llanos\n20
 :00 | Degustación de productos locales\n21:00 | Sorteos\n21:00 | Conciert
 o Los Stereos
ATTACH;FMTTYPE=image/jpeg:https://www.larevistadelapalma.com/wp-content/up
 loads/2025/08/WhatsApp-Image-2025-08-07-at-19.19.33.jpeg
CATEGORIES:Gastro,Otras propuestas,Varios
LOCATION:Playa de Puerto Naos\, Puerto Naos\, Los Llanos de Aridane \, 3876
 9\, España
GEO:28.587524;-17.910531
X-APPLE-STRUCTURED-LOCATION;VALUE=URI;X-ADDRESS=Puerto Naos\, Los Llanos de
  Aridane \, 38769\, España;X-APPLE-RADIUS=100;X-TITLE=Playa de Puerto Nao
 s:geo:28.587524,-17.910531
END:VEVENT
END:VCALENDARBEGIN:VCALENDAR
VERSION:2.0
PRODID:-//wp-events-plugin.com//7.2.3.1//EN
TZID:Europe/London
X-WR-TIMEZONE:Europe/London
BEGIN:VEVENT
UID:3901@larevistadelapalma.com
DTSTART:20250816T110000Z
DTEND:20250816T210000Z
DTSTAMP:20250813T110630Z
URL:https://www.larevistadelapalma.com/events/gastronaos/
SUMMARY:Gastronaos
DESCRIPTION:En el evento se podrá disfrutar de una variada oferta gastron
 ómica con tapas\, platos tradicionales\, vinos de la isla\, cervezas arte
 sanales y otros productos locales.\n\nEl Ayuntamiento de Los Llanos de Ari
 dane\, en colaboración con la Cámara de Comercio de La Palma\, organiza 
 Gastronaos\, un evento que convertirá la avenida de Puerto Naos en un gra
 n espacio gastronómico y cultural. La cita\, de acceso gratuito\, se cele
 brará el sábado 16 de agosto\, de 12:00 a 22:00 horas.\n\nDurante Gastro
 naos\, Puerto Naos se llenará de sabor\, música y actividad durante toda
  la jornada. Los asistentes podrán disfrutar de una variada oferta gastro
 nómica con tapas\, platos tradicionales\, vinos de la isla\, cervezas art
 esanales y otros productos locales\, elaborados y servidos por establecimi
 entos del municipio y de la isla.\n\nLa programación se completa con acti
 vidades culturales y de ocio pensadas para todos los públicos\, que inclu
 yen actuaciones en directo de la Escuela de Folclore de Los Llanos de Arid
 ane\, sesiones de DJ desde el mediodía hasta la noche y varios talleres g
 astronómicos. Entre ellos\, un taller infantil y familiar con Zulay\, cat
 as dirigidas al público adulto\, una formación impartida por la Cámara 
 de Comercio y una actividad dedicada al gofio\, en colaboración con La Ca
 ña.\n\nComo incentivo adicional\, se realizarán sorteos de bonos de expe
 riencias y productos locales\, con el objetivo de seguir fomentando el con
 sumo de proximidad y dinamizar la economía del municipio.\nPORGRAMA:\n12:
 00 | Inauguración oficial\n14:00 | Taller “Elaboración artesanal de go
 fio”\n15:00 | Formación en coctelería con Vito Calculli\n17:00 | “Mi
 ni Chefs &amp\; Master Chefs” con Zulay\n18:30 | Degustación de product
 os locales\n19:15 | Actuación de la Escuela de Folclore de Los Llanos\n20
 :00 | Degustación de productos locales\n21:00 | Sorteos\n21:00 | Conciert
 o Los Stereos
ATTACH;FMTTYPE=image/jpeg:https://www.larevistadelapalma.com/wp-content/up
 loads/2025/08/WhatsApp-Image-2025-08-07-at-19.19.33.jpeg
CATEGORIES:Gastro,Otras propuestas,Varios
LOCATION:Playa de Puerto Naos\, Puerto Naos\, Los Llanos de Aridane \, 3876
 9\, España
GEO:28.587524;-17.910531
X-APPLE-STRUCTURED-LOCATION;VALUE=URI;X-ADDRESS=Puerto Naos\, Los Llanos de
  Aridane \, 38769\, España;X-APPLE-RADIUS=100;X-TITLE=Playa de Puerto Nao
 s:geo:28.587524,-17.910531
END:VEVENT
END:VCALENDAR