BEGIN:VCALENDAR
VERSION:2.0
PRODID:-//wp-events-plugin.com//7.2.3.1//EN
TZID:Europe/London
X-WR-TIMEZONE:Europe/London
BEGIN:VEVENT
UID:3603@larevistadelapalma.com
DTSTART:20250704T190000Z
DTEND:20250704T225900Z
DTSTAMP:20250704T163738Z
URL:https://www.larevistadelapalma.com/events/gilberto-santa-rosa-en-la-gr
 an-noche-de-la-salsa-de-la-bajada-de-la-virgen/
SUMMARY:Gilberto Santa Rosa en la Gran Noche de la Salsa de la Bajada de la
  Virgen
DESCRIPTION:\nEl próximo 4 de julio tendrá lugar la Gran Noche de la Sals
 a en el recinto Central de Santa Cruz de La Palma. Mar Abierto Produccione
 s ha preparado uno de los eventos más importantes de la próxima Bajada 
 de la Virgen de las Nieves de La Palma 2025 con La Gran Noche de la Sals
 a en la que se podrán disfrutar los ritmos latinos de uno de los grandes
  del salsa mundial\, Gilberto Santa Rosa\, o una de las orquestas más re
 conocida de la historia como son Los Van Van de Cuba. Junto a ellos podre
 mos disfrutar de uno de los grupos más con mayor trayectoria en la isla b
 onita como son Troveros de Asieta\, y se completa el cartel de la Gran No
 che de la Salsa con  la orquesta Changó.\n\n\n\n\nEl puertorriqueño\, 
 Gilberto Santa Rosa\, apodado “El Caballero de la Salsa”\, visitará p
 or primera vez la isla de La Palma acompañado por los míticos Los Van Va
 n\, para regalarnos una noche inolvidable de pura música y sabor.\n\n\nTr
 overos de Asieta\, en una grupo palmero fundado entre la isla Bonita y Cub
 a\, considerado por la crítica especializada\, como una de las formacione
 s más importantes de la música cubana hecha en Europa\, lo que ha sido r
 atificado por los expertos cubanos que le han otorgado en 2012 el Premio I
 nternacional Cubadisco.\n\nLa Orquesta Changó nacido en 2004 como formaci
 ón de música tradicional cubana\, el grupo "Changó" ha evolucionado con
  el paso del tiempo a orquesta de Salsa\, transformación motivada princip
 almente por el deseo de sus componentes de adentrarse en este género. Par
 a ello\, hubo que hacerse con los servicios de una cuerda amplia de metale
 s y percusión\, así como de un pianista\, en sustitución del tresero cu
 bano.\nComprar entradas &gt\;&gt\;\nPara ver los conciertos de La Bajada v
 isita nuestra sección música o pincha aquí&gt\;&gt\;\n\n\n
ATTACH;FMTTYPE=image/jpeg:https://www.larevistadelapalma.com/wp-content/up
 loads/2025/02/Gilberto-Santarosa-en-la-palma.jpg
CATEGORIES:Festivales/Fiestas,Música
LOCATION:Municipio de Santa Cruz de La Palma\, Santa Cruz de La Palma \, Sa
 nta Cruz de La Palma \, 38700\, España
GEO:28.688757;-17.765102
X-APPLE-STRUCTURED-LOCATION;VALUE=URI;X-ADDRESS=Santa Cruz de La Palma \, S
 anta Cruz de La Palma \, 38700\, España;X-APPLE-RADIUS=100;X-TITLE=Munici
 pio de Santa Cruz de La Palma:geo:28.688757,-17.765102
END:VEVENT
END:VCALENDARBEGIN:VCALENDAR
VERSION:2.0
PRODID:-//wp-events-plugin.com//7.2.3.1//EN
TZID:Europe/London
X-WR-TIMEZONE:Europe/London
BEGIN:VEVENT
UID:3603@larevistadelapalma.com
DTSTART:20250704T190000Z
DTEND:20250704T225900Z
DTSTAMP:20250704T163738Z
URL:https://www.larevistadelapalma.com/events/gilberto-santa-rosa-en-la-gr
 an-noche-de-la-salsa-de-la-bajada-de-la-virgen/
SUMMARY:Gilberto Santa Rosa en la Gran Noche de la Salsa de la Bajada de la
  Virgen
DESCRIPTION:\nEl próximo 4 de julio tendrá lugar la Gran Noche de la Sals
 a en el recinto Central de Santa Cruz de La Palma. Mar Abierto Produccione
 s ha preparado uno de los eventos más importantes de la próxima Bajada 
 de la Virgen de las Nieves de La Palma 2025 con La Gran Noche de la Sals
 a en la que se podrán disfrutar los ritmos latinos de uno de los grandes
  del salsa mundial\, Gilberto Santa Rosa\, o una de las orquestas más re
 conocida de la historia como son Los Van Van de Cuba. Junto a ellos podre
 mos disfrutar de uno de los grupos más con mayor trayectoria en la isla b
 onita como son Troveros de Asieta\, y se completa el cartel de la Gran No
 che de la Salsa con  la orquesta Changó.\n\n\n\n\nEl puertorriqueño\, 
 Gilberto Santa Rosa\, apodado “El Caballero de la Salsa”\, visitará p
 or primera vez la isla de La Palma acompañado por los míticos Los Van Va
 n\, para regalarnos una noche inolvidable de pura música y sabor.\n\n\nTr
 overos de Asieta\, en una grupo palmero fundado entre la isla Bonita y Cub
 a\, considerado por la crítica especializada\, como una de las formacione
 s más importantes de la música cubana hecha en Europa\, lo que ha sido r
 atificado por los expertos cubanos que le han otorgado en 2012 el Premio I
 nternacional Cubadisco.\n\nLa Orquesta Changó nacido en 2004 como formaci
 ón de música tradicional cubana\, el grupo "Changó" ha evolucionado con
  el paso del tiempo a orquesta de Salsa\, transformación motivada princip
 almente por el deseo de sus componentes de adentrarse en este género. Par
 a ello\, hubo que hacerse con los servicios de una cuerda amplia de metale
 s y percusión\, así como de un pianista\, en sustitución del tresero cu
 bano.\nComprar entradas &gt\;&gt\;\nPara ver los conciertos de La Bajada v
 isita nuestra sección música o pincha aquí&gt\;&gt\;\n\n\n
ATTACH;FMTTYPE=image/jpeg:https://www.larevistadelapalma.com/wp-content/up
 loads/2025/02/Gilberto-Santarosa-en-la-palma.jpg
CATEGORIES:Festivales/Fiestas,Música
LOCATION:Municipio de Santa Cruz de La Palma\, Santa Cruz de La Palma \, Sa
 nta Cruz de La Palma \, 38700\, España
GEO:28.688757;-17.765102
X-APPLE-STRUCTURED-LOCATION;VALUE=URI;X-ADDRESS=Santa Cruz de La Palma \, S
 anta Cruz de La Palma \, 38700\, España;X-APPLE-RADIUS=100;X-TITLE=Munici
 pio de Santa Cruz de La Palma:geo:28.688757,-17.765102
END:VEVENT
END:VCALENDAR