BEGIN:VCALENDAR
VERSION:2.0
PRODID:-//wp-events-plugin.com//7.2.3.1//EN
TZID:Europe/London
X-WR-TIMEZONE:Europe/London
BEGIN:VEVENT
UID:4066@larevistadelapalma.com
DTSTART:20251130T110000Z
DTEND:20251130T130000Z
DTSTAMP:20251126T231441Z
URL:https://www.larevistadelapalma.com/events/gorgojito-mercadillo-de-punt
 agorda/
SUMMARY:Talleres y actuación de folclore en el Mercadillo de Puntagorda
DESCRIPTION:Las Asociaciones Abangare y Gorgojito te invitan a una jornada 
 especial en el Mercadillo de Puntagorda. \n\nComenzarán con un taller de 
 baile para todos los niveles\, y continuarán con actuación con un ambien
 te festivo y lo mejor de nuestro folclore. Una oportunidad única para apr
 ender y disfrutar de nuestras tradiciones.
ATTACH;FMTTYPE=image/jpeg:https://www.larevistadelapalma.com/wp-content/up
 loads/2025/11/Gorgojito.jpg
CATEGORIES:Fiestas populares,Otras propuestas,Varios
LOCATION:Mercadillo de Puntagorda\, Cno. el Pinar\, 56A\, Puntagorda\, 3878
 9 \, España
GEO:28.778862;-17.973843
X-APPLE-STRUCTURED-LOCATION;VALUE=URI;X-ADDRESS=Cno. el Pinar\, 56A\, Punta
 gorda\, 38789 \, España;X-APPLE-RADIUS=100;X-TITLE=Mercadillo de Puntagor
 da:geo:28.778862,-17.973843
END:VEVENT
END:VCALENDARBEGIN:VCALENDAR
VERSION:2.0
PRODID:-//wp-events-plugin.com//7.2.3.1//EN
TZID:Europe/London
X-WR-TIMEZONE:Europe/London
BEGIN:VEVENT
UID:4066@larevistadelapalma.com
DTSTART:20251130T110000Z
DTEND:20251130T130000Z
DTSTAMP:20251126T231441Z
URL:https://www.larevistadelapalma.com/events/gorgojito-mercadillo-de-punt
 agorda/
SUMMARY:Talleres y actuación de folclore en el Mercadillo de Puntagorda
DESCRIPTION:Las Asociaciones Abangare y Gorgojito te invitan a una jornada 
 especial en el Mercadillo de Puntagorda. \n\nComenzarán con un taller de 
 baile para todos los niveles\, y continuarán con actuación con un ambien
 te festivo y lo mejor de nuestro folclore. Una oportunidad única para apr
 ender y disfrutar de nuestras tradiciones.
ATTACH;FMTTYPE=image/jpeg:https://www.larevistadelapalma.com/wp-content/up
 loads/2025/11/Gorgojito.jpg
CATEGORIES:Fiestas populares,Otras propuestas,Varios
LOCATION:Mercadillo de Puntagorda\, Cno. el Pinar\, 56A\, Puntagorda\, 3878
 9 \, España
GEO:28.778862;-17.973843
X-APPLE-STRUCTURED-LOCATION;VALUE=URI;X-ADDRESS=Cno. el Pinar\, 56A\, Punta
 gorda\, 38789 \, España;X-APPLE-RADIUS=100;X-TITLE=Mercadillo de Puntagor
 da:geo:28.778862,-17.973843
END:VEVENT
END:VCALENDAR