BEGIN:VCALENDAR
VERSION:2.0
PRODID:-//wp-events-plugin.com//7.2.3.1//EN
TZID:Europe/London
X-WR-TIMEZONE:Europe/London
BEGIN:VEVENT
UID:4058@larevistadelapalma.com
DTSTART:20251127T193000Z
DTEND:20251127T210000Z
DTSTAMP:20251119T231314Z
URL:https://www.larevistadelapalma.com/events/goyo-jimenez-en-la-palma-con
 -america-forever/
SUMMARY:Goyo Jiménez en La Palma\, con "América forever"
DESCRIPTION:La recopilación definitiva de los mejores momentos de su míti
 ca trilogía “Aiguantulivinamérica”.\nDespués de conquistar Améri
 ca… sin salir de España\, y de demostrarnos que los estadounidenses y
  el resto de la población mundial convivimos en el mismo planeta solo por
  un error administrativo\, Goyo Jiménez regresa con el espectáculo que
  nadie pidió\, pero todos necesitábamos… AMÉRICA FOREVER: The Final 
 Refrito.\nPero\, atención: que\, además\, el show trae aporte vitamíni
 co. Porque Estados Unidos ha cambiado\, el mundo ha cambiado y\, aunque
  cueste creerlo por su imperecedero aspecto juvenil\, Goyo Jiménez tambi
 én ha cambiado.\nAhora\, en América\, los héroes de acción no hacen
  muescas sino hashtags en las culatas de sus pistolas\; el amor es flui
 do\, vegano y polivalente\, y los vecinos del Medio Oeste desayunan smo
 othies salteados con culpa ecológica. Mientras tanto\, en el resto del m
 undo\, seguimos haciendo lo que podemos con lo que tenemos cuando nos lo p
 ermiten… solo que con menos cobertura y más ansiedad.\nAmérica Foreve
 r es una fiesta de la risa\, un homenaje actualizado a todo lo que nos
  hizo reír y pensar\, pero con nuevos ingredientes\, nuevas reflexiones
  y el mismo inconfundible sabor MADE IN GOYO.\nComprar entradas &gt\;&gt
 \;
ATTACH;FMTTYPE=image/jpeg:https://www.larevistadelapalma.com/wp-content/up
 loads/2025/11/America-forever-goyo.jpeg
CATEGORIES:Espectáculos
LOCATION:Teatro Circo de Marte\, Calle Virgen de La Luz\, 5\, Santa Cruz de
  La Palma\, 38700\, España
GEO:28.682989;-17.765755
X-APPLE-STRUCTURED-LOCATION;VALUE=URI;X-ADDRESS=Calle Virgen de La Luz\, 5\
 , Santa Cruz de La Palma\, 38700\, España;X-APPLE-RADIUS=100;X-TITLE=Teat
 ro Circo de Marte:geo:28.682989,-17.765755
END:VEVENT
END:VCALENDARBEGIN:VCALENDAR
VERSION:2.0
PRODID:-//wp-events-plugin.com//7.2.3.1//EN
TZID:Europe/London
X-WR-TIMEZONE:Europe/London
BEGIN:VEVENT
UID:4058@larevistadelapalma.com
DTSTART:20251127T193000Z
DTEND:20251127T210000Z
DTSTAMP:20251119T231314Z
URL:https://www.larevistadelapalma.com/events/goyo-jimenez-en-la-palma-con
 -america-forever/
SUMMARY:Goyo Jiménez en La Palma\, con "América forever"
DESCRIPTION:La recopilación definitiva de los mejores momentos de su míti
 ca trilogía “Aiguantulivinamérica”.\nDespués de conquistar Améri
 ca… sin salir de España\, y de demostrarnos que los estadounidenses y
  el resto de la población mundial convivimos en el mismo planeta solo por
  un error administrativo\, Goyo Jiménez regresa con el espectáculo que
  nadie pidió\, pero todos necesitábamos… AMÉRICA FOREVER: The Final 
 Refrito.\nPero\, atención: que\, además\, el show trae aporte vitamíni
 co. Porque Estados Unidos ha cambiado\, el mundo ha cambiado y\, aunque
  cueste creerlo por su imperecedero aspecto juvenil\, Goyo Jiménez tambi
 én ha cambiado.\nAhora\, en América\, los héroes de acción no hacen
  muescas sino hashtags en las culatas de sus pistolas\; el amor es flui
 do\, vegano y polivalente\, y los vecinos del Medio Oeste desayunan smo
 othies salteados con culpa ecológica. Mientras tanto\, en el resto del m
 undo\, seguimos haciendo lo que podemos con lo que tenemos cuando nos lo p
 ermiten… solo que con menos cobertura y más ansiedad.\nAmérica Foreve
 r es una fiesta de la risa\, un homenaje actualizado a todo lo que nos
  hizo reír y pensar\, pero con nuevos ingredientes\, nuevas reflexiones
  y el mismo inconfundible sabor MADE IN GOYO.\nComprar entradas &gt\;&gt
 \;
ATTACH;FMTTYPE=image/jpeg:https://www.larevistadelapalma.com/wp-content/up
 loads/2025/11/America-forever-goyo.jpeg
CATEGORIES:Espectáculos
LOCATION:Teatro Circo de Marte\, Calle Virgen de La Luz\, 5\, Santa Cruz de
  La Palma\, 38700\, España
GEO:28.682989;-17.765755
X-APPLE-STRUCTURED-LOCATION;VALUE=URI;X-ADDRESS=Calle Virgen de La Luz\, 5\
 , Santa Cruz de La Palma\, 38700\, España;X-APPLE-RADIUS=100;X-TITLE=Teat
 ro Circo de Marte:geo:28.682989,-17.765755
END:VEVENT
END:VCALENDAR