BEGIN:VCALENDAR
VERSION:2.0
PRODID:-//wp-events-plugin.com//7.2.3.1//EN
TZID:Europe/London
X-WR-TIMEZONE:Europe/London
BEGIN:VEVENT
UID:3192@larevistadelapalma.com
DTSTART;VALUE=DATE:20240824
DTEND;VALUE=DATE:20240827
DTSTAMP:20240821T214855Z
URL:https://www.larevistadelapalma.com/events/guajira-y-punto-fest-tijaraf
 e/
SUMMARY:Guajira y Punto Fest\, Tijarafe
DESCRIPTION:Guajira y punto. 2º Muestra de la Cultura Cubana.\nTres días 
 de festival dedicado a la cultura cubana\, con actuaciones en vivo\, zona 
 gastro\, demostración de coctelería\, y presentación de documental. Ten
 drá lugar en la Plaza de La Candelaria y en la Casa de La Décima.\n Sá
 bado\, 24 de agosto\n\n\n 	 17:00h. Apertura de puestos gastronómicos co
 n degustación de comida latinoamericana.\n 	18:00h. Taller de coctelería
  y degustación a cargo de Emilio Rguez\,\, bartender de Ron Aldea.\n 	 1
 9:00h. Taller de baile y rueda cubana con Patricia Dávila.\n 	 20:00h. A
 ctuación de los grupos Son de Almizcle\, Sofiel Del Pino y su orquesta\, 
 Orillas del Son y Abakuá.\n\n Domingo\, 25 de agosto\n 19:00h. 51º FES
 TIVAL INTERNACIONAL DE PUNTO CUBANO\, con la participación de poetas palm
 eros\, canarios y cubanos.\nPlaza de Ntra. Sra. de Candelaria.\n Lunes\, 
 26 de agosto\n 19:00h. Presentación del documental: “Punto Cubano. His
 toria viva de Tijarafe”\, de Ibora Producciones.\nMás info &gt\;&gt\;
ATTACH;FMTTYPE=image/jpeg:https://www.larevistadelapalma.com/wp-content/up
 loads/2024/08/GUAJIRA-Y-PUNTO-FEST.jpg
CATEGORIES:Festivales/Fiestas,Gastro,Música,Otras propuestas,Varios
LOCATION:Municipio de Tijarafe\, Municipio de Tijarafe\, Tijarafe\, 38780\,
  España
GEO:28.711091;-17.956181
X-APPLE-STRUCTURED-LOCATION;VALUE=URI;X-ADDRESS=Municipio de Tijarafe\, Tij
 arafe\, 38780\, España;X-APPLE-RADIUS=100;X-TITLE=Municipio de Tijarafe:g
 eo:28.711091,-17.956181
END:VEVENT
END:VCALENDARBEGIN:VCALENDAR
VERSION:2.0
PRODID:-//wp-events-plugin.com//7.2.3.1//EN
TZID:Europe/London
X-WR-TIMEZONE:Europe/London
BEGIN:VEVENT
UID:3192@larevistadelapalma.com
DTSTART;VALUE=DATE:20240824
DTEND;VALUE=DATE:20240827
DTSTAMP:20240821T214855Z
URL:https://www.larevistadelapalma.com/events/guajira-y-punto-fest-tijaraf
 e/
SUMMARY:Guajira y Punto Fest\, Tijarafe
DESCRIPTION:Guajira y punto. 2º Muestra de la Cultura Cubana.\nTres días 
 de festival dedicado a la cultura cubana\, con actuaciones en vivo\, zona 
 gastro\, demostración de coctelería\, y presentación de documental. Ten
 drá lugar en la Plaza de La Candelaria y en la Casa de La Décima.\n Sá
 bado\, 24 de agosto\n\n\n 	 17:00h. Apertura de puestos gastronómicos co
 n degustación de comida latinoamericana.\n 	18:00h. Taller de coctelería
  y degustación a cargo de Emilio Rguez\,\, bartender de Ron Aldea.\n 	 1
 9:00h. Taller de baile y rueda cubana con Patricia Dávila.\n 	 20:00h. A
 ctuación de los grupos Son de Almizcle\, Sofiel Del Pino y su orquesta\, 
 Orillas del Son y Abakuá.\n\n Domingo\, 25 de agosto\n 19:00h. 51º FES
 TIVAL INTERNACIONAL DE PUNTO CUBANO\, con la participación de poetas palm
 eros\, canarios y cubanos.\nPlaza de Ntra. Sra. de Candelaria.\n Lunes\, 
 26 de agosto\n 19:00h. Presentación del documental: “Punto Cubano. His
 toria viva de Tijarafe”\, de Ibora Producciones.\nMás info &gt\;&gt\;
ATTACH;FMTTYPE=image/jpeg:https://www.larevistadelapalma.com/wp-content/up
 loads/2024/08/GUAJIRA-Y-PUNTO-FEST.jpg
CATEGORIES:Festivales/Fiestas,Gastro,Música,Otras propuestas,Varios
LOCATION:Municipio de Tijarafe\, Municipio de Tijarafe\, Tijarafe\, 38780\,
  España
GEO:28.711091;-17.956181
X-APPLE-STRUCTURED-LOCATION;VALUE=URI;X-ADDRESS=Municipio de Tijarafe\, Tij
 arafe\, 38780\, España;X-APPLE-RADIUS=100;X-TITLE=Municipio de Tijarafe:g
 eo:28.711091,-17.956181
END:VEVENT
END:VCALENDAR