BEGIN:VCALENDAR
VERSION:2.0
PRODID:-//wp-events-plugin.com//7.2.3.1//EN
TZID:Europe/London
X-WR-TIMEZONE:Europe/London
BEGIN:VEVENT
UID:2990@larevistadelapalma.com
DTSTART:20240524T193000Z
DTEND:20240524T210000Z
DTSTAMP:20240516T001928Z
URL:https://www.larevistadelapalma.com/events/hablemos-de-fausto-de-la-gra
 ncanaria-noemi-perez-en-el-teatro-circo-de-marte/
SUMMARY:"Hablemos de Fausto"\, de la grancanaria Noemí Pérez\, en el Teat
 ro Circo de Marte
DESCRIPTION:‘Hablemos de Fausto’ es una obra teatral de la actriz\, bai
 larina y dramaturga grancanaria Noemí Pérez.\nHablemos de Fausto\, pieza
  teatral que toma como punto de partida la leyenda medieval del hombre que
  vendió su alma al diablo para explorar el ansia desmesurada del ego del 
 hombre moderno y las relaciones entre deseo\, saber y poder.\n\nSobre el e
 scenario\, un hombre de avanzada edad que habita un acomodado espacio\, su
  isla privada\, desde donde observa el mundo\, allí se relacionará con s
 u propia sombra\, él mismo\, ‘el espíritu que todo lo niega'\, así se
  presenta Mefistófeles en el Fausto de Goethe\, aquí es el lado oscuro\,
  la sombra de nuestro protagonista.\n\nEl objetivo de la autora\, Noemí P
 érez\, es poner sobre el escenario aspectos de la experiencia humana que 
 es común para todos\, desde los anhelos hasta los temores más profundos\
 n\nEn la parte musical\, ‘Hablemos de Fausto’ aborda un repertorio ma
 yoritariamente barroco\, interpretando en directo piezas que van desde Han
 del hasta el barroco francés.\nTexto y dirección: Noemi Pérez. \nElenc
 o: Mingo Ruano\, Pedro Díaz\, Patricia Robaina\, Beatriz Nuez\, Carol Sos
 a\, Pia Selders y Santiago Mirabal.\nComprar entradas &gt\;&gt\;
ATTACH;FMTTYPE=image/jpeg:https://www.larevistadelapalma.com/wp-content/up
 loads/2024/05/Hablemos-de-Fausto.jpg
CATEGORIES:Espectáculos,Teatro
LOCATION:Teatro Circo de Marte\, Calle Virgen de La Luz\, 5\, Santa Cruz de
  La Palma\, 38700\, España
GEO:28.682989;-17.765755
X-APPLE-STRUCTURED-LOCATION;VALUE=URI;X-ADDRESS=Calle Virgen de La Luz\, 5\
 , Santa Cruz de La Palma\, 38700\, España;X-APPLE-RADIUS=100;X-TITLE=Teat
 ro Circo de Marte:geo:28.682989,-17.765755
END:VEVENT
END:VCALENDARBEGIN:VCALENDAR
VERSION:2.0
PRODID:-//wp-events-plugin.com//7.2.3.1//EN
TZID:Europe/London
X-WR-TIMEZONE:Europe/London
BEGIN:VEVENT
UID:2990@larevistadelapalma.com
DTSTART:20240524T193000Z
DTEND:20240524T210000Z
DTSTAMP:20240516T001928Z
URL:https://www.larevistadelapalma.com/events/hablemos-de-fausto-de-la-gra
 ncanaria-noemi-perez-en-el-teatro-circo-de-marte/
SUMMARY:"Hablemos de Fausto"\, de la grancanaria Noemí Pérez\, en el Teat
 ro Circo de Marte
DESCRIPTION:‘Hablemos de Fausto’ es una obra teatral de la actriz\, bai
 larina y dramaturga grancanaria Noemí Pérez.\nHablemos de Fausto\, pieza
  teatral que toma como punto de partida la leyenda medieval del hombre que
  vendió su alma al diablo para explorar el ansia desmesurada del ego del 
 hombre moderno y las relaciones entre deseo\, saber y poder.\n\nSobre el e
 scenario\, un hombre de avanzada edad que habita un acomodado espacio\, su
  isla privada\, desde donde observa el mundo\, allí se relacionará con s
 u propia sombra\, él mismo\, ‘el espíritu que todo lo niega'\, así se
  presenta Mefistófeles en el Fausto de Goethe\, aquí es el lado oscuro\,
  la sombra de nuestro protagonista.\n\nEl objetivo de la autora\, Noemí P
 érez\, es poner sobre el escenario aspectos de la experiencia humana que 
 es común para todos\, desde los anhelos hasta los temores más profundos\
 n\nEn la parte musical\, ‘Hablemos de Fausto’ aborda un repertorio ma
 yoritariamente barroco\, interpretando en directo piezas que van desde Han
 del hasta el barroco francés.\nTexto y dirección: Noemi Pérez. \nElenc
 o: Mingo Ruano\, Pedro Díaz\, Patricia Robaina\, Beatriz Nuez\, Carol Sos
 a\, Pia Selders y Santiago Mirabal.\nComprar entradas &gt\;&gt\;
ATTACH;FMTTYPE=image/jpeg:https://www.larevistadelapalma.com/wp-content/up
 loads/2024/05/Hablemos-de-Fausto.jpg
CATEGORIES:Espectáculos,Teatro
LOCATION:Teatro Circo de Marte\, Calle Virgen de La Luz\, 5\, Santa Cruz de
  La Palma\, 38700\, España
GEO:28.682989;-17.765755
X-APPLE-STRUCTURED-LOCATION;VALUE=URI;X-ADDRESS=Calle Virgen de La Luz\, 5\
 , Santa Cruz de La Palma\, 38700\, España;X-APPLE-RADIUS=100;X-TITLE=Teat
 ro Circo de Marte:geo:28.682989,-17.765755
END:VEVENT
END:VCALENDAR